BEGIN:VCALENDAR
VERSION:2.0
PRODID:-//Manchester Proud - ECPv6.15.17.1//NONSGML v1.0//EN
CALSCALE:GREGORIAN
METHOD:PUBLISH
X-WR-CALNAME:Manchester Proud
X-ORIGINAL-URL:https://manchesterproud.org
X-WR-CALDESC:Events for Manchester Proud
REFRESH-INTERVAL;VALUE=DURATION:PT1H
X-Robots-Tag:noindex
X-PUBLISHED-TTL:PT1H
BEGIN:VTIMEZONE
TZID:America/New_York
BEGIN:DAYLIGHT
TZOFFSETFROM:-0500
TZOFFSETTO:-0400
TZNAME:EDT
DTSTART:20230312T070000
END:DAYLIGHT
BEGIN:STANDARD
TZOFFSETFROM:-0400
TZOFFSETTO:-0500
TZNAME:EST
DTSTART:20231105T060000
END:STANDARD
BEGIN:DAYLIGHT
TZOFFSETFROM:-0500
TZOFFSETTO:-0400
TZNAME:EDT
DTSTART:20240310T070000
END:DAYLIGHT
BEGIN:STANDARD
TZOFFSETFROM:-0400
TZOFFSETTO:-0500
TZNAME:EST
DTSTART:20241103T060000
END:STANDARD
BEGIN:DAYLIGHT
TZOFFSETFROM:-0500
TZOFFSETTO:-0400
TZNAME:EDT
DTSTART:20250309T070000
END:DAYLIGHT
BEGIN:STANDARD
TZOFFSETFROM:-0400
TZOFFSETTO:-0500
TZNAME:EST
DTSTART:20251102T060000
END:STANDARD
BEGIN:DAYLIGHT
TZOFFSETFROM:-0500
TZOFFSETTO:-0400
TZNAME:EDT
DTSTART:20260308T070000
END:DAYLIGHT
BEGIN:STANDARD
TZOFFSETFROM:-0400
TZOFFSETTO:-0500
TZNAME:EST
DTSTART:20261101T060000
END:STANDARD
END:VTIMEZONE
BEGIN:VEVENT
DTSTART;TZID=America/New_York:20250109T110000
DTEND;TZID=America/New_York:20250109T120000
DTSTAMP:20260423T185208
CREATED:20250108T174113Z
LAST-MODIFIED:20250108T174113Z
UID:10000822-1736420400-1736424000@manchesterproud.org
SUMMARY:Family Storytime
DESCRIPTION:Family Storytimes for 2-5 years old will meet Thurdays mornings at 10:00 & 11:00 am. These are drop in sessions.  Please attend only one session each week which so everyone can attend this very popular program.  For more information contact the Children’s Room at 603-624-6550 ext 7628
URL:https://manchesterproud.org/the-event/family-storytime-4/
LOCATION:Manchester City Library\, 405 Pine Street\, Manchester\, 03104\, United States
CATEGORIES:Expanded Learning Time
ATTACH;FMTTYPE=image/jpeg:https://manchesterproud.org/wp-content/uploads/2024/03/blog-Default-ImageV2.jpg
END:VEVENT
BEGIN:VEVENT
DTSTART;TZID=America/New_York:20250109T100000
DTEND;TZID=America/New_York:20250109T110000
DTSTAMP:20260423T185208
CREATED:20250108T173955Z
LAST-MODIFIED:20250108T173955Z
UID:10000821-1736416800-1736420400@manchesterproud.org
SUMMARY:Family Storytime
DESCRIPTION:Family Storytimes for 2-5 years old will meet Thurdays mornings at 10:00 & 11:00 am. These are drop in sessions.  Please attend only one session each week which so everyone can attend this very popular program.  For more information contact the Children’s Room at 603-624-6550 ext 7628
URL:https://manchesterproud.org/the-event/family-storytime-3/
LOCATION:Manchester City Library\, 405 Pine Street\, Manchester\, 03104\, United States
CATEGORIES:Expanded Learning Time
ATTACH;FMTTYPE=image/jpeg:https://manchesterproud.org/wp-content/uploads/2024/03/blog-Default-ImageV2.jpg
END:VEVENT
BEGIN:VEVENT
DTSTART;TZID=America/New_York:20250108T170000
DTEND;TZID=America/New_York:20250108T183000
DTSTAMP:20260423T185208
CREATED:20241209T172656Z
LAST-MODIFIED:20241209T172656Z
UID:10000779-1736355600-1736361000@manchesterproud.org
SUMMARY:Positive Discipline Parenting Class
DESCRIPTION:Waypoint is hosting a seven week virtual class starting on January 8\, 2025 on Zoom. \nTo register\, contact Carolyn: georgec@waypointnhorg or 603.716.4115 \nPositive Discipline: \n\nHelps children feel a sense of belonging and significance\nIs effective long-term\nTeaches valuable social and life skills for good character\nInvites children to discover how capable they are and to use their personal power in constructive ways
URL:https://manchesterproud.org/the-event/positive-discipline-parenting-class/
LOCATION:Virtual
CATEGORIES:Health and Wellness
ATTACH;FMTTYPE=image/jpeg:https://manchesterproud.org/wp-content/uploads/2024/03/blog-Default-ImageV2.jpg
END:VEVENT
BEGIN:VEVENT
DTSTART;TZID=America/New_York:20250108T170000
DTEND;TZID=America/New_York:20250108T180000
DTSTAMP:20260423T185208
CREATED:20241209T170505Z
LAST-MODIFIED:20241209T170505Z
UID:10000773-1736355600-1736359200@manchesterproud.org
SUMMARY:Cooking Matters Core Workshops - Making Recipes Work for You
DESCRIPTION:Offered by Cooking Matters NH\, a program of the NH Food Bank\, in partnership with Waypoint NH \nWant to learn about… \n\nhealthy eating\ncooking skills\nfood budgeting\nmeal planning\nnutrition\nand more?\n\nJoin us for a FREE\, virtual workshop series! \nVirtually on Zoom\, Register here
URL:https://manchesterproud.org/the-event/cooking-matters-core-workshops-making-recipes-work-for-you/
CATEGORIES:Basic Needs,Health and Wellness
ATTACH;FMTTYPE=image/jpeg:https://manchesterproud.org/wp-content/uploads/2024/03/blog-Default-ImageV2.jpg
END:VEVENT
BEGIN:VEVENT
DTSTART;TZID=America/New_York:20250106T090000
DTEND;TZID=America/New_York:20250124T150000
DTSTAMP:20260423T185208
CREATED:20240910T170723Z
LAST-MODIFIED:20240910T170723Z
UID:10000721-1736154000-1737730800@manchesterproud.org
SUMMARY:Dental Van at Beech St School
DESCRIPTION:If your child does not have a dentist OR private dental insurance (we accept Medicaid) and you would like them to be seen for dental care on the dental van at your school\, please ask for a permission form from the main office. You can also visit our website for permission forms and a full schedule of school visits. \n**We will be providing treatment at ALL public schools in Manchester throughout the school year. We ask that you plan on your child receiving care at their school. In the case of a dental emergency please call 603-624-6466 to make other arrangements. \nhttps://www.manchesternh.gov/Departments/Health/Services/Dental-Health
URL:https://manchesterproud.org/the-event/dental-van-at-beech-st-school/
LOCATION:Beech Street School\, 333 Beech Street\, Manchester\, 03103\, United States
CATEGORIES:Health and Wellness
ATTACH;FMTTYPE=image/jpeg:https://manchesterproud.org/wp-content/uploads/2024/03/blog-Default-ImageV2.jpg
END:VEVENT
BEGIN:VEVENT
DTSTART;TZID=America/New_York:20250104T140000
DTEND;TZID=America/New_York:20250104T160000
DTSTAMP:20260423T185208
CREATED:20241223T151334Z
LAST-MODIFIED:20241223T151334Z
UID:10000790-1735999200-1736006400@manchesterproud.org
SUMMARY:Holiday Public Skate
DESCRIPTION:$5 Entry & $5 Skate Rental
URL:https://manchesterproud.org/the-event/holiday-public-skate/2025-01-04/
LOCATION:JFK Coliseum\, 303 Beech St\, Manchester\, 03103\, United States
ATTACH;FMTTYPE=image/jpeg:https://manchesterproud.org/wp-content/uploads/2024/03/blog-Default-ImageV2.jpg
END:VEVENT
BEGIN:VEVENT
DTSTART;TZID=America/New_York:20250102T093000
DTEND;TZID=America/New_York:20250102T233000
DTSTAMP:20260423T185208
CREATED:20241223T151334Z
LAST-MODIFIED:20241223T151334Z
UID:10000789-1735810200-1735860600@manchesterproud.org
SUMMARY:Holiday Public Skate
DESCRIPTION:$5 Entry & $5 Skate Rental
URL:https://manchesterproud.org/the-event/holiday-public-skate/2025-01-02/
LOCATION:JFK Coliseum\, 303 Beech St\, Manchester\, 03103\, United States
ATTACH;FMTTYPE=image/jpeg:https://manchesterproud.org/wp-content/uploads/2024/03/blog-Default-ImageV2.jpg
END:VEVENT
BEGIN:VEVENT
DTSTART;TZID=America/New_York:20241231T093000
DTEND;TZID=America/New_York:20241231T233000
DTSTAMP:20260423T185208
CREATED:20241223T151334Z
LAST-MODIFIED:20241223T151334Z
UID:10000788-1735637400-1735687800@manchesterproud.org
SUMMARY:Holiday Public Skate
DESCRIPTION:$5 Entry & $5 Skate Rental
URL:https://manchesterproud.org/the-event/holiday-public-skate/2024-12-31/
LOCATION:JFK Coliseum\, 303 Beech St\, Manchester\, 03103\, United States
ATTACH;FMTTYPE=image/jpeg:https://manchesterproud.org/wp-content/uploads/2024/03/blog-Default-ImageV2.jpg
END:VEVENT
BEGIN:VEVENT
DTSTART;TZID=America/New_York:20241230T093000
DTEND;TZID=America/New_York:20241230T233000
DTSTAMP:20260423T185208
CREATED:20241223T151334Z
LAST-MODIFIED:20241223T151334Z
UID:10000787-1735551000-1735601400@manchesterproud.org
SUMMARY:Holiday Public Skate
DESCRIPTION:$5 Entry & $5 Skate Rental
URL:https://manchesterproud.org/the-event/holiday-public-skate/2024-12-30/
LOCATION:JFK Coliseum\, 303 Beech St\, Manchester\, 03103\, United States
ATTACH;FMTTYPE=image/jpeg:https://manchesterproud.org/wp-content/uploads/2024/03/blog-Default-ImageV2.jpg
END:VEVENT
BEGIN:VEVENT
DTSTART;TZID=America/New_York:20241229T140000
DTEND;TZID=America/New_York:20241229T160000
DTSTAMP:20260423T185208
CREATED:20241223T151334Z
LAST-MODIFIED:20241223T151334Z
UID:10000786-1735480800-1735488000@manchesterproud.org
SUMMARY:Holiday Public Skate
DESCRIPTION:$5 Entry & $5 Skate Rental
URL:https://manchesterproud.org/the-event/holiday-public-skate/2024-12-29/
LOCATION:JFK Coliseum\, 303 Beech St\, Manchester\, 03103\, United States
ATTACH;FMTTYPE=image/jpeg:https://manchesterproud.org/wp-content/uploads/2024/03/blog-Default-ImageV2.jpg
END:VEVENT
BEGIN:VEVENT
DTSTART;TZID=America/New_York:20241227T130000
DTEND;TZID=America/New_York:20241227T150000
DTSTAMP:20260423T185208
CREATED:20241125T161639Z
LAST-MODIFIED:20241125T161639Z
UID:10000768-1735304400-1735311600@manchesterproud.org
SUMMARY:Lego Afternoon
DESCRIPTION:On Friday\, December 27th\, from 1:00 pm to 3:00 pm\, you can drop by the Winchell Room and build a Lego creation with our 10\,000 pieces of Legos.  All creations will be on display in the children’s room for everyone to enjoy.  This program is for ages 3-12 years old.  For more information\, please call 624-6550 ext. 7628.
URL:https://manchesterproud.org/the-event/lego-afternoon-2/
LOCATION:Manchester City Library\, 405 Pine Street\, Manchester\, 03104\, United States
CATEGORIES:Early Childhood,Expanded Learning Time
ATTACH;FMTTYPE=image/jpeg:https://manchesterproud.org/wp-content/uploads/2024/03/blog-Default-ImageV2.jpg
END:VEVENT
BEGIN:VEVENT
DTSTART;TZID=America/New_York:20241227T093000
DTEND;TZID=America/New_York:20241227T233000
DTSTAMP:20260423T185208
CREATED:20241223T151334Z
LAST-MODIFIED:20241223T151334Z
UID:10000785-1735291800-1735342200@manchesterproud.org
SUMMARY:Holiday Public Skate
DESCRIPTION:$5 Entry & $5 Skate Rental
URL:https://manchesterproud.org/the-event/holiday-public-skate/2024-12-27/
LOCATION:JFK Coliseum\, 303 Beech St\, Manchester\, 03103\, United States
ATTACH;FMTTYPE=image/jpeg:https://manchesterproud.org/wp-content/uploads/2024/03/blog-Default-ImageV2.jpg
END:VEVENT
BEGIN:VEVENT
DTSTART;TZID=America/New_York:20241226T093000
DTEND;TZID=America/New_York:20241226T233000
DTSTAMP:20260423T185208
CREATED:20241223T151334Z
LAST-MODIFIED:20241223T151334Z
UID:10000784-1735205400-1735255800@manchesterproud.org
SUMMARY:Holiday Public Skate
DESCRIPTION:$5 Entry & $5 Skate Rental
URL:https://manchesterproud.org/the-event/holiday-public-skate/2024-12-26/
LOCATION:JFK Coliseum\, 303 Beech St\, Manchester\, 03103\, United States
ATTACH;FMTTYPE=image/jpeg:https://manchesterproud.org/wp-content/uploads/2024/03/blog-Default-ImageV2.jpg
END:VEVENT
BEGIN:VEVENT
DTSTART;TZID=America/New_York:20241224T093000
DTEND;TZID=America/New_York:20241224T233000
DTSTAMP:20260423T185208
CREATED:20241223T151334Z
LAST-MODIFIED:20241223T151334Z
UID:10000783-1735032600-1735083000@manchesterproud.org
SUMMARY:Holiday Public Skate
DESCRIPTION:$5 Entry & $5 Skate Rental
URL:https://manchesterproud.org/the-event/holiday-public-skate/2024-12-24/
LOCATION:JFK Coliseum\, 303 Beech St\, Manchester\, 03103\, United States
ATTACH;FMTTYPE=image/jpeg:https://manchesterproud.org/wp-content/uploads/2024/03/blog-Default-ImageV2.jpg
END:VEVENT
BEGIN:VEVENT
DTSTART;TZID=America/New_York:20241223T093000
DTEND;TZID=America/New_York:20241223T233000
DTSTAMP:20260423T185208
CREATED:20241223T151334Z
LAST-MODIFIED:20241223T151334Z
UID:10000782-1734946200-1734996600@manchesterproud.org
SUMMARY:Holiday Public Skate
DESCRIPTION:$5 Entry & $5 Skate Rental
URL:https://manchesterproud.org/the-event/holiday-public-skate/2024-12-23/
LOCATION:JFK Coliseum\, 303 Beech St\, Manchester\, 03103\, United States
ATTACH;FMTTYPE=image/jpeg:https://manchesterproud.org/wp-content/uploads/2024/03/blog-Default-ImageV2.jpg
END:VEVENT
BEGIN:VEVENT
DTSTART;TZID=America/New_York:20241219T150000
DTEND;TZID=America/New_York:20241219T163000
DTSTAMP:20260423T185208
CREATED:20241125T161534Z
LAST-MODIFIED:20241125T161534Z
UID:10000767-1734620400-1734625800@manchesterproud.org
SUMMARY:Teen Thursdays
DESCRIPTION:Every Thursday\, come hang out in the Winchell Room after school. We’ll have snacks\, arts and craft supplies\, Nintendo Switch\, and other games. Once or twice a month we’ll have a special structured craft or activity. Check the teen website for details at www.manchesterlibrary.org/teens . For teens in grades 6 – 12. For more information\, please call 603-624-6550 ext. 7628.
URL:https://manchesterproud.org/the-event/teen-thursdays-3/
LOCATION:Manchester City Library\, 405 Pine Street\, Manchester\, 03104\, United States
CATEGORIES:Expanded Learning Time
ATTACH;FMTTYPE=image/jpeg:https://manchesterproud.org/wp-content/uploads/2024/03/blog-Default-ImageV2.jpg
END:VEVENT
BEGIN:VEVENT
DTSTART;TZID=America/New_York:20241218T173000
DTEND;TZID=America/New_York:20241218T193000
DTSTAMP:20260423T185208
CREATED:20241125T161448Z
LAST-MODIFIED:20241125T161448Z
UID:10000766-1734543000-1734550200@manchesterproud.org
SUMMARY:Teen Movie & Pizza Night
DESCRIPTION:Come for a movie and pizza in the auditorium\, where we’ll watch a teen movie on the big screen. For teens in grades 6 – 12. \nRegistration in advance is requested to help us plan. If you have food allergies or restrictions\, let us know when you register or email Dori ahead of time at mclyouthservices@manchesternh.gov.  Please feel free to also email with movie suggestions you would like to watch! \nVisit the Teen Services website at www.manchesterlibrary.org/teens  for movie updates.
URL:https://manchesterproud.org/the-event/teen-movie-pizza-night-2/
LOCATION:Manchester City Library\, 405 Pine Street\, Manchester\, 03104\, United States
CATEGORIES:Expanded Learning Time
ATTACH;FMTTYPE=image/jpeg:https://manchesterproud.org/wp-content/uploads/2024/03/blog-Default-ImageV2.jpg
END:VEVENT
BEGIN:VEVENT
DTSTART;TZID=America/New_York:20241218T153000
DTEND;TZID=America/New_York:20241218T163000
DTSTAMP:20260423T185208
CREATED:20241125T161401Z
LAST-MODIFIED:20241125T161401Z
UID:10000765-1734535800-1734539400@manchesterproud.org
SUMMARY:Junior Author Workshop
DESCRIPTION:Hey kids in grades 3-8! Do you like to make up stories? Come once a month to these fun sessions and write\, draw\, share\, and/or help other participants. There will be opportunities to write stories\, draw comic strips\, and meet other kids. The library will supply materials to get things started.You can do your own thing or use any of the ideas provided. This is writing just for the fun of it! The focus will be on stretching your imagination and providing ideas and tips on writing.Unless requested\, editing will be minimal. Check out the flyer on the library Facebook page. Registration is recommended.For more information\, please call 603-624-6550 ext. 7628.
URL:https://manchesterproud.org/the-event/junior-author-workshop-2/
LOCATION:Manchester City Library\, 405 Pine Street\, Manchester\, 03104\, United States
CATEGORIES:Expanded Learning Time
ATTACH;FMTTYPE=image/jpeg:https://manchesterproud.org/wp-content/uploads/2024/03/blog-Default-ImageV2.jpg
END:VEVENT
BEGIN:VEVENT
DTSTART;TZID=America/New_York:20241218T100000
DTEND;TZID=America/New_York:20241218T110000
DTSTAMP:20260423T185208
CREATED:20241125T161303Z
LAST-MODIFIED:20241125T161303Z
UID:10000764-1734516000-1734519600@manchesterproud.org
SUMMARY:Hibernation/Winter Storytime
DESCRIPTION:Join Ms. Karyn along with Ms. Heather  from Amoskeag Health at 10:00 am in the Winchell Room. We will listen to fun stories about animals that hibernate during the winter. Afterwards\, there will be a cute craft to make and take home. This storytime is for ages 1-5 years old. We will see at 10:00 am. For more information\, please call 603-624-6550 ext. 7628.
URL:https://manchesterproud.org/the-event/hibernation-winter-storytime/
LOCATION:Manchester City Library\, 405 Pine Street\, Manchester\, 03104\, United States
CATEGORIES:Early Childhood
ATTACH;FMTTYPE=image/jpeg:https://manchesterproud.org/wp-content/uploads/2024/03/blog-Default-ImageV2.jpg
END:VEVENT
BEGIN:VEVENT
DTSTART;TZID=America/New_York:20241217T160000
DTEND;TZID=America/New_York:20241217T193000
DTSTAMP:20260423T185208
CREATED:20241125T160522Z
LAST-MODIFIED:20241125T160522Z
UID:10000757-1734451200-1734463800@manchesterproud.org
SUMMARY:Family Game Night
DESCRIPTION:Drop by the children’s room for Family Game Night. We will have different board games and puzzles for families to enjoy as you browse from books. For more information\, please call 603-624-6550 ext. 7628.
URL:https://manchesterproud.org/the-event/family-game-night-7/
LOCATION:Manchester City Library\, 405 Pine Street\, Manchester\, 03104\, United States
CATEGORIES:Expanded Learning Time
ATTACH;FMTTYPE=image/jpeg:https://manchesterproud.org/wp-content/uploads/2024/03/blog-Default-ImageV2.jpg
END:VEVENT
BEGIN:VEVENT
DTSTART;TZID=America/New_York:20241217T153000
DTEND;TZID=America/New_York:20241217T163000
DTSTAMP:20260423T185208
CREATED:20241125T161226Z
LAST-MODIFIED:20241125T161226Z
UID:10000763-1734449400-1734453000@manchesterproud.org
SUMMARY:Elementary Experiments - Illusions
DESCRIPTION:In Elementary Experiments anyone grades 1-6 can join us for activities and crafts with a STEAM focus (Science\, Technology\, Engineering\, Arts\, and Math). This Winter we are having one Elementary Experiments program that we will run two times. Because of the winter holidays the December dates will be the second Wednesday and the third Tuesday. If you cannot come in person\, pick up a craft kit (while supplies last) and check out the video on our Facebook and YouTube pages to follow along! \nIn December we are looking at Illusions to see the sometimes weird ways out brains try and understand the world around us. Try not to get dizzy! Remember to register so we can make sure we have enough supplies.
URL:https://manchesterproud.org/the-event/elementary-experiments-illusions-2/
LOCATION:Manchester City Library\, 405 Pine Street\, Manchester\, 03104\, United States
CATEGORIES:Expanded Learning Time
ATTACH;FMTTYPE=image/jpeg:https://manchesterproud.org/wp-content/uploads/2024/03/blog-Default-ImageV2.jpg
END:VEVENT
BEGIN:VEVENT
DTSTART;TZID=America/New_York:20241214T100000
DTEND;TZID=America/New_York:20241214T110000
DTSTAMP:20260423T185208
CREATED:20241122T160925Z
LAST-MODIFIED:20241122T161112Z
UID:10000754-1734170400-1734174000@manchesterproud.org
SUMMARY:Polar Express Party
DESCRIPTION:Our Polar Express Party is back! On Saturday\, December 14\, 2024 at 10:00 am\, kids ages 1 to grade 5 and their families are invited to come aboard a magical trip to the North Pole for those who all believe. We will listen to the story\, make a fun craft and have a snack. Registration is required to reserve your ticket. For more information\, please call 603-624-6550 ext. 7628
URL:https://manchesterproud.org/the-event/polar-express-party/
LOCATION:Manchester City Library\, 405 Pine Street\, Manchester\, 03104\, United States
CATEGORIES:Expanded Learning Time
ATTACH;FMTTYPE=image/jpeg:https://manchesterproud.org/wp-content/uploads/2024/03/blog-Default-ImageV2.jpg
END:VEVENT
BEGIN:VEVENT
DTSTART;TZID=America/New_York:20241212T170000
DTEND;TZID=America/New_York:20241212T183000
DTSTAMP:20260423T185208
CREATED:20241209T171526Z
LAST-MODIFIED:20241209T171526Z
UID:10000777-1734022800-1734028200@manchesterproud.org
SUMMARY:Holiday Craft Night
DESCRIPTION:Join Waypoint’s FRC for a Holiday Craft Night \nRegistration required here
URL:https://manchesterproud.org/the-event/holiday-craft-night/
LOCATION:464 Chestnut Street Manchester\, NH 03102\, 464 Chestnut Street\, Manchester\, 03101\, United States
CATEGORIES:Expanded Learning Time
ATTACH;FMTTYPE=image/jpeg:https://manchesterproud.org/wp-content/uploads/2024/03/blog-Default-ImageV2.jpg
END:VEVENT
BEGIN:VEVENT
DTSTART;TZID=America/New_York:20241212T150000
DTEND;TZID=America/New_York:20241212T163000
DTSTAMP:20260423T185208
CREATED:20241125T161058Z
LAST-MODIFIED:20241125T161058Z
UID:10000762-1734015600-1734021000@manchesterproud.org
SUMMARY:Teen Thursdays
DESCRIPTION:Every Thursday\, come hang out in the Winchell Room after school. We’ll have snacks\, arts and craft supplies\, Nintendo Switch\, and other games. Once or twice a month we’ll have a special structured craft or activity. Check the teen website for details at www.manchesterlibrary.org/teens . For teens in grades 6 – 12. For more information\, please call 603-624-6550 ext. 7628.
URL:https://manchesterproud.org/the-event/teen-thursdays-2/
LOCATION:Manchester City Library\, 405 Pine Street\, Manchester\, 03104\, United States
CATEGORIES:Expanded Learning Time
ATTACH;FMTTYPE=image/jpeg:https://manchesterproud.org/wp-content/uploads/2024/03/blog-Default-ImageV2.jpg
END:VEVENT
BEGIN:VEVENT
DTSTART;TZID=America/New_York:20241211T153000
DTEND;TZID=America/New_York:20241211T163000
DTSTAMP:20260423T185208
CREATED:20241125T160933Z
LAST-MODIFIED:20241125T160933Z
UID:10000761-1733931000-1733934600@manchesterproud.org
SUMMARY:Elementary Experiments - Illusions
DESCRIPTION:In Elementary Experiments anyone grades 1-6 can join us for activities and crafts with a STEAM focus (Science\, Technology\, Engineering\, Arts\, and Math). This Winter we are having one Elementary Experiments program that we will run two times. Because of the winter holidays the December dates will be the second Wednesday and the third Tuesday. If you cannot come in person\, pick up a craft kit (while supplies last) and check out the video on our Facebook and YouTube pages to follow along! \nIn December we are looking at Illusions to see the sometimes weird ways out brains try and understand the world around us. Try not to get dizzy! Remember to register so we can make sure we have enough supplies.
URL:https://manchesterproud.org/the-event/elementary-experiments-illusions/
LOCATION:Manchester City Library\, 405 Pine Street\, Manchester\, 03104\, United States
CATEGORIES:Expanded Learning Time
ATTACH;FMTTYPE=image/jpeg:https://manchesterproud.org/wp-content/uploads/2024/03/blog-Default-ImageV2.jpg
END:VEVENT
BEGIN:VEVENT
DTSTART;TZID=America/New_York:20241211T100000
DTEND;TZID=America/New_York:20241211T120000
DTSTAMP:20260423T185208
CREATED:20240815T141132Z
LAST-MODIFIED:20240815T141132Z
UID:10000700-1733911200-1733918400@manchesterproud.org
SUMMARY:Parent Cafe: Fill Your Cup
DESCRIPTION:The Parent Cafe is a free group for caregivers of children of all ages in the Manchester Area. This is a safe space for caregivers to engage in group discussions\, share stories\, and feel supported. \n  \nTo sign up\, register here or email communityinitatives@amoskeaghealth.org
URL:https://manchesterproud.org/the-event/parent-cafe-fill-your-cup/
LOCATION:Manchester Police Athletic League\, 409 Beech St\, Manchester\, 03103\, United States
CATEGORIES:Health and Wellness
ATTACH;FMTTYPE=image/jpeg:https://manchesterproud.org/wp-content/uploads/2024/03/blog-Default-ImageV2.jpg
ORGANIZER;CN="Amoskeag Health":MAILTO:communityinitatives@amoskeaghealth.org
END:VEVENT
BEGIN:VEVENT
DTSTART;TZID=America/New_York:20241211T100000
DTEND;TZID=America/New_York:20241211T110000
DTSTAMP:20260423T185208
CREATED:20241125T160847Z
LAST-MODIFIED:20241125T160847Z
UID:10000760-1733911200-1733914800@manchesterproud.org
SUMMARY:Storytime Science
DESCRIPTION:The Children’s Room staff are excited to announce our Storytime program with SEE Science Center.  Once a month\, kids ages 2-6 years old are invited to join Ms. Yvonne and Ms. Becky from the SEE Science Center for Storytime Science.  This storytime is based on a Stem/Steam theme with hands-on activities afterwards. Registration will be required to make sure that we have enough materials for everyone. Storytime Science is a program of the SEE Science Center’s First Steps in Science Initiative presented by Dartmouth Health Childrens. This program is a great way to introduce our youngest patrons to fun STEM/STEAM hands on activities. For more information\, please call 603-624-6550 ext. 7628
URL:https://manchesterproud.org/the-event/storytime-science/
LOCATION:Manchester City Library\, 405 Pine Street\, Manchester\, 03104\, United States
CATEGORIES:Early Childhood
ATTACH;FMTTYPE=image/jpeg:https://manchesterproud.org/wp-content/uploads/2024/03/blog-Default-ImageV2.jpg
END:VEVENT
BEGIN:VEVENT
DTSTART;TZID=America/New_York:20241210T160000
DTEND;TZID=America/New_York:20241210T193000
DTSTAMP:20260423T185208
CREATED:20241125T160437Z
LAST-MODIFIED:20241125T160437Z
UID:10000756-1733846400-1733859000@manchesterproud.org
SUMMARY:Family Game Night
DESCRIPTION:Drop by the children’s room for Family Game Night. We will have different board games and puzzles for families to enjoy as you browse from books. For more information\, please call 603-624-6550 ext. 7628.
URL:https://manchesterproud.org/the-event/family-game-night-6/
LOCATION:Manchester City Library\, 405 Pine Street\, Manchester\, 03104\, United States
CATEGORIES:Expanded Learning Time
ATTACH;FMTTYPE=image/jpeg:https://manchesterproud.org/wp-content/uploads/2024/03/blog-Default-ImageV2.jpg
END:VEVENT
BEGIN:VEVENT
DTSTART;TZID=America/New_York:20241209T090000
DTEND;TZID=America/New_York:20241219T150000
DTSTAMP:20260423T185208
CREATED:20240910T165536Z
LAST-MODIFIED:20240910T165536Z
UID:10000720-1733734800-1734620400@manchesterproud.org
SUMMARY:Dental Van at Parker-Varney School
DESCRIPTION:If your child does not have a dentist OR private dental insurance (we accept Medicaid) and you would like them to be seen for dental care on the dental van at your school\, please ask for a permission form from the main office. You can also visit our website for permission forms and a full schedule of school visits. \n**We will be providing treatment at ALL public schools in Manchester throughout the school year. We ask that you plan on your child receiving care at their school. In the case of a dental emergency please call 603-624-6466 to make other arrangements. \nhttps://www.manchesternh.gov/Departments/Health/Services/Dental-Health
URL:https://manchesterproud.org/the-event/dental-van-at-parker-varney-school/
LOCATION:Parker Varney Elementary School\, 223 James A Pollock Dr\, Manchester\, 03102\, United States
ATTACH;FMTTYPE=image/jpeg:https://manchesterproud.org/wp-content/uploads/2024/03/blog-Default-ImageV2.jpg
END:VEVENT
BEGIN:VEVENT
DTSTART;TZID=America/New_York:20241207T153000
DTEND;TZID=America/New_York:20241207T180000
DTSTAMP:20260423T185208
CREATED:20241206T155926Z
LAST-MODIFIED:20241206T160255Z
UID:10000771-1733585400-1733594400@manchesterproud.org
SUMMARY:An Evening at the North Pole
DESCRIPTION:Queen City Rotary is hosting an Evening at the North Pole (More info here) \nTimes: 3:30pm – Doors at 3:10pm and 5:00pm – Doors at 4:40pm \nAges: 4-12 years old \nFeaturing: \n\nChris Van Allsburg’s Polar Express Story\nA Visit to Santa’s Workshop\nThe Grinch Village
URL:https://manchesterproud.org/the-event/an-evening-at-the-north-pole/
LOCATION:Manchester Police Athletic League\, 409 Beech St\, Manchester\, 03103\, United States
ATTACH;FMTTYPE=image/jpeg:https://manchesterproud.org/wp-content/uploads/2024/03/blog-Default-ImageV2.jpg
END:VEVENT
END:VCALENDAR