BEGIN:VCALENDAR
VERSION:2.0
PRODID:-//Manchester Proud - ECPv6.15.17.1//NONSGML v1.0//EN
CALSCALE:GREGORIAN
METHOD:PUBLISH
X-WR-CALNAME:Manchester Proud
X-ORIGINAL-URL:https://manchesterproud.org
X-WR-CALDESC:Events for Manchester Proud
REFRESH-INTERVAL;VALUE=DURATION:PT1H
X-Robots-Tag:noindex
X-PUBLISHED-TTL:PT1H
BEGIN:VTIMEZONE
TZID:America/New_York
BEGIN:DAYLIGHT
TZOFFSETFROM:-0500
TZOFFSETTO:-0400
TZNAME:EDT
DTSTART:20240310T070000
END:DAYLIGHT
BEGIN:STANDARD
TZOFFSETFROM:-0400
TZOFFSETTO:-0500
TZNAME:EST
DTSTART:20241103T060000
END:STANDARD
BEGIN:DAYLIGHT
TZOFFSETFROM:-0500
TZOFFSETTO:-0400
TZNAME:EDT
DTSTART:20250309T070000
END:DAYLIGHT
BEGIN:STANDARD
TZOFFSETFROM:-0400
TZOFFSETTO:-0500
TZNAME:EST
DTSTART:20251102T060000
END:STANDARD
BEGIN:DAYLIGHT
TZOFFSETFROM:-0500
TZOFFSETTO:-0400
TZNAME:EDT
DTSTART:20260308T070000
END:DAYLIGHT
BEGIN:STANDARD
TZOFFSETFROM:-0400
TZOFFSETTO:-0500
TZNAME:EST
DTSTART:20261101T060000
END:STANDARD
END:VTIMEZONE
BEGIN:VEVENT
DTSTART;TZID=America/New_York:20250304T170000
DTEND;TZID=America/New_York:20250304T190000
DTSTAMP:20260423T101150
CREATED:20241209T172054Z
LAST-MODIFIED:20241209T172054Z
UID:10000778-1741107600-1741114800@manchesterproud.org
SUMMARY:Parenting Class for Families of Children Ages 2-5 Years
DESCRIPTION:Easterseals NH is hosting a Parenting Class for Families of Children Ages 2-5 Years \nThis training will provide information for families on \n\nHow to promote children’s social and emotional skills\nUnderstand their problem behaviors\nUse positive approaches to help children learn appropriate behaviors\n\nRegistration is required (cboucher1@eastersealsnh.org or 603.404.0254) and free dinner & childcare provided \n3 week class – March 4\, 11\, and 18\, 2024 from 5:15pm-7:00pm
URL:https://manchesterproud.org/the-event/parenting-class-for-families-of-children-ages-2-5-years/
LOCATION:435 South Main Street Manchester\, NH 03102\, 435 South Main Street\, Manchester\, 03102\, United States
CATEGORIES:Early Childhood
ATTACH;FMTTYPE=image/jpeg:https://manchesterproud.org/wp-content/uploads/2024/03/blog-Default-ImageV2.jpg
END:VEVENT
END:VCALENDAR