BEGIN:VCALENDAR
VERSION:2.0
PRODID:-//Manchester Proud - ECPv6.15.17.1//NONSGML v1.0//EN
CALSCALE:GREGORIAN
METHOD:PUBLISH
X-WR-CALNAME:Manchester Proud
X-ORIGINAL-URL:https://manchesterproud.org
X-WR-CALDESC:Events for Manchester Proud
REFRESH-INTERVAL;VALUE=DURATION:PT1H
X-Robots-Tag:noindex
X-PUBLISHED-TTL:PT1H
BEGIN:VTIMEZONE
TZID:America/New_York
BEGIN:DAYLIGHT
TZOFFSETFROM:-0500
TZOFFSETTO:-0400
TZNAME:EDT
DTSTART:20230312T070000
END:DAYLIGHT
BEGIN:STANDARD
TZOFFSETFROM:-0400
TZOFFSETTO:-0500
TZNAME:EST
DTSTART:20231105T060000
END:STANDARD
BEGIN:DAYLIGHT
TZOFFSETFROM:-0500
TZOFFSETTO:-0400
TZNAME:EDT
DTSTART:20240310T070000
END:DAYLIGHT
BEGIN:STANDARD
TZOFFSETFROM:-0400
TZOFFSETTO:-0500
TZNAME:EST
DTSTART:20241103T060000
END:STANDARD
BEGIN:DAYLIGHT
TZOFFSETFROM:-0500
TZOFFSETTO:-0400
TZNAME:EDT
DTSTART:20250309T070000
END:DAYLIGHT
BEGIN:STANDARD
TZOFFSETFROM:-0400
TZOFFSETTO:-0500
TZNAME:EST
DTSTART:20251102T060000
END:STANDARD
BEGIN:DAYLIGHT
TZOFFSETFROM:-0500
TZOFFSETTO:-0400
TZNAME:EDT
DTSTART:20260308T070000
END:DAYLIGHT
BEGIN:STANDARD
TZOFFSETFROM:-0400
TZOFFSETTO:-0500
TZNAME:EST
DTSTART:20261101T060000
END:STANDARD
BEGIN:DAYLIGHT
TZOFFSETFROM:-0500
TZOFFSETTO:-0400
TZNAME:EDT
DTSTART:20270314T070000
END:DAYLIGHT
BEGIN:STANDARD
TZOFFSETFROM:-0400
TZOFFSETTO:-0500
TZNAME:EST
DTSTART:20271107T060000
END:STANDARD
END:VTIMEZONE
BEGIN:VEVENT
DTSTART;TZID=America/New_York:20260321T090000
DTEND;TZID=America/New_York:20260321T120000
DTSTAMP:20260419T080501
CREATED:20260109T221732Z
LAST-MODIFIED:20260109T221732Z
UID:10001724-1774083600-1774094400@manchesterproud.org
SUMMARY:Spring into Summer 2026
DESCRIPTION:Spring Into Summer is Manchester Proud’s annual community event connecting youth\, families\, schools\, and local businesses to meaningful summer opportunities.
URL:https://manchesterproud.org/the-event/spring-into-summer-2026/
LOCATION:Beech Street School\, 333 Beech Street\, Manchester\, 03103\, United States
CATEGORIES:Basic Needs,Career Connected Learning,Expanded Learning Time
ATTACH;FMTTYPE=image/png:https://manchesterproud.org/wp-content/uploads/2026/01/SIS-.png
END:VEVENT
BEGIN:VEVENT
DTSTART;TZID=America/New_York:20251211T170000
DTEND;TZID=America/New_York:20251211T190000
DTSTAMP:20260419T080501
CREATED:20251209T150624Z
LAST-MODIFIED:20251209T150624Z
UID:10001714-1765472400-1765479600@manchesterproud.org
SUMMARY:School Connect Ward 5 Event
DESCRIPTION:Multilingual interpretation provided. Presented by Manchester School District. School Updates\, a family Q & A\, student showcases\, bookmobile\, MSD Jobs and access to community resources.
URL:https://manchesterproud.org/the-event/school-connect-ward-5-event/
LOCATION:Beech Street School\, 333 Beech Street\, Manchester\, 03103\, United States
CATEGORIES:Basic Needs,Expanded Learning Time
ATTACH;FMTTYPE=image/jpeg:https://manchesterproud.org/wp-content/uploads/2024/03/blog-Default-ImageV2.jpg
END:VEVENT
BEGIN:VEVENT
DTSTART;TZID=America/New_York:20251201T080000
DTEND;TZID=America/New_York:20251218T150000
DTSTAMP:20260419T080501
CREATED:20250825T235932Z
LAST-MODIFIED:20250825T235932Z
UID:10001696-1764576000-1766070000@manchesterproud.org
SUMMARY:DENTAL VAN AT BEECH STREET ELEMENTARY SCHOOL
DESCRIPTION:If your child does not have a dentist OR private dental insurance (we accept Medicaid) and you would like them to be seen for dental care on the dental van at your school\, please ask for a permission form from the main office. You can also visit our website for permission forms and a full schedule of school visits. \n***We will be providing treatment at ALL public schools in Manchester throughout the school year. We ask that you plan on your child receiving care at their school. In the case of an emergency please call 603-624-6466 to make other arrangements. \nhttps://www.manchesternh.gov/Departments/Health/Services/Dental-Health
URL:https://manchesterproud.org/the-event/dental-van-at-beech-street-elementary-school/
LOCATION:Beech Street School\, 333 Beech Street\, Manchester\, 03103\, United States
CATEGORIES:Health and Wellness
ATTACH;FMTTYPE=image/jpeg:https://manchesterproud.org/wp-content/uploads/2024/03/blog-Default-ImageV2.jpg
END:VEVENT
BEGIN:VEVENT
DTSTART;TZID=America/New_York:20250417T170000
DTEND;TZID=America/New_York:20250417T183000
DTSTAMP:20260419T080501
CREATED:20250325T170224Z
LAST-MODIFIED:20250325T170224Z
UID:10001004-1744909200-1744914600@manchesterproud.org
SUMMARY:School Registration Night at Beech
DESCRIPTION:Registration is now open for Manchester School District for the 2025-2026 school year. Only students new to the district need to be registered – current students are automatically enrolled for the new year. \nFamilies can register students online anytime – you can find registration information here: https://www.mansd.org/page/register-a-student. \nRegistration in person if you need assistance\, including language interpretation.
URL:https://manchesterproud.org/the-event/school-registration-night-at-beech/
LOCATION:Beech Street School\, 333 Beech Street\, Manchester\, 03103\, United States
ATTACH;FMTTYPE=image/jpeg:https://manchesterproud.org/wp-content/uploads/2024/03/blog-Default-ImageV2.jpg
END:VEVENT
BEGIN:VEVENT
DTSTART;TZID=America/New_York:20250417T090000
DTEND;TZID=America/New_York:20250417T143000
DTSTAMP:20260419T080501
CREATED:20250325T170308Z
LAST-MODIFIED:20250325T170308Z
UID:10001005-1744880400-1744900200@manchesterproud.org
SUMMARY:School Registration at Beech
DESCRIPTION:Registration is now open for Manchester School District for the 2025-2026 school year. Only students new to the district need to be registered – current students are automatically enrolled for the new year. \nFamilies can register students online anytime – you can find registration information here: https://www.mansd.org/page/register-a-student. \nRegistration in person if you need assistance\, including language interpretation.
URL:https://manchesterproud.org/the-event/school-registration-at-beech/
LOCATION:Beech Street School\, 333 Beech Street\, Manchester\, 03103\, United States
ATTACH;FMTTYPE=image/jpeg:https://manchesterproud.org/wp-content/uploads/2024/03/blog-Default-ImageV2.jpg
END:VEVENT
BEGIN:VEVENT
DTSTART;TZID=America/New_York:20250322T090000
DTEND;TZID=America/New_York:20250322T130000
DTSTAMP:20260419T080501
CREATED:20241211T144402Z
LAST-MODIFIED:20260109T221231Z
UID:10000780-1742634000-1742648400@manchesterproud.org
SUMMARY:Spring into Summer
DESCRIPTION:Back for our third annual Spring into Summer resource fair!  You and your family are invited to Spring into Summer\, a resource fair connecting students and families to enriching summer activities\, career connected learning programs\, and job opportunities. Please join us at Beech Street Elementary School on March 21st from 9am-12pm.
URL:https://manchesterproud.org/the-event/spring-into-summer/
LOCATION:Beech Street School\, 333 Beech Street\, Manchester\, 03103\, United States
CATEGORIES:Career Connected Learning,Expanded Learning Time
ATTACH;FMTTYPE=image/jpeg:https://manchesterproud.org/wp-content/uploads/2024/03/blog-Default-ImageV2.jpg
END:VEVENT
BEGIN:VEVENT
DTSTART;TZID=America/New_York:20250106T090000
DTEND;TZID=America/New_York:20250124T150000
DTSTAMP:20260419T080501
CREATED:20240910T170723Z
LAST-MODIFIED:20240910T170723Z
UID:10000721-1736154000-1737730800@manchesterproud.org
SUMMARY:Dental Van at Beech St School
DESCRIPTION:If your child does not have a dentist OR private dental insurance (we accept Medicaid) and you would like them to be seen for dental care on the dental van at your school\, please ask for a permission form from the main office. You can also visit our website for permission forms and a full schedule of school visits. \n**We will be providing treatment at ALL public schools in Manchester throughout the school year. We ask that you plan on your child receiving care at their school. In the case of a dental emergency please call 603-624-6466 to make other arrangements. \nhttps://www.manchesternh.gov/Departments/Health/Services/Dental-Health
URL:https://manchesterproud.org/the-event/dental-van-at-beech-st-school/
LOCATION:Beech Street School\, 333 Beech Street\, Manchester\, 03103\, United States
CATEGORIES:Health and Wellness
ATTACH;FMTTYPE=image/jpeg:https://manchesterproud.org/wp-content/uploads/2024/03/blog-Default-ImageV2.jpg
END:VEVENT
BEGIN:VEVENT
DTSTART;TZID=America/New_York:20240813T160000
DTEND;TZID=America/New_York:20240813T190000
DTSTAMP:20260419T080501
CREATED:20240402T175050Z
LAST-MODIFIED:20240403T130312Z
UID:10000051-1723564800-1723575600@manchesterproud.org
SUMMARY:Wellness on Wheels
DESCRIPTION:A pop-up resource fair with activities and fun for all ages to get ready to go back to school! Manchester School District registration will be available at this event.
URL:https://manchesterproud.org/the-event/wellness-on-wheels-2/
LOCATION:Beech Street School\, 333 Beech Street\, Manchester\, 03103\, United States
ATTACH;FMTTYPE=image/jpeg:https://manchesterproud.org/wp-content/uploads/2024/03/blog-Default-ImageV2.jpg
ORGANIZER;CN="Makin' It Happen":MAILTO:tlb@mih4u.org
END:VEVENT
END:VCALENDAR