BEGIN:VCALENDAR
VERSION:2.0
PRODID:-//Manchester Proud - ECPv6.15.17.1//NONSGML v1.0//EN
CALSCALE:GREGORIAN
METHOD:PUBLISH
X-ORIGINAL-URL:https://manchesterproud.org
X-WR-CALDESC:Events for Manchester Proud
REFRESH-INTERVAL;VALUE=DURATION:PT1H
X-Robots-Tag:noindex
X-PUBLISHED-TTL:PT1H
BEGIN:VTIMEZONE
TZID:America/New_York
BEGIN:DAYLIGHT
TZOFFSETFROM:-0500
TZOFFSETTO:-0400
TZNAME:EDT
DTSTART:20240310T070000
END:DAYLIGHT
BEGIN:STANDARD
TZOFFSETFROM:-0400
TZOFFSETTO:-0500
TZNAME:EST
DTSTART:20241103T060000
END:STANDARD
BEGIN:DAYLIGHT
TZOFFSETFROM:-0500
TZOFFSETTO:-0400
TZNAME:EDT
DTSTART:20250309T070000
END:DAYLIGHT
BEGIN:STANDARD
TZOFFSETFROM:-0400
TZOFFSETTO:-0500
TZNAME:EST
DTSTART:20251102T060000
END:STANDARD
BEGIN:DAYLIGHT
TZOFFSETFROM:-0500
TZOFFSETTO:-0400
TZNAME:EDT
DTSTART:20260308T070000
END:DAYLIGHT
BEGIN:STANDARD
TZOFFSETFROM:-0400
TZOFFSETTO:-0500
TZNAME:EST
DTSTART:20261101T060000
END:STANDARD
END:VTIMEZONE
BEGIN:VEVENT
DTSTART;TZID=America/New_York:20250414T080000
DTEND;TZID=America/New_York:20250425T150000
DTSTAMP:20260423T015435
CREATED:20250106T134509Z
LAST-MODIFIED:20250106T134509Z
UID:10000797-1744617600-1745593200@manchesterproud.org
SUMMARY:Dental Van at Central High School
DESCRIPTION:If your child does not have a dentist OR private dental insurance (we accept Medicaid) and you would like them to be seen for dental care on the dental van at your school\, please ask for a permission form from the main office. You can also visit our website for permission forms and a full schedule of school visits. \n**We will be providing treatment at ALL public schools in Manchester throughout the school year. We ask that you plan on your child receiving care at their school. In the case of a dental emergency please call 603-624-6466 to make other arrangements.
URL:https://manchesterproud.org/the-event/dental-van-at-central-high-school/
LOCATION:Central High School\, 535 Beech Street\, Manchester\, 03104\, United States
CATEGORIES:Health and Wellness
ATTACH;FMTTYPE=image/jpeg:https://manchesterproud.org/wp-content/uploads/2024/03/blog-Default-ImageV2.jpg
END:VEVENT
END:VCALENDAR