BEGIN:VCALENDAR
VERSION:2.0
PRODID:-//Manchester Proud - ECPv6.15.17.1//NONSGML v1.0//EN
CALSCALE:GREGORIAN
METHOD:PUBLISH
X-WR-CALNAME:Manchester Proud
X-ORIGINAL-URL:https://manchesterproud.org
X-WR-CALDESC:Events for Manchester Proud
REFRESH-INTERVAL;VALUE=DURATION:PT1H
X-Robots-Tag:noindex
X-PUBLISHED-TTL:PT1H
BEGIN:VTIMEZONE
TZID:America/New_York
BEGIN:DAYLIGHT
TZOFFSETFROM:-0500
TZOFFSETTO:-0400
TZNAME:EDT
DTSTART:20240310T070000
END:DAYLIGHT
BEGIN:STANDARD
TZOFFSETFROM:-0400
TZOFFSETTO:-0500
TZNAME:EST
DTSTART:20241103T060000
END:STANDARD
BEGIN:DAYLIGHT
TZOFFSETFROM:-0500
TZOFFSETTO:-0400
TZNAME:EDT
DTSTART:20250309T070000
END:DAYLIGHT
BEGIN:STANDARD
TZOFFSETFROM:-0400
TZOFFSETTO:-0500
TZNAME:EST
DTSTART:20251102T060000
END:STANDARD
BEGIN:DAYLIGHT
TZOFFSETFROM:-0500
TZOFFSETTO:-0400
TZNAME:EDT
DTSTART:20260308T070000
END:DAYLIGHT
BEGIN:STANDARD
TZOFFSETFROM:-0400
TZOFFSETTO:-0500
TZNAME:EST
DTSTART:20261101T060000
END:STANDARD
END:VTIMEZONE
BEGIN:VEVENT
DTSTART;VALUE=DATE:20250730
DTEND;VALUE=DATE:20250731
DTSTAMP:20260421T070800
CREATED:20250627T142649Z
LAST-MODIFIED:20250627T142649Z
UID:10001676-1753862400-1753894800@manchesterproud.org
SUMMARY:Bridging Families\, Schools\, and Communities Conference
DESCRIPTION:Join families\, educators\, and non-profits from across New Hampshire for two days of networking and learning about working together to support New Hampshire children and youth. Learn about improving school attendance through working with families\, making decisions for students\, post-secondary opportunities for New Hampshire youth\, supporting educational plans for students with disabilities\, and much more. Attendees will earn 6 continuing education credits for participating in the conference. Breakfast and lunch at the Doubletree Manchester are provided as part of registration. The YMCA\, a short walk from the conference venue\, will provide childcare. \nRegister here: https://cvent.me/YMg0mz
URL:https://manchesterproud.org/the-event/bridging-families-schools-and-communities-conference/2025-07-30/
LOCATION:DoubleTree by Hilton Manchester Downtown\, 700 Elm Street\, Manchester\, 03101\, United States
CATEGORIES:Expanded Learning Time
ATTACH;FMTTYPE=image/jpeg:https://manchesterproud.org/wp-content/uploads/2024/03/blog-Default-ImageV2.jpg
END:VEVENT
BEGIN:VEVENT
DTSTART;VALUE=DATE:20250729
DTEND;VALUE=DATE:20250730
DTSTAMP:20260421T070800
CREATED:20250627T142649Z
LAST-MODIFIED:20250627T142649Z
UID:10001675-1753747200-1753833599@manchesterproud.org
SUMMARY:Bridging Families\, Schools\, and Communities Conference
DESCRIPTION:Join families\, educators\, and non-profits from across New Hampshire for two days of networking and learning about working together to support New Hampshire children and youth. Learn about improving school attendance through working with families\, making decisions for students\, post-secondary opportunities for New Hampshire youth\, supporting educational plans for students with disabilities\, and much more. Attendees will earn 6 continuing education credits for participating in the conference. Breakfast and lunch at the Doubletree Manchester are provided as part of registration. The YMCA\, a short walk from the conference venue\, will provide childcare. \nRegister here: https://cvent.me/YMg0mz
URL:https://manchesterproud.org/the-event/bridging-families-schools-and-communities-conference/2025-07-29/
LOCATION:DoubleTree by Hilton Manchester Downtown\, 700 Elm Street\, Manchester\, 03101\, United States
CATEGORIES:Expanded Learning Time
ATTACH;FMTTYPE=image/jpeg:https://manchesterproud.org/wp-content/uploads/2024/03/blog-Default-ImageV2.jpg
END:VEVENT
END:VCALENDAR