BEGIN:VCALENDAR
VERSION:2.0
PRODID:-//Manchester Proud - ECPv6.15.17.1//NONSGML v1.0//EN
CALSCALE:GREGORIAN
METHOD:PUBLISH
X-WR-CALNAME:Manchester Proud
X-ORIGINAL-URL:https://manchesterproud.org
X-WR-CALDESC:Events for Manchester Proud
REFRESH-INTERVAL;VALUE=DURATION:PT1H
X-Robots-Tag:noindex
X-PUBLISHED-TTL:PT1H
BEGIN:VTIMEZONE
TZID:America/New_York
BEGIN:DAYLIGHT
TZOFFSETFROM:-0500
TZOFFSETTO:-0400
TZNAME:EDT
DTSTART:20230312T070000
END:DAYLIGHT
BEGIN:STANDARD
TZOFFSETFROM:-0400
TZOFFSETTO:-0500
TZNAME:EST
DTSTART:20231105T060000
END:STANDARD
BEGIN:DAYLIGHT
TZOFFSETFROM:-0500
TZOFFSETTO:-0400
TZNAME:EDT
DTSTART:20240310T070000
END:DAYLIGHT
BEGIN:STANDARD
TZOFFSETFROM:-0400
TZOFFSETTO:-0500
TZNAME:EST
DTSTART:20241103T060000
END:STANDARD
BEGIN:DAYLIGHT
TZOFFSETFROM:-0500
TZOFFSETTO:-0400
TZNAME:EDT
DTSTART:20250309T070000
END:DAYLIGHT
BEGIN:STANDARD
TZOFFSETFROM:-0400
TZOFFSETTO:-0500
TZNAME:EST
DTSTART:20251102T060000
END:STANDARD
BEGIN:DAYLIGHT
TZOFFSETFROM:-0500
TZOFFSETTO:-0400
TZNAME:EDT
DTSTART:20260308T070000
END:DAYLIGHT
BEGIN:STANDARD
TZOFFSETFROM:-0400
TZOFFSETTO:-0500
TZNAME:EST
DTSTART:20261101T060000
END:STANDARD
END:VTIMEZONE
BEGIN:VEVENT
DTSTART;TZID=America/New_York:20250220T110000
DTEND;TZID=America/New_York:20250220T120000
DTSTAMP:20260425T141035
CREATED:20250129T175252Z
LAST-MODIFIED:20250129T175252Z
UID:10000868-1740049200-1740052800@manchesterproud.org
SUMMARY:Family Storytime
DESCRIPTION:Family Storytimes for 2-5 years old will meet Thurdays mornings at 10:00 & 11:00 am. These are drop in sessions.  Please attend only one session each week which so everyone can attend this very popular program. All sessions are held in the Winchell Room.   For more information contact the Children’s Room at 603-624-6550 ext 7628
URL:https://manchesterproud.org/the-event/family-storytime-16/
LOCATION:Manchester City Library\, 405 Pine Street\, Manchester\, 03104\, United States
CATEGORIES:Early Childhood
ATTACH;FMTTYPE=image/jpeg:https://manchesterproud.org/wp-content/uploads/2024/03/blog-Default-ImageV2.jpg
END:VEVENT
BEGIN:VEVENT
DTSTART;TZID=America/New_York:20250220T100000
DTEND;TZID=America/New_York:20250220T110000
DTSTAMP:20260425T141035
CREATED:20250129T175207Z
LAST-MODIFIED:20250129T175207Z
UID:10000867-1740045600-1740049200@manchesterproud.org
SUMMARY:Family Storytime
DESCRIPTION:Family Storytimes for 2-5 years old will meet Thurdays mornings at 10:00 & 11:00 am. These are drop in sessions.  Please attend only one session each week which so everyone can attend this very popular program. All sessions are held in the Winchell Room.   For more information contact the Children’s Room at 603-624-6550 ext 7628
URL:https://manchesterproud.org/the-event/family-storytime-15/
LOCATION:Manchester City Library\, 405 Pine Street\, Manchester\, 03104\, United States
CATEGORIES:Early Childhood
ATTACH;FMTTYPE=image/jpeg:https://manchesterproud.org/wp-content/uploads/2024/03/blog-Default-ImageV2.jpg
END:VEVENT
BEGIN:VEVENT
DTSTART;TZID=America/New_York:20250219T100000
DTEND;TZID=America/New_York:20250219T110000
DTSTAMP:20260425T141035
CREATED:20250129T175105Z
LAST-MODIFIED:20250129T175105Z
UID:10000866-1739959200-1739962800@manchesterproud.org
SUMMARY:Winter Fun Storytime
DESCRIPTION:Join Ms. Karyn along with Ms. Heather from Amoskeag Health at 10:00 am in the Winchell Room. We will listen to fun winter stories and make a cute snow craft to take home. This storytime is for ages 1-5 years old\, registration required. We will see at 10:00 am. For more information\, please call 603-624-6550 ext. 7628. \nRegister here
URL:https://manchesterproud.org/the-event/winter-fun-storytime/
LOCATION:Manchester City Library\, 405 Pine Street\, Manchester\, 03104\, United States
CATEGORIES:Early Childhood
ATTACH;FMTTYPE=image/jpeg:https://manchesterproud.org/wp-content/uploads/2024/03/blog-Default-ImageV2.jpg
END:VEVENT
BEGIN:VEVENT
DTSTART;TZID=America/New_York:20250214T100000
DTEND;TZID=America/New_York:20250214T110000
DTSTAMP:20260425T141035
CREATED:20250129T174943Z
LAST-MODIFIED:20250129T174943Z
UID:10000865-1739527200-1739530800@manchesterproud.org
SUMMARY:Baby Storytime
DESCRIPTION:And for our youngest patrons\, 6-23 months\, Baby Storytime will be on Friday mornings at 10:00 am in the Winchell Room This is also a drop in program.  For more information\, please call 624-6550 ext. 7628.
URL:https://manchesterproud.org/the-event/baby-storytime-3/
LOCATION:Manchester City Library\, 405 Pine Street\, Manchester\, 03104\, United States
CATEGORIES:Early Childhood
ATTACH;FMTTYPE=image/jpeg:https://manchesterproud.org/wp-content/uploads/2024/03/blog-Default-ImageV2.jpg
END:VEVENT
BEGIN:VEVENT
DTSTART;TZID=America/New_York:20250213T150000
DTEND;TZID=America/New_York:20250213T163000
DTSTAMP:20260425T141035
CREATED:20250129T174831Z
LAST-MODIFIED:20250129T174831Z
UID:10000864-1739458800-1739464200@manchesterproud.org
SUMMARY:Teen Thursdays
DESCRIPTION:Every Thursday\, come hang out in the Winchell Room after school.  We’ll have snacks\, arts and craft supplies\, Nintendo Switch\, and other games.  One or twice a month we’ll have a special structured craft or activity.  No registration necessary. For teens in grades 6-12. \nCheck the teen website for further details at www.manchesterlibrary.org/teens
URL:https://manchesterproud.org/the-event/teen-thursdays-8/
LOCATION:Manchester City Library\, 405 Pine Street\, Manchester\, 03104\, United States
CATEGORIES:Expanded Learning Time
ATTACH;FMTTYPE=image/jpeg:https://manchesterproud.org/wp-content/uploads/2024/03/blog-Default-ImageV2.jpg
END:VEVENT
BEGIN:VEVENT
DTSTART;TZID=America/New_York:20250213T110000
DTEND;TZID=America/New_York:20250213T120000
DTSTAMP:20260425T141035
CREATED:20250129T174715Z
LAST-MODIFIED:20250129T174715Z
UID:10000863-1739444400-1739448000@manchesterproud.org
SUMMARY:Family Storytime
DESCRIPTION:Family Storytimes for 2-5 years old will meet Thurdays mornings at 10:00 & 11:00 am. These are drop in sessions.  Please attend only one session each week which so everyone can attend this very popular program. All sessions are held in the Winchell Room.   For more information contact the Children’s Room at 603-624-6550 ext 7628
URL:https://manchesterproud.org/the-event/family-storytime-14/
LOCATION:Manchester City Library\, 405 Pine Street\, Manchester\, 03104\, United States
CATEGORIES:Early Childhood
ATTACH;FMTTYPE=image/jpeg:https://manchesterproud.org/wp-content/uploads/2024/03/blog-Default-ImageV2.jpg
END:VEVENT
BEGIN:VEVENT
DTSTART;TZID=America/New_York:20250213T100000
DTEND;TZID=America/New_York:20250213T110000
DTSTAMP:20260425T141035
CREATED:20250129T174626Z
LAST-MODIFIED:20250129T174626Z
UID:10000862-1739440800-1739444400@manchesterproud.org
SUMMARY:Family Storytime
DESCRIPTION:Family Storytimes for 2-5 years old will meet Thurdays mornings at 10:00 & 11:00 am. These are drop in sessions.  Please attend only one session each week which so everyone can attend this very popular program. All sessions are held in the Winchell Room.   For more information contact the Children’s Room at 603-624-6550 ext 7628
URL:https://manchesterproud.org/the-event/family-storytime-13/
LOCATION:Manchester City Library\, 405 Pine Street\, Manchester\, 03104\, United States
CATEGORIES:Early Childhood
ATTACH;FMTTYPE=image/jpeg:https://manchesterproud.org/wp-content/uploads/2024/03/blog-Default-ImageV2.jpg
END:VEVENT
BEGIN:VEVENT
DTSTART;TZID=America/New_York:20250212T153000
DTEND;TZID=America/New_York:20250212T163000
DTSTAMP:20260425T141035
CREATED:20250129T174528Z
LAST-MODIFIED:20250129T174528Z
UID:10000861-1739374200-1739377800@manchesterproud.org
SUMMARY:Elementary Experiments - Icy Art
DESCRIPTION:In Elementary Experiments anyone grades 1-6 can join us for activities and crafts with a STEAM focus (Science\, Technology\, Engineering\, Arts\, and Math). This Fall we having two Elementary Experiments\, one on the second Wednesday and one on the fourth Tuesday\, but we are going to do the same activities both times. If you cannot come in person\, pick up a craft kit (while supplies last) and check out the video on our Facebook and YouTube pages to follow along! \nIn February we are doing some Icy Art of the melting and non-melting varieties! Remember to register so we can make sure we have enough supplies. \nRegister here
URL:https://manchesterproud.org/the-event/elementary-experiments-icy-art/
LOCATION:Manchester City Library\, 405 Pine Street\, Manchester\, 03104\, United States
CATEGORIES:Expanded Learning Time
ATTACH;FMTTYPE=image/jpeg:https://manchesterproud.org/wp-content/uploads/2024/03/blog-Default-ImageV2.jpg
END:VEVENT
BEGIN:VEVENT
DTSTART;TZID=America/New_York:20250212T100000
DTEND;TZID=America/New_York:20250212T110000
DTSTAMP:20260425T141035
CREATED:20250129T174422Z
LAST-MODIFIED:20250129T174422Z
UID:10000860-1739354400-1739358000@manchesterproud.org
SUMMARY:Storytime Science
DESCRIPTION:The Children’s Room staff are excited to announce our Storytime program with SEE Science Center.  Once a month\, kids ages 2-6 years old are invited to join Ms. Yvonne and Ms. Amanda from the SEE Science Center for Storytime Science.  This storytime is based on a Stem/Steam theme with hands-on activities afterwards. Registration will be required to make sure that we have enough materials for everyone. Storytime Science is a program of the SEE Science Center’s First Steps in Science Initiative presented by Dartmouth Health Childrens. This program is a great way to introduce our youngest patrons to fun STEM/STEAM hands on activities. For more information\, please call 603-624-6550 ext. 7628 \nRegister here
URL:https://manchesterproud.org/the-event/storytime-science-3/
LOCATION:Manchester City Library\, 405 Pine Street\, Manchester\, 03104\, United States
CATEGORIES:Expanded Learning Time
ATTACH;FMTTYPE=image/jpeg:https://manchesterproud.org/wp-content/uploads/2024/03/blog-Default-ImageV2.jpg
END:VEVENT
BEGIN:VEVENT
DTSTART;TZID=America/New_York:20250207T100000
DTEND;TZID=America/New_York:20250207T110000
DTSTAMP:20260425T141035
CREATED:20250129T174309Z
LAST-MODIFIED:20250129T174309Z
UID:10000859-1738922400-1738926000@manchesterproud.org
SUMMARY:Baby Storytime
DESCRIPTION:And for our youngest patrons\, 6-23 months\, Baby Storytime will be on Friday mornings at 10:00 am in the Winchell Room This is also a drop in program.  For more information\, please call 624-6550 ext. 7628.
URL:https://manchesterproud.org/the-event/baby-storytime-2/
LOCATION:Manchester City Library\, 405 Pine Street\, Manchester\, 03104\, United States
CATEGORIES:Early Childhood
ATTACH;FMTTYPE=image/jpeg:https://manchesterproud.org/wp-content/uploads/2024/03/blog-Default-ImageV2.jpg
END:VEVENT
BEGIN:VEVENT
DTSTART;TZID=America/New_York:20250206T150000
DTEND;TZID=America/New_York:20250206T163000
DTSTAMP:20260425T141035
CREATED:20250129T174210Z
LAST-MODIFIED:20250129T174210Z
UID:10000858-1738854000-1738859400@manchesterproud.org
SUMMARY:Teen Thursdays
DESCRIPTION:Every Thursday\, come hang out in the Winchell Room after school.  We’ll have snacks\, arts and craft supplies\, Nintendo Switch\, and other games.  One or twice a month we’ll have a special structured craft or activity.  No registration necessary. For teens in grades 6-12. \nCheck the teen website for further details at www.manchesterlibrary.org/teens
URL:https://manchesterproud.org/the-event/teen-thursdays-7/
LOCATION:Manchester City Library\, 405 Pine Street\, Manchester\, 03104\, United States
CATEGORIES:Expanded Learning Time
ATTACH;FMTTYPE=image/jpeg:https://manchesterproud.org/wp-content/uploads/2024/03/blog-Default-ImageV2.jpg
END:VEVENT
BEGIN:VEVENT
DTSTART;TZID=America/New_York:20250206T110000
DTEND;TZID=America/New_York:20250206T120000
DTSTAMP:20260425T141035
CREATED:20250129T174104Z
LAST-MODIFIED:20250129T174104Z
UID:10000857-1738839600-1738843200@manchesterproud.org
SUMMARY:Family Storytime
DESCRIPTION:Family Storytimes for 2-5 years old will meet Thurdays mornings at 10:00 & 11:00 am. These are drop in sessions.  Please attend only one session each week which so everyone can attend this very popular program. All sessions are held in the Winchell Room.   For more information contact the Children’s Room at 603-624-6550 ext 7628
URL:https://manchesterproud.org/the-event/family-storytime-12/
LOCATION:Manchester City Library\, 405 Pine Street\, Manchester\, 03104\, United States
CATEGORIES:Early Childhood
ATTACH;FMTTYPE=image/jpeg:https://manchesterproud.org/wp-content/uploads/2024/03/blog-Default-ImageV2.jpg
END:VEVENT
BEGIN:VEVENT
DTSTART;TZID=America/New_York:20250206T100000
DTEND;TZID=America/New_York:20250206T110000
DTSTAMP:20260425T141035
CREATED:20250129T174012Z
LAST-MODIFIED:20250129T174012Z
UID:10000856-1738836000-1738839600@manchesterproud.org
SUMMARY:Family Storytime
DESCRIPTION:Family Storytimes for 2-5 years old will meet Thurdays mornings at 10:00 & 11:00 am. These are drop in sessions.  Please attend only one session each week which so everyone can attend this very popular program. All sessions are held in the Winchell Room.   For more information contact the Children’s Room at 603-624-6550 ext 7628
URL:https://manchesterproud.org/the-event/family-storytime-11/
LOCATION:Manchester City Library\, 405 Pine Street\, Manchester\, 03104\, United States
CATEGORIES:Early Childhood
ATTACH;FMTTYPE=image/jpeg:https://manchesterproud.org/wp-content/uploads/2024/03/blog-Default-ImageV2.jpg
END:VEVENT
BEGIN:VEVENT
DTSTART;TZID=America/New_York:20250130T110000
DTEND;TZID=America/New_York:20250130T120000
DTSTAMP:20260425T141035
CREATED:20250108T180139Z
LAST-MODIFIED:20250108T180139Z
UID:10000836-1738234800-1738238400@manchesterproud.org
SUMMARY:Family Storytime
DESCRIPTION:Family Storytimes for 2-5 years old will meet Thurdays mornings at 10:00 & 11:00 am. These are drop in sessions.  Please attend only one session each week which so everyone can attend this very popular program. All sessions are held in the Winchell Room.   For more information contact the Children’s Room at 603-624-6550 ext 7628
URL:https://manchesterproud.org/the-event/family-storytime-10/
LOCATION:Manchester City Library\, 405 Pine Street\, Manchester\, 03104\, United States
CATEGORIES:Early Childhood
ATTACH;FMTTYPE=image/jpeg:https://manchesterproud.org/wp-content/uploads/2024/03/blog-Default-ImageV2.jpg
END:VEVENT
BEGIN:VEVENT
DTSTART;TZID=America/New_York:20250130T100000
DTEND;TZID=America/New_York:20250130T110000
DTSTAMP:20260425T141035
CREATED:20250108T180046Z
LAST-MODIFIED:20250108T180046Z
UID:10000835-1738231200-1738234800@manchesterproud.org
SUMMARY:Family Storytime
DESCRIPTION:Family Storytimes for 2-5 years old will meet Thurdays mornings at 10:00 & 11:00 am. These are drop in sessions.  Please attend only one session each week which so everyone can attend this very popular program. All sessions are held in the Winchell Room.   For more information contact the Children’s Room at 603-624-6550 ext 7628
URL:https://manchesterproud.org/the-event/family-storytime-9/
LOCATION:Manchester City Library\, 405 Pine Street\, Manchester\, 03104\, United States
CATEGORIES:Early Childhood
ATTACH;FMTTYPE=image/jpeg:https://manchesterproud.org/wp-content/uploads/2024/03/blog-Default-ImageV2.jpg
END:VEVENT
BEGIN:VEVENT
DTSTART;TZID=America/New_York:20250129T153000
DTEND;TZID=America/New_York:20250129T163000
DTSTAMP:20260425T141035
CREATED:20250108T175946Z
LAST-MODIFIED:20250108T175946Z
UID:10000834-1738164600-1738168200@manchesterproud.org
SUMMARY:Slime of the Month Club
DESCRIPTION:New year\, new club! Do you like making slime or have always want to try it? Anyone in grades 1-6\, sign up to make this month’s slime recipe at the library. This January we will be making a festive Water Bead Slime to celebrate the new year! Register to reserve your bowl at the table! For more information\, call 603-624-6550 ext. 7628
URL:https://manchesterproud.org/the-event/slime-of-the-month-club/
LOCATION:Manchester City Library\, 405 Pine Street\, Manchester\, 03104\, United States
CATEGORIES:Expanded Learning Time
ATTACH;FMTTYPE=image/jpeg:https://manchesterproud.org/wp-content/uploads/2024/03/blog-Default-ImageV2.jpg
END:VEVENT
BEGIN:VEVENT
DTSTART;TZID=America/New_York:20250123T150000
DTEND;TZID=America/New_York:20250123T163000
DTSTAMP:20260425T141035
CREATED:20250108T175833Z
LAST-MODIFIED:20250108T175833Z
UID:10000833-1737644400-1737649800@manchesterproud.org
SUMMARY:Teen Thursdays
DESCRIPTION:Every Thursday\, come hang out in the Winchell Room after school.  We’ll have snacks\, arts and craft supplies\, Nintendo Switch\, and other games.  One or twice a month we’ll have a special structured craft or activity.  Check the teen website for further details at www.manchesterlibrary.org/teens.. For teens in grades 6-12.
URL:https://manchesterproud.org/the-event/teen-thursdays-5/
LOCATION:Manchester City Library\, 405 Pine Street\, Manchester\, 03104\, United States
CATEGORIES:Expanded Learning Time
ATTACH;FMTTYPE=image/jpeg:https://manchesterproud.org/wp-content/uploads/2024/03/blog-Default-ImageV2.jpg
END:VEVENT
BEGIN:VEVENT
DTSTART;TZID=America/New_York:20250123T100000
DTEND;TZID=America/New_York:20250123T110000
DTSTAMP:20260425T141035
CREATED:20250108T175612Z
LAST-MODIFIED:20250108T175612Z
UID:10000831-1737626400-1737630000@manchesterproud.org
SUMMARY:Family Storytime
DESCRIPTION:Family Storytimes for 2-5 years old will meet Thurdays mornings at 10:00 & 11:00 am. These are drop in sessions.  Please attend only one session each week which so everyone can attend this very popular program. All sessions are held in the Winchell Room.   For more information contact the Children’s Room at 603-624-6550 ext 7628
URL:https://manchesterproud.org/the-event/family-storytime-7/
LOCATION:Manchester City Library\, 405 Pine Street\, Manchester\, 03104\, United States
CATEGORIES:Early Childhood
ATTACH;FMTTYPE=image/jpeg:https://manchesterproud.org/wp-content/uploads/2024/03/blog-Default-ImageV2.jpg
END:VEVENT
BEGIN:VEVENT
DTSTART;TZID=America/New_York:20250121T153000
DTEND;TZID=America/New_York:20250121T163000
DTSTAMP:20260425T141036
CREATED:20250108T175501Z
LAST-MODIFIED:20250108T175501Z
UID:10000830-1737473400-1737477000@manchesterproud.org
SUMMARY:Elementary Experiments
DESCRIPTION:In Elementary Experiments anyone grades 1-6 can join us for activities and crafts with a STEAM focus (Science\, Technology\, Engineering\, Arts\, and Math). T This Winter we are having one Elementary Experiments program that we will run two times: one on the second Wednesday and one on the fourth Tuesday. If you cannot come in person\, pick up a craft kit (while supplies last) and check out the video on our Facebook and YouTube pages to follow along! \nIn January we are celebrating Year of the Snake by harnessing vibrations and potential energy for craft stick and paper fireless crackers! Remember to register so we can make sure we have enough supplies.
URL:https://manchesterproud.org/the-event/elementary-experiments-2/
LOCATION:Manchester City Library\, 405 Pine Street\, Manchester\, 03104\, United States
CATEGORIES:Expanded Learning Time
ATTACH;FMTTYPE=image/jpeg:https://manchesterproud.org/wp-content/uploads/2024/03/blog-Default-ImageV2.jpg
END:VEVENT
BEGIN:VEVENT
DTSTART;TZID=America/New_York:20250117T150000
DTEND;TZID=America/New_York:20250117T163000
DTSTAMP:20260425T141036
CREATED:20250108T175338Z
LAST-MODIFIED:20250108T175338Z
UID:10000829-1737126000-1737131400@manchesterproud.org
SUMMARY:Lego Afternoon
DESCRIPTION:Once a month\, come build with the 10\,000 Lego pieces that have been donated by Lego System. This is a drop in session\, no registration is required.  This program is for ages 3-12 years old.  For more information\, please call 624-6550 ext. 7628
URL:https://manchesterproud.org/the-event/lego-afternoon-3/
LOCATION:Manchester City Library\, 405 Pine Street\, Manchester\, 03104\, United States
CATEGORIES:Expanded Learning Time
ATTACH;FMTTYPE=image/jpeg:https://manchesterproud.org/wp-content/uploads/2024/03/blog-Default-ImageV2.jpg
END:VEVENT
BEGIN:VEVENT
DTSTART;TZID=America/New_York:20250116T150000
DTEND;TZID=America/New_York:20250116T163000
DTSTAMP:20260425T141036
CREATED:20250108T175227Z
LAST-MODIFIED:20250108T175227Z
UID:10000828-1737039600-1737045000@manchesterproud.org
SUMMARY:Teen Thursday
DESCRIPTION:Every Thursday\, come hang out in the Winchell Room after school.  We’ll have snacks\, arts and craft supplies\, Nintendo Switch\, and other games.  One or twice a month we’ll have a special structured craft or activity.  Check the teen website for further details at www.manchesterlibrary.org/teens.. For teens in grades 6-12.
URL:https://manchesterproud.org/the-event/teen-thursday/
LOCATION:Manchester City Library\, 405 Pine Street\, Manchester\, 03104\, United States
CATEGORIES:Expanded Learning Time
ATTACH;FMTTYPE=image/jpeg:https://manchesterproud.org/wp-content/uploads/2024/03/blog-Default-ImageV2.jpg
END:VEVENT
BEGIN:VEVENT
DTSTART;TZID=America/New_York:20250116T110000
DTEND;TZID=America/New_York:20250116T120000
DTSTAMP:20260425T141036
CREATED:20250108T175133Z
LAST-MODIFIED:20250108T175133Z
UID:10000827-1737025200-1737028800@manchesterproud.org
SUMMARY:Family Storytime
DESCRIPTION:Family Storytimes for 2-5 years old will meet Thurdays mornings at 10:00 & 11:00 am. These are drop in sessions.  Please attend only one session each week which so everyone can attend this very popular program.  For more information contact Children’s Room at 603-624-6550 ext. 7628
URL:https://manchesterproud.org/the-event/family-storytime-6/
LOCATION:Manchester City Library\, 405 Pine Street\, Manchester\, 03104\, United States
CATEGORIES:Early Childhood
ATTACH;FMTTYPE=image/jpeg:https://manchesterproud.org/wp-content/uploads/2024/03/blog-Default-ImageV2.jpg
END:VEVENT
BEGIN:VEVENT
DTSTART;TZID=America/New_York:20250116T100000
DTEND;TZID=America/New_York:20250116T110000
DTSTAMP:20260425T141036
CREATED:20250108T175019Z
LAST-MODIFIED:20250108T175019Z
UID:10000826-1737021600-1737025200@manchesterproud.org
SUMMARY:Family Storytime
DESCRIPTION:Family Storytimes for 2-5 years old will meet Thurdays mornings at 10:00 & 11:00 am. These are drop in sessions.  Please attend only one session each week which so everyone can attend this very popular program.  For more information contact Children’s Room at 603-624-6550 ext. 7628
URL:https://manchesterproud.org/the-event/family-storytime-5/
LOCATION:Manchester City Library\, 405 Pine Street\, Manchester\, 03104\, United States
CATEGORIES:Early Childhood
ATTACH;FMTTYPE=image/jpeg:https://manchesterproud.org/wp-content/uploads/2024/03/blog-Default-ImageV2.jpg
END:VEVENT
BEGIN:VEVENT
DTSTART;TZID=America/New_York:20250115T173000
DTEND;TZID=America/New_York:20250115T193000
DTSTAMP:20260425T141036
CREATED:20250108T174918Z
LAST-MODIFIED:20250108T174918Z
UID:10000825-1736962200-1736969400@manchesterproud.org
SUMMARY:Teen Movie & Pizza Night
DESCRIPTION:Come for a movie and pizza in the auditorium\, where we’ll watch a teen movie on the big screen. For teens in grades 6 – 12. \nRegistration in advance is requested to help us plan. If you have food allergies or restrictions\, let us know when you register or email Dori ahead of time at mclyouthservices@manchesternh.gov.  Please feel free to also email with movie suggestions you would like to watch! \nVisit the Teen Services website at www.manchesterlibrary.org/teens  for movie updates.
URL:https://manchesterproud.org/the-event/teen-movie-pizza-night-3/
LOCATION:Manchester City Library\, 405 Pine Street\, Manchester\, 03104\, United States
CATEGORIES:Expanded Learning Time
ATTACH;FMTTYPE=image/jpeg:https://manchesterproud.org/wp-content/uploads/2024/03/blog-Default-ImageV2.jpg
END:VEVENT
BEGIN:VEVENT
DTSTART;TZID=America/New_York:20250115T100000
DTEND;TZID=America/New_York:20250115T110000
DTSTAMP:20260425T141036
CREATED:20250108T174613Z
LAST-MODIFIED:20250108T174613Z
UID:10000823-1736935200-1736938800@manchesterproud.org
SUMMARY:Storytime Science
DESCRIPTION:The Children’s Room staff are excited to announce our Storytime program with SEE Science Center.  Once a month\, kids ages 2-6 years old are invited to join Ms. Yvonne and Ms. Becky from the SEE Science Center for Storytime Science.  This storytime is based on a Stem/Steam theme with hands-on activities afterwards. Registration will be required to make sure that we have enough materials for everyone. Storytime Science is a program of the SEE Science Center’s First Steps in Science Initiative presented by Dartmouth Health Childrens. This program is a great way to introduce our youngest patrons to fun STEM/STEAM hands on activities. For more information\, please call 603-624-6550 ext. 7628
URL:https://manchesterproud.org/the-event/storytime-science-2/
LOCATION:Manchester City Library\, 405 Pine Street\, Manchester\, 03104\, United States
CATEGORIES:Early Childhood
ATTACH;FMTTYPE=image/jpeg:https://manchesterproud.org/wp-content/uploads/2024/03/blog-Default-ImageV2.jpg
END:VEVENT
BEGIN:VEVENT
DTSTART;TZID=America/New_York:20250109T150000
DTEND;TZID=America/New_York:20250109T160000
DTSTAMP:20260425T141036
CREATED:20250108T174739Z
LAST-MODIFIED:20250108T174739Z
UID:10000824-1736434800-1736438400@manchesterproud.org
SUMMARY:Teen Thursdays
DESCRIPTION:Every Thursday\, come hang out in the Winchell Room after school.  We’ll have snacks\, arts and craft supplies\, Nintendo Switch\, and other games.  One or twice a month we’ll have a special structured craft or activity.  Check the teen website for further details at www.manchesterlibrary.org/teens.. For teens in grades 6-12.
URL:https://manchesterproud.org/the-event/teen-thursdays-4/
LOCATION:Manchester City Library\, 405 Pine Street\, Manchester\, 03104\, United States
CATEGORIES:Expanded Learning Time
ATTACH;FMTTYPE=image/jpeg:https://manchesterproud.org/wp-content/uploads/2024/03/blog-Default-ImageV2.jpg
END:VEVENT
BEGIN:VEVENT
DTSTART;TZID=America/New_York:20250109T110000
DTEND;TZID=America/New_York:20250109T120000
DTSTAMP:20260425T141036
CREATED:20250108T174113Z
LAST-MODIFIED:20250108T174113Z
UID:10000822-1736420400-1736424000@manchesterproud.org
SUMMARY:Family Storytime
DESCRIPTION:Family Storytimes for 2-5 years old will meet Thurdays mornings at 10:00 & 11:00 am. These are drop in sessions.  Please attend only one session each week which so everyone can attend this very popular program.  For more information contact the Children’s Room at 603-624-6550 ext 7628
URL:https://manchesterproud.org/the-event/family-storytime-4/
LOCATION:Manchester City Library\, 405 Pine Street\, Manchester\, 03104\, United States
CATEGORIES:Expanded Learning Time
ATTACH;FMTTYPE=image/jpeg:https://manchesterproud.org/wp-content/uploads/2024/03/blog-Default-ImageV2.jpg
END:VEVENT
BEGIN:VEVENT
DTSTART;TZID=America/New_York:20250109T100000
DTEND;TZID=America/New_York:20250109T110000
DTSTAMP:20260425T141036
CREATED:20250108T173955Z
LAST-MODIFIED:20250108T173955Z
UID:10000821-1736416800-1736420400@manchesterproud.org
SUMMARY:Family Storytime
DESCRIPTION:Family Storytimes for 2-5 years old will meet Thurdays mornings at 10:00 & 11:00 am. These are drop in sessions.  Please attend only one session each week which so everyone can attend this very popular program.  For more information contact the Children’s Room at 603-624-6550 ext 7628
URL:https://manchesterproud.org/the-event/family-storytime-3/
LOCATION:Manchester City Library\, 405 Pine Street\, Manchester\, 03104\, United States
CATEGORIES:Expanded Learning Time
ATTACH;FMTTYPE=image/jpeg:https://manchesterproud.org/wp-content/uploads/2024/03/blog-Default-ImageV2.jpg
END:VEVENT
BEGIN:VEVENT
DTSTART;TZID=America/New_York:20241227T130000
DTEND;TZID=America/New_York:20241227T150000
DTSTAMP:20260425T141036
CREATED:20241125T161639Z
LAST-MODIFIED:20241125T161639Z
UID:10000768-1735304400-1735311600@manchesterproud.org
SUMMARY:Lego Afternoon
DESCRIPTION:On Friday\, December 27th\, from 1:00 pm to 3:00 pm\, you can drop by the Winchell Room and build a Lego creation with our 10\,000 pieces of Legos.  All creations will be on display in the children’s room for everyone to enjoy.  This program is for ages 3-12 years old.  For more information\, please call 624-6550 ext. 7628.
URL:https://manchesterproud.org/the-event/lego-afternoon-2/
LOCATION:Manchester City Library\, 405 Pine Street\, Manchester\, 03104\, United States
CATEGORIES:Early Childhood,Expanded Learning Time
ATTACH;FMTTYPE=image/jpeg:https://manchesterproud.org/wp-content/uploads/2024/03/blog-Default-ImageV2.jpg
END:VEVENT
BEGIN:VEVENT
DTSTART;TZID=America/New_York:20241219T150000
DTEND;TZID=America/New_York:20241219T163000
DTSTAMP:20260425T141036
CREATED:20241125T161534Z
LAST-MODIFIED:20241125T161534Z
UID:10000767-1734620400-1734625800@manchesterproud.org
SUMMARY:Teen Thursdays
DESCRIPTION:Every Thursday\, come hang out in the Winchell Room after school. We’ll have snacks\, arts and craft supplies\, Nintendo Switch\, and other games. Once or twice a month we’ll have a special structured craft or activity. Check the teen website for details at www.manchesterlibrary.org/teens . For teens in grades 6 – 12. For more information\, please call 603-624-6550 ext. 7628.
URL:https://manchesterproud.org/the-event/teen-thursdays-3/
LOCATION:Manchester City Library\, 405 Pine Street\, Manchester\, 03104\, United States
CATEGORIES:Expanded Learning Time
ATTACH;FMTTYPE=image/jpeg:https://manchesterproud.org/wp-content/uploads/2024/03/blog-Default-ImageV2.jpg
END:VEVENT
END:VCALENDAR