BEGIN:VCALENDAR
VERSION:2.0
PRODID:-//Manchester Proud - ECPv6.15.17.1//NONSGML v1.0//EN
CALSCALE:GREGORIAN
METHOD:PUBLISH
X-ORIGINAL-URL:https://manchesterproud.org
X-WR-CALDESC:Events for Manchester Proud
REFRESH-INTERVAL;VALUE=DURATION:PT1H
X-Robots-Tag:noindex
X-PUBLISHED-TTL:PT1H
BEGIN:VTIMEZONE
TZID:America/New_York
BEGIN:DAYLIGHT
TZOFFSETFROM:-0500
TZOFFSETTO:-0400
TZNAME:EDT
DTSTART:20230312T070000
END:DAYLIGHT
BEGIN:STANDARD
TZOFFSETFROM:-0400
TZOFFSETTO:-0500
TZNAME:EST
DTSTART:20231105T060000
END:STANDARD
BEGIN:DAYLIGHT
TZOFFSETFROM:-0500
TZOFFSETTO:-0400
TZNAME:EDT
DTSTART:20240310T070000
END:DAYLIGHT
BEGIN:STANDARD
TZOFFSETFROM:-0400
TZOFFSETTO:-0500
TZNAME:EST
DTSTART:20241103T060000
END:STANDARD
BEGIN:DAYLIGHT
TZOFFSETFROM:-0500
TZOFFSETTO:-0400
TZNAME:EDT
DTSTART:20250309T070000
END:DAYLIGHT
BEGIN:STANDARD
TZOFFSETFROM:-0400
TZOFFSETTO:-0500
TZNAME:EST
DTSTART:20251102T060000
END:STANDARD
END:VTIMEZONE
BEGIN:VEVENT
DTSTART;TZID=America/New_York:20241122T100000
DTEND;TZID=America/New_York:20241122T104500
DTSTAMP:20260425T214347
CREATED:20241118T160749Z
LAST-MODIFIED:20241118T160749Z
UID:10000749-1732269600-1732272300@manchesterproud.org
SUMMARY:Baby Storytime
DESCRIPTION:Join Ms. Karyn for interactive stories\, shaker eggs and of course bubbles! There is a playtime afterwards. This storytime is for 6-24 months and will meet on Friday mornings at 10am. For more information contact Children’s at 603-624-6550 ext. 7628.
URL:https://manchesterproud.org/the-event/baby-storytime/
LOCATION:Manchester City Library\, 405 Pine Street\, Manchester\, 03104\, United States
CATEGORIES:Early Childhood
ATTACH;FMTTYPE=image/jpeg:https://manchesterproud.org/wp-content/uploads/2024/03/blog-Default-ImageV2.jpg
END:VEVENT
BEGIN:VEVENT
DTSTART;TZID=America/New_York:20241121T150000
DTEND;TZID=America/New_York:20241121T163000
DTSTAMP:20260425T214347
CREATED:20241118T160655Z
LAST-MODIFIED:20241118T160655Z
UID:10000748-1732201200-1732206600@manchesterproud.org
SUMMARY:Teen Thursdays
DESCRIPTION:Every Thursday\, come hang out in the Winchell Room after school. We’ll have snacks\, arts and craft supplies\, Nintendo Switch\, and other games. Once or twice a month we’ll have a special structured craft or activity. Check the teen website for details at www.manchesterlibrary.org/teens . For teens in grades 6 – 12. For more information\, please call 603-624-6550 ext. 7628.
URL:https://manchesterproud.org/the-event/teen-thursdays/
LOCATION:Manchester City Library\, 405 Pine Street\, Manchester\, 03104\, United States
CATEGORIES:Expanded Learning Time
ATTACH;FMTTYPE=image/jpeg:https://manchesterproud.org/wp-content/uploads/2024/03/blog-Default-ImageV2.jpg
END:VEVENT
BEGIN:VEVENT
DTSTART;TZID=America/New_York:20241121T110000
DTEND;TZID=America/New_York:20241121T114500
DTSTAMP:20260425T214347
CREATED:20241118T160610Z
LAST-MODIFIED:20241118T160610Z
UID:10000747-1732186800-1732189500@manchesterproud.org
SUMMARY:Family Storytime
DESCRIPTION:These are drop in sessions. Please attend only one session each week so everyone can attend this very popular program. This is for 2-5 year olds. For more information contact Children’s at 603-624-6550 ext 7628.
URL:https://manchesterproud.org/the-event/family-storytime-2/
LOCATION:Manchester City Library\, 405 Pine Street\, Manchester\, 03104\, United States
CATEGORIES:Early Childhood
ATTACH;FMTTYPE=image/jpeg:https://manchesterproud.org/wp-content/uploads/2024/03/blog-Default-ImageV2.jpg
END:VEVENT
BEGIN:VEVENT
DTSTART;TZID=America/New_York:20241121T100000
DTEND;TZID=America/New_York:20241121T110000
DTSTAMP:20260425T214347
CREATED:20241118T160506Z
LAST-MODIFIED:20241118T160506Z
UID:10000746-1732183200-1732186800@manchesterproud.org
SUMMARY:Family Storytime
DESCRIPTION:These are drop in sessions. Please attend only one session each week so everyone can attend this very popular program. This is for 2-5 year olds. For more information contact Children’s at 603-624-6550 ext 7628.
URL:https://manchesterproud.org/the-event/family-storytime/
LOCATION:Manchester City Library\, 405 Pine Street\, Manchester\, 03104\, United States
CATEGORIES:Early Childhood
ATTACH;FMTTYPE=image/jpeg:https://manchesterproud.org/wp-content/uploads/2024/03/blog-Default-ImageV2.jpg
END:VEVENT
BEGIN:VEVENT
DTSTART;TZID=America/New_York:20241120T173000
DTEND;TZID=America/New_York:20241120T200000
DTSTAMP:20260425T214347
CREATED:20241118T160345Z
LAST-MODIFIED:20241118T160345Z
UID:10000745-1732123800-1732132800@manchesterproud.org
SUMMARY:Teen Movie & Pizza Night
DESCRIPTION:Come for a movie and pizza in the auditorium\, where we’ll watch a teen movie on the big screen. For teens in grades 6 – 12. \nRegistration in advance is requested to help us plan. If you have food allergies or restrictions\, let us know when you register or email Dori ahead of time at mclyouthservices@manchesternh.gov.  Please feel free to also email with movie suggestions you would like to watch! \nVisit the Teen Services website at www.manchesterlibrary.org/teens for movie updates.
URL:https://manchesterproud.org/the-event/teen-movie-pizza-night/
LOCATION:Manchester City Library\, 405 Pine Street\, Manchester\, 03104\, United States
ATTACH;FMTTYPE=image/jpeg:https://manchesterproud.org/wp-content/uploads/2024/03/blog-Default-ImageV2.jpg
END:VEVENT
BEGIN:VEVENT
DTSTART;TZID=America/New_York:20241120T153000
DTEND;TZID=America/New_York:20241120T163000
DTSTAMP:20260425T214347
CREATED:20241118T160228Z
LAST-MODIFIED:20241118T160228Z
UID:10000744-1732116600-1732120200@manchesterproud.org
SUMMARY:Junior Author Workshop
DESCRIPTION:Hey kids in grades 3-8! Do you like to make up stories? Come once a month to these fun sessions and write\, draw\, share\, and/or help other participants.There will be opportunities to write stories\, draw comic strips\, and meet other kids.The library will supply materials to get things started.You can do your own thing or use any of the ideas provided.This is writing just for the fun of it! The focus will be on stretching your imagination and providing ideas and tips on writing. Unless requested\, editing will be minimal. Check out the flyer on the library Facebook page. Registration is recommended.For more information\, please call 603-624-6550 ext. 7628.
URL:https://manchesterproud.org/the-event/junior-author-workshop/
LOCATION:Manchester City Library\, 405 Pine Street\, Manchester\, 03104\, United States
CATEGORIES:Expanded Learning Time
ATTACH;FMTTYPE=image/jpeg:https://manchesterproud.org/wp-content/uploads/2024/03/blog-Default-ImageV2.jpg
END:VEVENT
BEGIN:VEVENT
DTSTART;TZID=America/New_York:20241119T160000
DTEND;TZID=America/New_York:20241119T193000
DTSTAMP:20260425T214347
CREATED:20241118T160018Z
LAST-MODIFIED:20241118T160018Z
UID:10000742-1732032000-1732044600@manchesterproud.org
SUMMARY:Family Game Night
DESCRIPTION:Drop by the children’s room for Family Game Night. We will have different board games and puzzles for families to enjoy as you browse fro books.  For more information\, please call 603-624-6550 ext. 7628.
URL:https://manchesterproud.org/the-event/family-game-night/
LOCATION:Manchester City Library\, 405 Pine Street\, Manchester\, 03104\, United States
ATTACH;FMTTYPE=image/jpeg:https://manchesterproud.org/wp-content/uploads/2024/03/blog-Default-ImageV2.jpg
END:VEVENT
BEGIN:VEVENT
DTSTART;TZID=America/New_York:20241119T100000
DTEND;TZID=America/New_York:20241119T110000
DTSTAMP:20260425T214347
CREATED:20241118T155911Z
LAST-MODIFIED:20241118T155911Z
UID:10000741-1732010400-1732014000@manchesterproud.org
SUMMARY:Pigeon Party!
DESCRIPTION:We are taking a trip with Pigeon driving the bus! Join us on Tuesday\, November 19\, 2024 at 10:00 am in the Winchell Room as we celebrate Pigeon and Duckling with stories\, games and a fun make and take craft.  This program is for children 1 to 5 years old. Registration is requested to make sure that we have enough supplies prepared for all.  For more information\, please call 624-6550 ext. 7628.
URL:https://manchesterproud.org/the-event/pigeon-party/
LOCATION:Manchester City Library\, 405 Pine Street\, Manchester\, 03104\, United States
CATEGORIES:Early Childhood
ATTACH;FMTTYPE=image/jpeg:https://manchesterproud.org/wp-content/uploads/2024/03/blog-Default-ImageV2.jpg
END:VEVENT
BEGIN:VEVENT
DTSTART;TZID=America/New_York:20240910T153000
DTEND;TZID=America/New_York:20240910T170000
DTSTAMP:20260425T214347
CREATED:20240905T143900Z
LAST-MODIFIED:20240905T143900Z
UID:10000712-1725982200-1725987600@manchesterproud.org
SUMMARY:STEM-MoBILE Visit
DESCRIPTION:Stop by the Manchester City Library and take a short tour of the STEM-MoBILE. Try hands-on activities/experiments and interact with the lab equipment onboard. \n  \nFor more information\, call 603.624.6550 ext. 7628
URL:https://manchesterproud.org/the-event/stem-mobile-visit/
LOCATION:Manchester City Library\, 405 Pine Street\, Manchester\, 03104\, United States
CATEGORIES:Career Connected Learning,Expanded Learning Time
ATTACH;FMTTYPE=image/jpeg:https://manchesterproud.org/wp-content/uploads/2024/03/blog-Default-ImageV2.jpg
END:VEVENT
BEGIN:VEVENT
DTSTART;TZID=America/New_York:20240816T130000
DTEND;TZID=America/New_York:20240816T140000
DTSTAMP:20260425T214347
CREATED:20240717T152946Z
LAST-MODIFIED:20240717T152946Z
UID:10000523-1723813200-1723816800@manchesterproud.org
SUMMARY:Mystery Afternoon
DESCRIPTION:Lego Program. Special guest; Manchester Millyard. All ages. \nProgram Contact Information: \nKaryn Isleb \nkisleb@manchesternh.gov \n603-624-6550 ext. 7628
URL:https://manchesterproud.org/the-event/mystery-afternoon/2024-08-16/
LOCATION:Manchester City Library\, 405 Pine Street\, Manchester\, 03104\, United States
ATTACH;FMTTYPE=image/jpeg:https://manchesterproud.org/wp-content/uploads/2024/03/blog-Default-ImageV2.jpg
END:VEVENT
BEGIN:VEVENT
DTSTART;TZID=America/New_York:20240813T130000
DTEND;TZID=America/New_York:20240813T140000
DTSTAMP:20260425T214347
CREATED:20240717T152946Z
LAST-MODIFIED:20240717T152946Z
UID:10000522-1723554000-1723557600@manchesterproud.org
SUMMARY:Mystery Afternoon
DESCRIPTION:Lego Program. Special guest; Manchester Millyard. All ages. \nProgram Contact Information: \nKaryn Isleb \nkisleb@manchesternh.gov \n603-624-6550 ext. 7628
URL:https://manchesterproud.org/the-event/mystery-afternoon/2024-08-13/
LOCATION:Manchester City Library\, 405 Pine Street\, Manchester\, 03104\, United States
ATTACH;FMTTYPE=image/jpeg:https://manchesterproud.org/wp-content/uploads/2024/03/blog-Default-ImageV2.jpg
END:VEVENT
BEGIN:VEVENT
DTSTART;TZID=America/New_York:20240807T173000
DTEND;TZID=America/New_York:20240807T200000
DTSTAMP:20260425T214347
CREATED:20240701T203428Z
LAST-MODIFIED:20240701T203428Z
UID:10000400-1723051800-1723060800@manchesterproud.org
SUMMARY:Teen Movie and Pizza Night
DESCRIPTION:Join us for a movie and pizza in the auditorium\, where we’ll watch a teen movie on the big screen. Movie selection to be determined
URL:https://manchesterproud.org/the-event/teen-movie-and-pizza-night/
LOCATION:Manchester City Library\, 405 Pine Street\, Manchester\, 03104\, United States
CATEGORIES:Expanded Learning Time
ATTACH;FMTTYPE=image/jpeg:https://manchesterproud.org/wp-content/uploads/2024/03/blog-Default-ImageV2.jpg
END:VEVENT
BEGIN:VEVENT
DTSTART;TZID=America/New_York:20240807T150000
DTEND;TZID=America/New_York:20240807T160000
DTSTAMP:20260425T214347
CREATED:20240717T153319Z
LAST-MODIFIED:20240717T154332Z
UID:10000583-1723042800-1723046400@manchesterproud.org
SUMMARY:Adventure Camp
DESCRIPTION:Learn skills for thriving in different type of adventure. Grade 1-6. Registration required. \nProgram Contact Information: \nYvonne Freebourn \nyfreebourn@manchesternh.gov \n603-624-6550 ext. 7628
URL:https://manchesterproud.org/the-event/adventure-camp/2024-08-07/
LOCATION:Manchester City Library\, 405 Pine Street\, Manchester\, 03104\, United States
ATTACH;FMTTYPE=image/jpeg:https://manchesterproud.org/wp-content/uploads/2024/03/blog-Default-ImageV2.jpg
END:VEVENT
BEGIN:VEVENT
DTSTART;TZID=America/New_York:20240807T100000
DTEND;TZID=America/New_York:20240807T110000
DTSTAMP:20260425T214347
CREATED:20240717T153140Z
LAST-MODIFIED:20240717T154500Z
UID:10000527-1723024800-1723028400@manchesterproud.org
SUMMARY:Tabletop Capers
DESCRIPTION:Learning a new board game. Grades 2-6. \nProgram Contact Information: \nYvonne Freebourn \nyfreebourn@manchesternh.gov \n603-624-6550 ext. 7628
URL:https://manchesterproud.org/the-event/tabletop-capers/2024-08-07/
LOCATION:Manchester City Library\, 405 Pine Street\, Manchester\, 03104\, United States
ATTACH;FMTTYPE=image/jpeg:https://manchesterproud.org/wp-content/uploads/2024/03/blog-Default-ImageV2.jpg
END:VEVENT
BEGIN:VEVENT
DTSTART;TZID=America/New_York:20240806T150000
DTEND;TZID=America/New_York:20240806T160000
DTSTAMP:20260425T214347
CREATED:20240717T152714Z
LAST-MODIFIED:20240717T152714Z
UID:10000520-1722956400-1722960000@manchesterproud.org
SUMMARY:Elementary Experiments
DESCRIPTION:STEM Activities. Grades 1-6. Must register ahead of time. \nProgram Contact Information: \nYvonne Freebourn \nyfreebourn@manchesternh.gov \n603-624-6550 ext. 7628
URL:https://manchesterproud.org/the-event/elementary-experiments/2024-08-06/
LOCATION:Manchester City Library\, 405 Pine Street\, Manchester\, 03104\, United States
ATTACH;FMTTYPE=image/jpeg:https://manchesterproud.org/wp-content/uploads/2024/03/blog-Default-ImageV2.jpg
END:VEVENT
BEGIN:VEVENT
DTSTART;TZID=America/New_York:20240805T093000
DTEND;TZID=America/New_York:20240805T110000
DTSTAMP:20260425T214347
CREATED:20240717T151958Z
LAST-MODIFIED:20240717T153947Z
UID:10000466-1722850200-1722855600@manchesterproud.org
SUMMARY:Adventure Begins at Your Library Escape Room
DESCRIPTION:Different genre each week. Grades 3-12 \n  \nProgram Contact Information: \nYvonne Freebourn \nyfreebourn@manchesternh.gov \n603-624-6550 ext. 7628
URL:https://manchesterproud.org/the-event/adventure-begins-at-your-library-escape-room/2024-08-05/
LOCATION:Manchester City Library\, 405 Pine Street\, Manchester\, 03104\, United States
CATEGORIES:Expanded Learning Time
ATTACH;FMTTYPE=image/jpeg:https://manchesterproud.org/wp-content/uploads/2024/03/blog-Default-ImageV2.jpg
END:VEVENT
BEGIN:VEVENT
DTSTART;TZID=America/New_York:20240802T150000
DTEND;TZID=America/New_York:20240802T163000
DTSTAMP:20260425T214347
CREATED:20240717T153449Z
LAST-MODIFIED:20240717T154144Z
UID:10000638-1722610800-1722616200@manchesterproud.org
SUMMARY:Lego Quests
DESCRIPTION:Weekly drop in program with 10\,000 Lego pieces. Preschool to Grade 2 \nProgram Contact Information: \nChildren’s Staff \n603-624-6550 ext. 7628
URL:https://manchesterproud.org/the-event/lego-quests/2024-08-02/
LOCATION:Manchester City Library\, 405 Pine Street\, Manchester\, 03104\, United States
ATTACH;FMTTYPE=image/jpeg:https://manchesterproud.org/wp-content/uploads/2024/03/blog-Default-ImageV2.jpg
END:VEVENT
BEGIN:VEVENT
DTSTART;TZID=America/New_York:20240731T150000
DTEND;TZID=America/New_York:20240731T160000
DTSTAMP:20260425T214347
CREATED:20240717T153319Z
LAST-MODIFIED:20240717T154332Z
UID:10000582-1722438000-1722441600@manchesterproud.org
SUMMARY:Adventure Camp
DESCRIPTION:Learn skills for thriving in different type of adventure. Grade 1-6. Registration required. \nProgram Contact Information: \nYvonne Freebourn \nyfreebourn@manchesternh.gov \n603-624-6550 ext. 7628
URL:https://manchesterproud.org/the-event/adventure-camp/2024-07-31/
LOCATION:Manchester City Library\, 405 Pine Street\, Manchester\, 03104\, United States
ATTACH;FMTTYPE=image/jpeg:https://manchesterproud.org/wp-content/uploads/2024/03/blog-Default-ImageV2.jpg
END:VEVENT
BEGIN:VEVENT
DTSTART;TZID=America/New_York:20240731T100000
DTEND;TZID=America/New_York:20240731T110000
DTSTAMP:20260425T214347
CREATED:20240717T153140Z
LAST-MODIFIED:20240717T154500Z
UID:10000526-1722420000-1722423600@manchesterproud.org
SUMMARY:Tabletop Capers
DESCRIPTION:Learning a new board game. Grades 2-6. \nProgram Contact Information: \nYvonne Freebourn \nyfreebourn@manchesternh.gov \n603-624-6550 ext. 7628
URL:https://manchesterproud.org/the-event/tabletop-capers/2024-07-31/
LOCATION:Manchester City Library\, 405 Pine Street\, Manchester\, 03104\, United States
ATTACH;FMTTYPE=image/jpeg:https://manchesterproud.org/wp-content/uploads/2024/03/blog-Default-ImageV2.jpg
END:VEVENT
BEGIN:VEVENT
DTSTART;TZID=America/New_York:20240730T130000
DTEND;TZID=America/New_York:20240730T140000
DTSTAMP:20260425T214347
CREATED:20240717T152946Z
LAST-MODIFIED:20240717T152946Z
UID:10000521-1722344400-1722348000@manchesterproud.org
SUMMARY:Mystery Afternoon
DESCRIPTION:Lego Program. Special guest; Manchester Millyard. All ages. \nProgram Contact Information: \nKaryn Isleb \nkisleb@manchesternh.gov \n603-624-6550 ext. 7628
URL:https://manchesterproud.org/the-event/mystery-afternoon/2024-07-30/
LOCATION:Manchester City Library\, 405 Pine Street\, Manchester\, 03104\, United States
ATTACH;FMTTYPE=image/jpeg:https://manchesterproud.org/wp-content/uploads/2024/03/blog-Default-ImageV2.jpg
END:VEVENT
BEGIN:VEVENT
DTSTART;TZID=America/New_York:20240729T093000
DTEND;TZID=America/New_York:20240729T110000
DTSTAMP:20260425T214347
CREATED:20240717T151958Z
LAST-MODIFIED:20240717T153947Z
UID:10000465-1722245400-1722250800@manchesterproud.org
SUMMARY:Adventure Begins at Your Library Escape Room
DESCRIPTION:Different genre each week. Grades 3-12 \n  \nProgram Contact Information: \nYvonne Freebourn \nyfreebourn@manchesternh.gov \n603-624-6550 ext. 7628
URL:https://manchesterproud.org/the-event/adventure-begins-at-your-library-escape-room/2024-07-29/
LOCATION:Manchester City Library\, 405 Pine Street\, Manchester\, 03104\, United States
CATEGORIES:Expanded Learning Time
ATTACH;FMTTYPE=image/jpeg:https://manchesterproud.org/wp-content/uploads/2024/03/blog-Default-ImageV2.jpg
END:VEVENT
BEGIN:VEVENT
DTSTART;TZID=America/New_York:20240726T150000
DTEND;TZID=America/New_York:20240726T163000
DTSTAMP:20260425T214347
CREATED:20240717T153449Z
LAST-MODIFIED:20240717T154144Z
UID:10000637-1722006000-1722011400@manchesterproud.org
SUMMARY:Lego Quests
DESCRIPTION:Weekly drop in program with 10\,000 Lego pieces. Preschool to Grade 2 \nProgram Contact Information: \nChildren’s Staff \n603-624-6550 ext. 7628
URL:https://manchesterproud.org/the-event/lego-quests/2024-07-26/
LOCATION:Manchester City Library\, 405 Pine Street\, Manchester\, 03104\, United States
ATTACH;FMTTYPE=image/jpeg:https://manchesterproud.org/wp-content/uploads/2024/03/blog-Default-ImageV2.jpg
END:VEVENT
BEGIN:VEVENT
DTSTART;TZID=America/New_York:20240724T150000
DTEND;TZID=America/New_York:20240724T160000
DTSTAMP:20260425T214347
CREATED:20240717T153319Z
LAST-MODIFIED:20240717T154332Z
UID:10000581-1721833200-1721836800@manchesterproud.org
SUMMARY:Adventure Camp
DESCRIPTION:Learn skills for thriving in different type of adventure. Grade 1-6. Registration required. \nProgram Contact Information: \nYvonne Freebourn \nyfreebourn@manchesternh.gov \n603-624-6550 ext. 7628
URL:https://manchesterproud.org/the-event/adventure-camp/2024-07-24/
LOCATION:Manchester City Library\, 405 Pine Street\, Manchester\, 03104\, United States
ATTACH;FMTTYPE=image/jpeg:https://manchesterproud.org/wp-content/uploads/2024/03/blog-Default-ImageV2.jpg
END:VEVENT
BEGIN:VEVENT
DTSTART;TZID=America/New_York:20240724T100000
DTEND;TZID=America/New_York:20240724T110000
DTSTAMP:20260425T214347
CREATED:20240717T153140Z
LAST-MODIFIED:20240717T154500Z
UID:10000525-1721815200-1721818800@manchesterproud.org
SUMMARY:Tabletop Capers
DESCRIPTION:Learning a new board game. Grades 2-6. \nProgram Contact Information: \nYvonne Freebourn \nyfreebourn@manchesternh.gov \n603-624-6550 ext. 7628
URL:https://manchesterproud.org/the-event/tabletop-capers/2024-07-24/
LOCATION:Manchester City Library\, 405 Pine Street\, Manchester\, 03104\, United States
ATTACH;FMTTYPE=image/jpeg:https://manchesterproud.org/wp-content/uploads/2024/03/blog-Default-ImageV2.jpg
END:VEVENT
BEGIN:VEVENT
DTSTART;TZID=America/New_York:20240723T150000
DTEND;TZID=America/New_York:20240723T160000
DTSTAMP:20260425T214347
CREATED:20240717T152714Z
LAST-MODIFIED:20240717T152714Z
UID:10000519-1721746800-1721750400@manchesterproud.org
SUMMARY:Elementary Experiments
DESCRIPTION:STEM Activities. Grades 1-6. Must register ahead of time. \nProgram Contact Information: \nYvonne Freebourn \nyfreebourn@manchesternh.gov \n603-624-6550 ext. 7628
URL:https://manchesterproud.org/the-event/elementary-experiments/2024-07-23/
LOCATION:Manchester City Library\, 405 Pine Street\, Manchester\, 03104\, United States
ATTACH;FMTTYPE=image/jpeg:https://manchesterproud.org/wp-content/uploads/2024/03/blog-Default-ImageV2.jpg
END:VEVENT
BEGIN:VEVENT
DTSTART;TZID=America/New_York:20240722T093000
DTEND;TZID=America/New_York:20240722T110000
DTSTAMP:20260425T214347
CREATED:20240717T151958Z
LAST-MODIFIED:20240717T153947Z
UID:10000464-1721640600-1721646000@manchesterproud.org
SUMMARY:Adventure Begins at Your Library Escape Room
DESCRIPTION:Different genre each week. Grades 3-12 \n  \nProgram Contact Information: \nYvonne Freebourn \nyfreebourn@manchesternh.gov \n603-624-6550 ext. 7628
URL:https://manchesterproud.org/the-event/adventure-begins-at-your-library-escape-room/2024-07-22/
LOCATION:Manchester City Library\, 405 Pine Street\, Manchester\, 03104\, United States
CATEGORIES:Expanded Learning Time
ATTACH;FMTTYPE=image/jpeg:https://manchesterproud.org/wp-content/uploads/2024/03/blog-Default-ImageV2.jpg
END:VEVENT
BEGIN:VEVENT
DTSTART;TZID=America/New_York:20240719T150000
DTEND;TZID=America/New_York:20240719T163000
DTSTAMP:20260425T214347
CREATED:20240717T153449Z
LAST-MODIFIED:20240717T154144Z
UID:10000636-1721401200-1721406600@manchesterproud.org
SUMMARY:Lego Quests
DESCRIPTION:Weekly drop in program with 10\,000 Lego pieces. Preschool to Grade 2 \nProgram Contact Information: \nChildren’s Staff \n603-624-6550 ext. 7628
URL:https://manchesterproud.org/the-event/lego-quests/2024-07-19/
LOCATION:Manchester City Library\, 405 Pine Street\, Manchester\, 03104\, United States
ATTACH;FMTTYPE=image/jpeg:https://manchesterproud.org/wp-content/uploads/2024/03/blog-Default-ImageV2.jpg
END:VEVENT
BEGIN:VEVENT
DTSTART;TZID=America/New_York:20240717T173000
DTEND;TZID=America/New_York:20240717T194500
DTSTAMP:20260425T214347
CREATED:20240701T204021Z
LAST-MODIFIED:20240701T204021Z
UID:10000401-1721237400-1721245500@manchesterproud.org
SUMMARY:Teen Anime and Pizza Night
DESCRIPTION:Come for anime and pizza in the auditorium\, where we’ll watch a few episodes of anime on the big screen. Age 12-18.
URL:https://manchesterproud.org/the-event/teen-anime-and-pizza-night/
LOCATION:Manchester City Library\, 405 Pine Street\, Manchester\, 03104\, United States
CATEGORIES:Expanded Learning Time
ATTACH;FMTTYPE=image/jpeg:https://manchesterproud.org/wp-content/uploads/2024/03/blog-Default-ImageV2.jpg
END:VEVENT
BEGIN:VEVENT
DTSTART;TZID=America/New_York:20240717T150000
DTEND;TZID=America/New_York:20240717T160000
DTSTAMP:20260425T214347
CREATED:20240717T153319Z
LAST-MODIFIED:20240717T154332Z
UID:10000580-1721228400-1721232000@manchesterproud.org
SUMMARY:Adventure Camp
DESCRIPTION:Learn skills for thriving in different type of adventure. Grade 1-6. Registration required. \nProgram Contact Information: \nYvonne Freebourn \nyfreebourn@manchesternh.gov \n603-624-6550 ext. 7628
URL:https://manchesterproud.org/the-event/adventure-camp/2024-07-17/
LOCATION:Manchester City Library\, 405 Pine Street\, Manchester\, 03104\, United States
ATTACH;FMTTYPE=image/jpeg:https://manchesterproud.org/wp-content/uploads/2024/03/blog-Default-ImageV2.jpg
END:VEVENT
BEGIN:VEVENT
DTSTART;TZID=America/New_York:20240717T100000
DTEND;TZID=America/New_York:20240717T110000
DTSTAMP:20260425T214347
CREATED:20240717T153140Z
LAST-MODIFIED:20240717T154500Z
UID:10000524-1721210400-1721214000@manchesterproud.org
SUMMARY:Tabletop Capers
DESCRIPTION:Learning a new board game. Grades 2-6. \nProgram Contact Information: \nYvonne Freebourn \nyfreebourn@manchesternh.gov \n603-624-6550 ext. 7628
URL:https://manchesterproud.org/the-event/tabletop-capers/2024-07-17/
LOCATION:Manchester City Library\, 405 Pine Street\, Manchester\, 03104\, United States
ATTACH;FMTTYPE=image/jpeg:https://manchesterproud.org/wp-content/uploads/2024/03/blog-Default-ImageV2.jpg
END:VEVENT
END:VCALENDAR