BEGIN:VCALENDAR
VERSION:2.0
PRODID:-//Manchester Proud - ECPv6.15.17.1//NONSGML v1.0//EN
CALSCALE:GREGORIAN
METHOD:PUBLISH
X-WR-CALNAME:Manchester Proud
X-ORIGINAL-URL:https://manchesterproud.org
X-WR-CALDESC:Events for Manchester Proud
REFRESH-INTERVAL;VALUE=DURATION:PT1H
X-Robots-Tag:noindex
X-PUBLISHED-TTL:PT1H
BEGIN:VTIMEZONE
TZID:America/New_York
BEGIN:DAYLIGHT
TZOFFSETFROM:-0500
TZOFFSETTO:-0400
TZNAME:EDT
DTSTART:20240310T070000
END:DAYLIGHT
BEGIN:STANDARD
TZOFFSETFROM:-0400
TZOFFSETTO:-0500
TZNAME:EST
DTSTART:20241103T060000
END:STANDARD
BEGIN:DAYLIGHT
TZOFFSETFROM:-0500
TZOFFSETTO:-0400
TZNAME:EDT
DTSTART:20250309T070000
END:DAYLIGHT
BEGIN:STANDARD
TZOFFSETFROM:-0400
TZOFFSETTO:-0500
TZNAME:EST
DTSTART:20251102T060000
END:STANDARD
BEGIN:DAYLIGHT
TZOFFSETFROM:-0500
TZOFFSETTO:-0400
TZNAME:EDT
DTSTART:20260308T070000
END:DAYLIGHT
BEGIN:STANDARD
TZOFFSETFROM:-0400
TZOFFSETTO:-0500
TZNAME:EST
DTSTART:20261101T060000
END:STANDARD
END:VTIMEZONE
BEGIN:VEVENT
DTSTART;TZID=America/New_York:20250623T100000
DTEND;TZID=America/New_York:20250623T113000
DTSTAMP:20260423T084332
CREATED:20250529T184625Z
LAST-MODIFIED:20250529T184625Z
UID:10001042-1750672800-1750678200@manchesterproud.org
SUMMARY:We Create Morning
DESCRIPTION:Every Monday morning\, families of all ages\, are invited to drop by the Winchell Room (or on our side lawn) for fun Community Art projects. There will be banners for families to color that we will display once finished. There will be a different small project for the kids to using a different technique; painting\, stamping\, etc. This is a drop-in program; no reservations required. For more information\, please call 603-624-6550 ext 7628
URL:https://manchesterproud.org/the-event/we-create-morning/
LOCATION:Manchester City Library\, 405 Pine Street\, Manchester\, 03104\, United States
CATEGORIES:Expanded Learning Time
ATTACH;FMTTYPE=image/jpeg:https://manchesterproud.org/wp-content/uploads/2024/03/blog-Default-ImageV2.jpg
END:VEVENT
BEGIN:VEVENT
DTSTART;TZID=America/New_York:20250620T150000
DTEND;TZID=America/New_York:20250620T163000
DTSTAMP:20260423T084332
CREATED:20250529T184531Z
LAST-MODIFIED:20250529T184531Z
UID:10001041-1750431600-1750437000@manchesterproud.org
SUMMARY:Lego Afternoon
DESCRIPTION:Join us every other Friday afternoon from 3:00 to 4:30 pm in the Winchell Room for Lego Quest.  Come meet\, build and make new Lego friends using the 10\,000 Lego pieces donated by Lego Systems.  Your creation will be displayed in the children’s room display cases. This program is for ages 3-12 years old. For more information\, please call 624-6550 ext. 7628.
URL:https://manchesterproud.org/the-event/lego-afternoon-8/
LOCATION:Manchester City Library\, 405 Pine Street\, Manchester\, 03104\, United States
CATEGORIES:Expanded Learning Time
ATTACH;FMTTYPE=image/jpeg:https://manchesterproud.org/wp-content/uploads/2024/03/blog-Default-ImageV2.jpg
END:VEVENT
BEGIN:VEVENT
DTSTART;TZID=America/New_York:20250618T140000
DTEND;TZID=America/New_York:20250618T150000
DTSTAMP:20260423T084332
CREATED:20250529T184303Z
LAST-MODIFIED:20250529T184303Z
UID:10001039-1750255200-1750258800@manchesterproud.org
SUMMARY:Morphs & Milestones
DESCRIPTION:Families are invited to join Nate and Brenda from Morphs & Milestones Wednesday\, June 18 from 2:00-4:00 pm in our auditorium. You will learn about snakes\, turtles and other reptiles from around the world. Through hands-on opportunities\, kids will learn about their environments where they live; what they eat and other fun and interesting facts. For more information\, please call 624-6550 ext. 7628
URL:https://manchesterproud.org/the-event/morphs-milestones-2/
LOCATION:Manchester City Library\, 405 Pine Street\, Manchester\, 03104\, United States
CATEGORIES:Expanded Learning Time
ATTACH;FMTTYPE=image/jpeg:https://manchesterproud.org/wp-content/uploads/2024/03/blog-Default-ImageV2.jpg
END:VEVENT
BEGIN:VEVENT
DTSTART;TZID=America/New_York:20250618T130000
DTEND;TZID=America/New_York:20250618T140000
DTSTAMP:20260423T084332
CREATED:20250529T184141Z
LAST-MODIFIED:20250529T184141Z
UID:10001038-1750251600-1750255200@manchesterproud.org
SUMMARY:Summertime Storytime
DESCRIPTION:School is out! Summer is here! Join Ms. Karyn along with Ms. Heather from Amoskeag Health at 10:00 am in the Winchell Room as they read fun stories that celebrate Summer. There will be a cute craft to make and take home.  Come dressed for outside activities if not raining. For ages 1-6 years old. Registration is recommended to make sure there are enough supplies for everyone. For more information\, please call 603-624-6550 ext.7628. \nRegister here.
URL:https://manchesterproud.org/the-event/summertime-storytime/
LOCATION:Manchester City Library\, 405 Pine Street\, Manchester\, 03104\, United States
CATEGORIES:Expanded Learning Time
ATTACH;FMTTYPE=image/jpeg:https://manchesterproud.org/wp-content/uploads/2024/03/blog-Default-ImageV2.jpg
END:VEVENT
BEGIN:VEVENT
DTSTART;TZID=America/New_York:20250612T150000
DTEND;TZID=America/New_York:20250612T163000
DTSTAMP:20260423T084332
CREATED:20250529T183911Z
LAST-MODIFIED:20250529T183911Z
UID:10001036-1749740400-1749745800@manchesterproud.org
SUMMARY:Teen Thursdays
DESCRIPTION:Every Thursday\, come hang out in the Winchell Room after school.  We’ll have snacks\, arts and craft supplies\, Nintendo Switch\, and other games.  One or twice a month we’ll have a special structured craft or activity. \nCheck the teen website for further details at manchesterlibrary.org/teens. \nFor teens in grades 6-12.
URL:https://manchesterproud.org/the-event/teen-thursdays-21/
LOCATION:Manchester City Library\, 405 Pine Street\, Manchester\, 03104\, United States
CATEGORIES:Expanded Learning Time
ATTACH;FMTTYPE=image/jpeg:https://manchesterproud.org/wp-content/uploads/2024/03/blog-Default-ImageV2.jpg
END:VEVENT
BEGIN:VEVENT
DTSTART;TZID=America/New_York:20250605T150000
DTEND;TZID=America/New_York:20250605T163000
DTSTAMP:20260423T084332
CREATED:20250529T183301Z
LAST-MODIFIED:20250529T183301Z
UID:10001032-1749135600-1749141000@manchesterproud.org
SUMMARY:Teen Thursdays
DESCRIPTION:Every Thursday\, come hang out in the Winchell Room after school. We’ll have snacks\, arts and craft supplies\, Nintendo Switch\, and other games. One or twice a month we’ll have a special structured craft or activity. \nCheck the teen website for further details at manchesterlibrary.org/teens. \nFor teens in grades 6-12.
URL:https://manchesterproud.org/the-event/teen-thursdays-20/
LOCATION:Manchester City Library\, 405 Pine Street\, Manchester\, 03104\, United States
CATEGORIES:Expanded Learning Time
ATTACH;FMTTYPE=image/jpeg:https://manchesterproud.org/wp-content/uploads/2024/03/blog-Default-ImageV2.jpg
END:VEVENT
BEGIN:VEVENT
DTSTART;TZID=America/New_York:20250529T150000
DTEND;TZID=America/New_York:20250529T163000
DTSTAMP:20260423T084332
CREATED:20250325T140532Z
LAST-MODIFIED:20250325T140532Z
UID:10001002-1748530800-1748536200@manchesterproud.org
SUMMARY:Teen Thursdays
DESCRIPTION:Every Thursday\, come hang out in the Winchell Room after school.  We’ll have snacks\, arts and craft supplies\, Nintendo Switch\, and other games.  One or twice a month we’ll have a special structured craft or activity. \nCheck the teen website for further details at manchesterlibrary.org/teens. \nFor teens in grades 6-12.
URL:https://manchesterproud.org/the-event/teen-thursdays-19/
LOCATION:Manchester City Library\, 405 Pine Street\, Manchester\, 03104\, United States
CATEGORIES:Expanded Learning Time
ATTACH;FMTTYPE=image/jpeg:https://manchesterproud.org/wp-content/uploads/2024/03/blog-Default-ImageV2.jpg
END:VEVENT
BEGIN:VEVENT
DTSTART;TZID=America/New_York:20250528T153000
DTEND;TZID=America/New_York:20250528T163000
DTSTAMP:20260423T084332
CREATED:20250325T140332Z
LAST-MODIFIED:20250325T140332Z
UID:10001000-1748446200-1748449800@manchesterproud.org
SUMMARY:Slime-of-the-Month
DESCRIPTION:We will be making Soda Slime\, come in and try out this real soda\, fizzy\, smell-good slime! Come ready to get messy! Registration is required to make sure that we have enough supplies prepared for all. For Grades 1-6 \nRegister here
URL:https://manchesterproud.org/the-event/slime-of-the-month-3/
LOCATION:Manchester City Library\, 405 Pine Street\, Manchester\, 03104\, United States
CATEGORIES:Expanded Learning Time
ATTACH;FMTTYPE=image/jpeg:https://manchesterproud.org/wp-content/uploads/2024/03/blog-Default-ImageV2.jpg
END:VEVENT
BEGIN:VEVENT
DTSTART;TZID=America/New_York:20250528T153000
DTEND;TZID=America/New_York:20250528T160000
DTSTAMP:20260423T084332
CREATED:20250325T140439Z
LAST-MODIFIED:20250325T140439Z
UID:10001001-1748446200-1748448000@manchesterproud.org
SUMMARY:Webinar: Principles of How to Find a Job\, Résumé Writing & Ace an Interview
DESCRIPTION:Join AtoZ University for job search strategies and résumé tips. \nIn this training session you will learn how to generate lists of job opportunities\, learn some job search tips and look at various résumé templates. This is an interactive session\, so feel free to ask any and all questions. Classes typically run between 20 and 30 minutes depending upon questions. \nRegister here
URL:https://manchesterproud.org/the-event/webinar-principles-of-how-to-find-a-job-resume-writing-ace-an-interview-24/
LOCATION:Manchester City Library\, 405 Pine Street\, Manchester\, 03104\, United States
CATEGORIES:Career Connected Learning
ATTACH;FMTTYPE=image/jpeg:https://manchesterproud.org/wp-content/uploads/2024/03/blog-Default-ImageV2.jpg
END:VEVENT
BEGIN:VEVENT
DTSTART;TZID=America/New_York:20250528T113000
DTEND;TZID=America/New_York:20250528T120000
DTSTAMP:20260423T084332
CREATED:20250325T140232Z
LAST-MODIFIED:20250325T140232Z
UID:10000999-1748431800-1748433600@manchesterproud.org
SUMMARY:Webinar: Principles of How to Find a Job\, Résumé Writing & Ace an Interview
DESCRIPTION:Join AtoZ University for job search strategies and résumé tips. \nIn this training session you will learn how to generate lists of job opportunities\, learn some job search tips and look at various résumé templates. This is an interactive session\, so feel free to ask any and all questions. Classes typically run between 20 and 30 minutes depending upon questions. \nRegister here
URL:https://manchesterproud.org/the-event/webinar-principles-of-how-to-find-a-job-resume-writing-ace-an-interview-23/
LOCATION:Manchester City Library\, 405 Pine Street\, Manchester\, 03104\, United States
CATEGORIES:Career Connected Learning
ATTACH;FMTTYPE=image/jpeg:https://manchesterproud.org/wp-content/uploads/2024/03/blog-Default-ImageV2.jpg
END:VEVENT
BEGIN:VEVENT
DTSTART;TZID=America/New_York:20250522T150000
DTEND;TZID=America/New_York:20250522T163000
DTSTAMP:20260423T084332
CREATED:20250325T140106Z
LAST-MODIFIED:20250325T140106Z
UID:10000998-1747926000-1747931400@manchesterproud.org
SUMMARY:Teen Thursdays
DESCRIPTION:Every Thursday\, come hang out in the Winchell Room after school.  We’ll have snacks\, arts and craft supplies\, Nintendo Switch\, and other games.  One or twice a month we’ll have a special structured craft or activity. \nCheck the teen website for further details at manchesterlibrary.org/teens. \nFor teens in grades 6-12.
URL:https://manchesterproud.org/the-event/teen-thursdays-18/
LOCATION:Manchester City Library\, 405 Pine Street\, Manchester\, 03104\, United States
CATEGORIES:Expanded Learning Time
ATTACH;FMTTYPE=image/jpeg:https://manchesterproud.org/wp-content/uploads/2024/03/blog-Default-ImageV2.jpg
END:VEVENT
BEGIN:VEVENT
DTSTART;TZID=America/New_York:20250521T183000
DTEND;TZID=America/New_York:20250521T193000
DTSTAMP:20260423T084332
CREATED:20250325T140013Z
LAST-MODIFIED:20250325T140013Z
UID:10000997-1747852200-1747855800@manchesterproud.org
SUMMARY:Writers Group
DESCRIPTION:Join the Manchester City Library on the third Wednesday of each month at 6:30pm either in person or virtually via Zoom for our writers group! Meet with other writers\, discuss what you’re writing\, critique others’ work\, and give feedback. This group is open to writers of all abilities\, aged teen and up. Please sign up to participate. \nFor questions\, call Tess at 603-624-6550 x7620 or email tkimsey@manchesternh.gov \nRegister here
URL:https://manchesterproud.org/the-event/writers-group/
LOCATION:Manchester City Library\, 405 Pine Street\, Manchester\, 03104\, United States
CATEGORIES:Career Connected Learning
ATTACH;FMTTYPE=image/jpeg:https://manchesterproud.org/wp-content/uploads/2024/03/blog-Default-ImageV2.jpg
END:VEVENT
BEGIN:VEVENT
DTSTART;TZID=America/New_York:20250521T173000
DTEND;TZID=America/New_York:20250521T200000
DTSTAMP:20260423T084332
CREATED:20250325T135906Z
LAST-MODIFIED:20250325T135906Z
UID:10000996-1747848600-1747857600@manchesterproud.org
SUMMARY:Teen Movie & Pizza Night
DESCRIPTION:Come for a movie and pizza in the auditorium\, where we’ll watch a teen movie on the big screen. For teens in grades 6 – 12. Movies may be rated PG-13 or PG. \nRegistration in advance is requested to help us plan. If you have food allergies or restrictions\, let us know when you register or email Dori ahead of time at mclyouthservices@manchesternh.gov.  Please feel free to also email with movie suggestions you would like to watch! \nVisit the Teen Services website at www.manchesterlibrary.org/teens for movie updates. \nRegister here
URL:https://manchesterproud.org/the-event/teen-movie-pizza-night-7/
LOCATION:Manchester City Library\, 405 Pine Street\, Manchester\, 03104\, United States
CATEGORIES:Expanded Learning Time
ATTACH;FMTTYPE=image/jpeg:https://manchesterproud.org/wp-content/uploads/2024/03/blog-Default-ImageV2.jpg
END:VEVENT
BEGIN:VEVENT
DTSTART;TZID=America/New_York:20250521T100000
DTEND;TZID=America/New_York:20250521T110000
DTSTAMP:20260423T084332
CREATED:20250325T135532Z
LAST-MODIFIED:20250325T135532Z
UID:10000993-1747821600-1747825200@manchesterproud.org
SUMMARY:Nature Storytime
DESCRIPTION:Join Ms. Karyn along with Ms. Heather from Amoskeag Health at 10:00 am in the Winchell Room. We are taking a nature walk as we listen to fun stories.  Afterwards\, there will be a cute craft to make and take home. This storytime is for ages 1-5 years old. For more information\, please call 603-624-6550 ext. 7628 \nRegister here
URL:https://manchesterproud.org/the-event/nature-storytime/
LOCATION:Manchester City Library\, 405 Pine Street\, Manchester\, 03104\, United States
CATEGORIES:Early Childhood
ATTACH;FMTTYPE=image/jpeg:https://manchesterproud.org/wp-content/uploads/2024/03/blog-Default-ImageV2.jpg
END:VEVENT
BEGIN:VEVENT
DTSTART;TZID=America/New_York:20250520T160000
DTEND;TZID=America/New_York:20250520T193000
DTSTAMP:20260423T084332
CREATED:20250325T135422Z
LAST-MODIFIED:20250325T135422Z
UID:10000992-1747756800-1747769400@manchesterproud.org
SUMMARY:Family Game Night
DESCRIPTION:Drop by the children’s room for Family Game Night. We will have different board games and puzzles for families to enjoy as you browse fro books. For more information\, please call 603-624-6550 ext. 7628.
URL:https://manchesterproud.org/the-event/family-game-night-18/
LOCATION:Manchester City Library\, 405 Pine Street\, Manchester\, 03104\, United States
CATEGORIES:Expanded Learning Time
ATTACH;FMTTYPE=image/jpeg:https://manchesterproud.org/wp-content/uploads/2024/03/blog-Default-ImageV2.jpg
END:VEVENT
BEGIN:VEVENT
DTSTART;TZID=America/New_York:20250516T100000
DTEND;TZID=America/New_York:20250516T110000
DTSTAMP:20260423T084332
CREATED:20250325T135310Z
LAST-MODIFIED:20250325T135310Z
UID:10000991-1747389600-1747393200@manchesterproud.org
SUMMARY:Baby Storytime
DESCRIPTION:And for our youngest patrons\, 6-23 months\, Baby Storytime will be on Friday mornings at 10:00 am in the Winchell Room This is also a drop in program.  For more information\, please call 624-6550 ext. 7628.
URL:https://manchesterproud.org/the-event/baby-storytime-13/
LOCATION:Manchester City Library\, 405 Pine Street\, Manchester\, 03104\, United States
CATEGORIES:Early Childhood
ATTACH;FMTTYPE=image/jpeg:https://manchesterproud.org/wp-content/uploads/2024/03/blog-Default-ImageV2.jpg
END:VEVENT
BEGIN:VEVENT
DTSTART;TZID=America/New_York:20250515T150000
DTEND;TZID=America/New_York:20250515T163000
DTSTAMP:20260423T084332
CREATED:20250325T135222Z
LAST-MODIFIED:20250325T135222Z
UID:10000990-1747321200-1747326600@manchesterproud.org
SUMMARY:Teen Thursdays
DESCRIPTION:Every Thursday\, come hang out in the Winchell Room after school.  We’ll have snacks\, arts and craft supplies\, Nintendo Switch\, and other games.  One or twice a month we’ll have a special structured craft or activity. \nCheck the teen website for further details at manchesterlibrary.org/teens. \nFor teens in grades 6-12.
URL:https://manchesterproud.org/the-event/teen-thursdays-17/
LOCATION:Manchester City Library\, 405 Pine Street\, Manchester\, 03104\, United States
CATEGORIES:Expanded Learning Time
ATTACH;FMTTYPE=image/jpeg:https://manchesterproud.org/wp-content/uploads/2024/03/blog-Default-ImageV2.jpg
END:VEVENT
BEGIN:VEVENT
DTSTART;TZID=America/New_York:20250515T110000
DTEND;TZID=America/New_York:20250515T120000
DTSTAMP:20260423T084332
CREATED:20250325T135137Z
LAST-MODIFIED:20250325T135137Z
UID:10000989-1747306800-1747310400@manchesterproud.org
SUMMARY:Family Storytime
DESCRIPTION:Family Storytimes for 2-5 years old will meet Thurdays mornings at 10:00 & 11:00 am. These are drop in sessions.  Please attend only one session each week which so everyone can attend this very popular program. All sessions are held in the Winchell Room.  For more information contact the Children’s Room at 603-624-6550 ext. 7628
URL:https://manchesterproud.org/the-event/family-storytime-36/
LOCATION:Manchester City Library\, 405 Pine Street\, Manchester\, 03104\, United States
CATEGORIES:Early Childhood
ATTACH;FMTTYPE=image/jpeg:https://manchesterproud.org/wp-content/uploads/2024/03/blog-Default-ImageV2.jpg
END:VEVENT
BEGIN:VEVENT
DTSTART;TZID=America/New_York:20250515T100000
DTEND;TZID=America/New_York:20250515T110000
DTSTAMP:20260423T084332
CREATED:20250325T135050Z
LAST-MODIFIED:20250325T135050Z
UID:10000988-1747303200-1747306800@manchesterproud.org
SUMMARY:Family Storytime
DESCRIPTION:Family Storytimes for 2-5 years old will meet Thurdays mornings at 10:00 & 11:00 am. These are drop in sessions.  Please attend only one session each week which so everyone can attend this very popular program. All sessions are held in the Winchell Room.   For more information contact the Children’s Room at 603-624-6550 ext 7628
URL:https://manchesterproud.org/the-event/family-storytime-35/
LOCATION:Manchester City Library\, 405 Pine Street\, Manchester\, 03104\, United States
CATEGORIES:Early Childhood
ATTACH;FMTTYPE=image/jpeg:https://manchesterproud.org/wp-content/uploads/2024/03/blog-Default-ImageV2.jpg
END:VEVENT
BEGIN:VEVENT
DTSTART;TZID=America/New_York:20250514T100000
DTEND;TZID=America/New_York:20250514T110000
DTSTAMP:20260423T084332
CREATED:20250325T134740Z
LAST-MODIFIED:20250325T134740Z
UID:10000985-1747216800-1747220400@manchesterproud.org
SUMMARY:Storytime Science
DESCRIPTION:The Children’s Room staff are excited to announce our Storytime program with SEE Science Center.  Once a month\, kids ages 2-6 years old are invited to join Ms. Yvonne and Ms. Amanda from the SEE Science Center for Storytime Science.  This storytime is based on a Stem/Steam theme with hands-on activities afterwards. Registration will be required to make sure that we have enough materials for everyone. Storytime Science is a program of the SEE Science Center’s First Steps in Science Initiative presented by Dartmouth Health Childrens. This program is a great way to introduce our youngest patrons to fun STEM/STEAM hands on activities. For more information\, please call 603-624-6550 ext. 7628.
URL:https://manchesterproud.org/the-event/storytime-science-6/
LOCATION:Manchester City Library\, 405 Pine Street\, Manchester\, 03104\, United States
CATEGORIES:Early Childhood
ATTACH;FMTTYPE=image/jpeg:https://manchesterproud.org/wp-content/uploads/2024/03/blog-Default-ImageV2.jpg
END:VEVENT
BEGIN:VEVENT
DTSTART;TZID=America/New_York:20250513T160000
DTEND;TZID=America/New_York:20250513T193000
DTSTAMP:20260423T084332
CREATED:20250325T134638Z
LAST-MODIFIED:20250325T134638Z
UID:10000984-1747152000-1747164600@manchesterproud.org
SUMMARY:Family Game Night
DESCRIPTION:Drop by the children’s room for Family Game Night. We will have different board games and puzzles for families to enjoy as you browse fro books. For more information\, please call 603-624-6550 ext. 7628.
URL:https://manchesterproud.org/the-event/family-game-night-17/
LOCATION:Manchester City Library\, 405 Pine Street\, Manchester\, 03104\, United States
CATEGORIES:Expanded Learning Time
ATTACH;FMTTYPE=image/jpeg:https://manchesterproud.org/wp-content/uploads/2024/03/blog-Default-ImageV2.jpg
END:VEVENT
BEGIN:VEVENT
DTSTART;TZID=America/New_York:20250513T153000
DTEND;TZID=America/New_York:20250513T163000
DTSTAMP:20260423T084332
CREATED:20250325T134541Z
LAST-MODIFIED:20250325T134541Z
UID:10000983-1747150200-1747153800@manchesterproud.org
SUMMARY:Elementary Experiments In-Person
DESCRIPTION:Anyone grades 1-6 can join us for activities and crafts with a STEAM focus on the 2nd Tuesday of each month. This month we are acting as Air Traffic Control to predict the wind and test some planes!  Remember to register so we can make sure we have enough supplies. \nRegister here
URL:https://manchesterproud.org/the-event/elementary-experiments-in-person/
LOCATION:Manchester City Library\, 405 Pine Street\, Manchester\, 03104\, United States
CATEGORIES:Expanded Learning Time
ATTACH;FMTTYPE=image/jpeg:https://manchesterproud.org/wp-content/uploads/2024/03/blog-Default-ImageV2.jpg
END:VEVENT
BEGIN:VEVENT
DTSTART;TZID=America/New_York:20250513T100000
DTEND;TZID=America/New_York:20250513T110000
DTSTAMP:20260423T084332
CREATED:20250325T134427Z
LAST-MODIFIED:20250325T134427Z
UID:10000982-1747130400-1747134000@manchesterproud.org
SUMMARY:We're Going on a Bug Hunt
DESCRIPTION:On Tuesday\, May 13\, 2025 at 10:00 am in the Winchell Room and on our side lawn\, we will be going on a bug hunt.  If you like bugs\, this is your party.  We will listen to bug stories\, play games and make a cute bug craft to take home.  Come dressed for an outside ‘bug hunt’ activities.  Children ages 1-5 years of are invited. Registration is requested to make sure that we have enough materials for everyone. For more information\, please call 603-624-6550 ext. 7628.
URL:https://manchesterproud.org/the-event/were-going-on-a-bug-hunt/
LOCATION:Manchester City Library\, 405 Pine Street\, Manchester\, 03104\, United States
CATEGORIES:Early Childhood
ATTACH;FMTTYPE=image/jpeg:https://manchesterproud.org/wp-content/uploads/2024/03/blog-Default-ImageV2.jpg
END:VEVENT
BEGIN:VEVENT
DTSTART;TZID=America/New_York:20250509T100000
DTEND;TZID=America/New_York:20250509T110000
DTSTAMP:20260423T084332
CREATED:20250325T134253Z
LAST-MODIFIED:20250325T134253Z
UID:10000981-1746784800-1746788400@manchesterproud.org
SUMMARY:Baby Storytime
DESCRIPTION:And for our youngest patrons\, 6-23 months\, Baby Storytime will be on Friday mornings at 10:00 am in the Winchell Room This is also a drop in program.  For more information\, please call 624-6550 ext. 7628.
URL:https://manchesterproud.org/the-event/baby-storytime-12/
LOCATION:Manchester City Library\, 405 Pine Street\, Manchester\, 03104\, United States
CATEGORIES:Early Childhood
ATTACH;FMTTYPE=image/jpeg:https://manchesterproud.org/wp-content/uploads/2024/03/blog-Default-ImageV2.jpg
END:VEVENT
BEGIN:VEVENT
DTSTART;TZID=America/New_York:20250508T183000
DTEND;TZID=America/New_York:20250508T193000
DTSTAMP:20260423T084332
CREATED:20250325T134159Z
LAST-MODIFIED:20250325T134159Z
UID:10000980-1746729000-1746732600@manchesterproud.org
SUMMARY:Getting Your Garden Ready for Spring
DESCRIPTION:For more information visit here
URL:https://manchesterproud.org/the-event/getting-your-garden-ready-for-spring/
LOCATION:Manchester City Library\, 405 Pine Street\, Manchester\, 03104\, United States
CATEGORIES:Expanded Learning Time
ATTACH;FMTTYPE=image/jpeg:https://manchesterproud.org/wp-content/uploads/2024/03/blog-Default-ImageV2.jpg
END:VEVENT
BEGIN:VEVENT
DTSTART;TZID=America/New_York:20250508T110000
DTEND;TZID=America/New_York:20250508T120000
DTSTAMP:20260423T084332
CREATED:20250325T134055Z
LAST-MODIFIED:20250325T134055Z
UID:10000979-1746702000-1746705600@manchesterproud.org
SUMMARY:Family Storytime
DESCRIPTION:Family Storytimes for 2-5 years old will meet Thurdays mornings at 10:00 & 11:00 am. These are drop in sessions.  Please attend only one session each week which so everyone can attend this very popular program. All sessions are held in the Winchell Room.  For more information contact the Children’s Room at 603-624-6550 ext. 7628
URL:https://manchesterproud.org/the-event/family-storytime-34/
LOCATION:Manchester City Library\, 405 Pine Street\, Manchester\, 03104\, United States
CATEGORIES:Early Childhood
ATTACH;FMTTYPE=image/jpeg:https://manchesterproud.org/wp-content/uploads/2024/03/blog-Default-ImageV2.jpg
END:VEVENT
BEGIN:VEVENT
DTSTART;TZID=America/New_York:20250508T100000
DTEND;TZID=America/New_York:20250508T110000
DTSTAMP:20260423T084332
CREATED:20250325T133953Z
LAST-MODIFIED:20250325T133953Z
UID:10000978-1746698400-1746702000@manchesterproud.org
SUMMARY:Family Storytime
DESCRIPTION:Family Storytimes for 2-5 years old will meet Thurdays mornings at 10:00 & 11:00 am. These are drop in sessions.  Please attend only one session each week which so everyone can attend this very popular program. All sessions are held in the Winchell Room.   For more information contact the Children’s Room at 603-624-6550 ext 7628
URL:https://manchesterproud.org/the-event/family-storytime-33/
LOCATION:Manchester City Library\, 405 Pine Street\, Manchester\, 03104\, United States
CATEGORIES:Early Childhood
ATTACH;FMTTYPE=image/jpeg:https://manchesterproud.org/wp-content/uploads/2024/03/blog-Default-ImageV2.jpg
END:VEVENT
BEGIN:VEVENT
DTSTART;TZID=America/New_York:20250507T180000
DTEND;TZID=America/New_York:20250507T190000
DTSTAMP:20260423T084332
CREATED:20250325T133903Z
LAST-MODIFIED:20250325T133903Z
UID:10000977-1746640800-1746644400@manchesterproud.org
SUMMARY:Teen Plus: Craft Night
DESCRIPTION:New this spring – teens in grades 6-12 can bring their plus 1 (or more) for some cool crafting fun. Bring your favorite adult\, sibling\, or friend to create our special Teen Plus monthly craft. \nMAY: Mason Jar Luminaries \nAnyone not in grades 6-12 must be accompanied by a teen\, and children under 8 must have an adult in attendance as well as a teen. Please note that the craft projects are intended for teens and adults and may not be suitable for younger children. \nPlease register in advance to help us plan. \nRegister here
URL:https://manchesterproud.org/the-event/teen-plus-craft-night-2/
LOCATION:Manchester City Library\, 405 Pine Street\, Manchester\, 03104\, United States
CATEGORIES:Expanded Learning Time
ATTACH;FMTTYPE=image/jpeg:https://manchesterproud.org/wp-content/uploads/2024/03/blog-Default-ImageV2.jpg
END:VEVENT
BEGIN:VEVENT
DTSTART;TZID=America/New_York:20250506T160000
DTEND;TZID=America/New_York:20250506T193000
DTSTAMP:20260423T084332
CREATED:20250325T133421Z
LAST-MODIFIED:20250325T133421Z
UID:10000974-1746547200-1746559800@manchesterproud.org
SUMMARY:Family Game Night
DESCRIPTION:Drop by the children’s room for Family Game Night. We will have different board games and puzzles for families to enjoy as you browse fro books. For more information\, please call 603-624-6550 ext. 7628.
URL:https://manchesterproud.org/the-event/family-game-night-16/
LOCATION:Manchester City Library\, 405 Pine Street\, Manchester\, 03104\, United States
CATEGORIES:Expanded Learning Time
ATTACH;FMTTYPE=image/jpeg:https://manchesterproud.org/wp-content/uploads/2024/03/blog-Default-ImageV2.jpg
END:VEVENT
BEGIN:VEVENT
DTSTART;TZID=America/New_York:20250503T100000
DTEND;TZID=America/New_York:20250503T120000
DTSTAMP:20260423T084332
CREATED:20250325T133325Z
LAST-MODIFIED:20250325T133325Z
UID:10000973-1746266400-1746273600@manchesterproud.org
SUMMARY:May the 4th Eve/Star Wars Party
DESCRIPTION:Drop in from 10:00 am to Noon on Saturday\, May 3rd to celebrate a time long ago in a galaxy far\, far away! We will have Star Wars themed crafts and activities out all afternoon for the whole family to enjoy! While you are here\, be sure to try the lightsaber training\, droid programing\, and to test your knowledge at the Star Wars Trivia Contest. For more information\, please call 603-624-6550 ext. 7628
URL:https://manchesterproud.org/the-event/may-the-4th-eve-star-wars-party/
LOCATION:Manchester City Library\, 405 Pine Street\, Manchester\, 03104\, United States
CATEGORIES:Expanded Learning Time
ATTACH;FMTTYPE=image/jpeg:https://manchesterproud.org/wp-content/uploads/2024/03/blog-Default-ImageV2.jpg
END:VEVENT
END:VCALENDAR