BEGIN:VCALENDAR
VERSION:2.0
PRODID:-//Manchester Proud - ECPv6.15.17.1//NONSGML v1.0//EN
CALSCALE:GREGORIAN
METHOD:PUBLISH
X-WR-CALNAME:Manchester Proud
X-ORIGINAL-URL:https://manchesterproud.org
X-WR-CALDESC:Events for Manchester Proud
REFRESH-INTERVAL;VALUE=DURATION:PT1H
X-Robots-Tag:noindex
X-PUBLISHED-TTL:PT1H
BEGIN:VTIMEZONE
TZID:America/New_York
BEGIN:DAYLIGHT
TZOFFSETFROM:-0500
TZOFFSETTO:-0400
TZNAME:EDT
DTSTART:20240310T070000
END:DAYLIGHT
BEGIN:STANDARD
TZOFFSETFROM:-0400
TZOFFSETTO:-0500
TZNAME:EST
DTSTART:20241103T060000
END:STANDARD
BEGIN:DAYLIGHT
TZOFFSETFROM:-0500
TZOFFSETTO:-0400
TZNAME:EDT
DTSTART:20250309T070000
END:DAYLIGHT
BEGIN:STANDARD
TZOFFSETFROM:-0400
TZOFFSETTO:-0500
TZNAME:EST
DTSTART:20251102T060000
END:STANDARD
BEGIN:DAYLIGHT
TZOFFSETFROM:-0500
TZOFFSETTO:-0400
TZNAME:EDT
DTSTART:20260308T070000
END:DAYLIGHT
BEGIN:STANDARD
TZOFFSETFROM:-0400
TZOFFSETTO:-0500
TZNAME:EST
DTSTART:20261101T060000
END:STANDARD
END:VTIMEZONE
BEGIN:VEVENT
DTSTART;TZID=America/New_York:20250508T183000
DTEND;TZID=America/New_York:20250508T193000
DTSTAMP:20260423T124539
CREATED:20250325T134159Z
LAST-MODIFIED:20250325T134159Z
UID:10000980-1746729000-1746732600@manchesterproud.org
SUMMARY:Getting Your Garden Ready for Spring
DESCRIPTION:For more information visit here
URL:https://manchesterproud.org/the-event/getting-your-garden-ready-for-spring/
LOCATION:Manchester City Library\, 405 Pine Street\, Manchester\, 03104\, United States
CATEGORIES:Expanded Learning Time
ATTACH;FMTTYPE=image/jpeg:https://manchesterproud.org/wp-content/uploads/2024/03/blog-Default-ImageV2.jpg
END:VEVENT
BEGIN:VEVENT
DTSTART;TZID=America/New_York:20250508T110000
DTEND;TZID=America/New_York:20250508T120000
DTSTAMP:20260423T124539
CREATED:20250325T134055Z
LAST-MODIFIED:20250325T134055Z
UID:10000979-1746702000-1746705600@manchesterproud.org
SUMMARY:Family Storytime
DESCRIPTION:Family Storytimes for 2-5 years old will meet Thurdays mornings at 10:00 & 11:00 am. These are drop in sessions.  Please attend only one session each week which so everyone can attend this very popular program. All sessions are held in the Winchell Room.  For more information contact the Children’s Room at 603-624-6550 ext. 7628
URL:https://manchesterproud.org/the-event/family-storytime-34/
LOCATION:Manchester City Library\, 405 Pine Street\, Manchester\, 03104\, United States
CATEGORIES:Early Childhood
ATTACH;FMTTYPE=image/jpeg:https://manchesterproud.org/wp-content/uploads/2024/03/blog-Default-ImageV2.jpg
END:VEVENT
BEGIN:VEVENT
DTSTART;TZID=America/New_York:20250508T100000
DTEND;TZID=America/New_York:20250508T110000
DTSTAMP:20260423T124539
CREATED:20250325T133953Z
LAST-MODIFIED:20250325T133953Z
UID:10000978-1746698400-1746702000@manchesterproud.org
SUMMARY:Family Storytime
DESCRIPTION:Family Storytimes for 2-5 years old will meet Thurdays mornings at 10:00 & 11:00 am. These are drop in sessions.  Please attend only one session each week which so everyone can attend this very popular program. All sessions are held in the Winchell Room.   For more information contact the Children’s Room at 603-624-6550 ext 7628
URL:https://manchesterproud.org/the-event/family-storytime-33/
LOCATION:Manchester City Library\, 405 Pine Street\, Manchester\, 03104\, United States
CATEGORIES:Early Childhood
ATTACH;FMTTYPE=image/jpeg:https://manchesterproud.org/wp-content/uploads/2024/03/blog-Default-ImageV2.jpg
END:VEVENT
BEGIN:VEVENT
DTSTART;TZID=America/New_York:20250507T180000
DTEND;TZID=America/New_York:20250507T190000
DTSTAMP:20260423T124539
CREATED:20250325T133903Z
LAST-MODIFIED:20250325T133903Z
UID:10000977-1746640800-1746644400@manchesterproud.org
SUMMARY:Teen Plus: Craft Night
DESCRIPTION:New this spring – teens in grades 6-12 can bring their plus 1 (or more) for some cool crafting fun. Bring your favorite adult\, sibling\, or friend to create our special Teen Plus monthly craft. \nMAY: Mason Jar Luminaries \nAnyone not in grades 6-12 must be accompanied by a teen\, and children under 8 must have an adult in attendance as well as a teen. Please note that the craft projects are intended for teens and adults and may not be suitable for younger children. \nPlease register in advance to help us plan. \nRegister here
URL:https://manchesterproud.org/the-event/teen-plus-craft-night-2/
LOCATION:Manchester City Library\, 405 Pine Street\, Manchester\, 03104\, United States
CATEGORIES:Expanded Learning Time
ATTACH;FMTTYPE=image/jpeg:https://manchesterproud.org/wp-content/uploads/2024/03/blog-Default-ImageV2.jpg
END:VEVENT
BEGIN:VEVENT
DTSTART;TZID=America/New_York:20250506T160000
DTEND;TZID=America/New_York:20250506T193000
DTSTAMP:20260423T124539
CREATED:20250325T133421Z
LAST-MODIFIED:20250325T133421Z
UID:10000974-1746547200-1746559800@manchesterproud.org
SUMMARY:Family Game Night
DESCRIPTION:Drop by the children’s room for Family Game Night. We will have different board games and puzzles for families to enjoy as you browse fro books. For more information\, please call 603-624-6550 ext. 7628.
URL:https://manchesterproud.org/the-event/family-game-night-16/
LOCATION:Manchester City Library\, 405 Pine Street\, Manchester\, 03104\, United States
CATEGORIES:Expanded Learning Time
ATTACH;FMTTYPE=image/jpeg:https://manchesterproud.org/wp-content/uploads/2024/03/blog-Default-ImageV2.jpg
END:VEVENT
BEGIN:VEVENT
DTSTART;TZID=America/New_York:20250503T100000
DTEND;TZID=America/New_York:20250503T120000
DTSTAMP:20260423T124539
CREATED:20250325T133325Z
LAST-MODIFIED:20250325T133325Z
UID:10000973-1746266400-1746273600@manchesterproud.org
SUMMARY:May the 4th Eve/Star Wars Party
DESCRIPTION:Drop in from 10:00 am to Noon on Saturday\, May 3rd to celebrate a time long ago in a galaxy far\, far away! We will have Star Wars themed crafts and activities out all afternoon for the whole family to enjoy! While you are here\, be sure to try the lightsaber training\, droid programing\, and to test your knowledge at the Star Wars Trivia Contest. For more information\, please call 603-624-6550 ext. 7628
URL:https://manchesterproud.org/the-event/may-the-4th-eve-star-wars-party/
LOCATION:Manchester City Library\, 405 Pine Street\, Manchester\, 03104\, United States
CATEGORIES:Expanded Learning Time
ATTACH;FMTTYPE=image/jpeg:https://manchesterproud.org/wp-content/uploads/2024/03/blog-Default-ImageV2.jpg
END:VEVENT
BEGIN:VEVENT
DTSTART;TZID=America/New_York:20250502T140000
DTEND;TZID=America/New_York:20250502T160000
DTSTAMP:20260423T124539
CREATED:20250325T133224Z
LAST-MODIFIED:20250325T133224Z
UID:10000972-1746194400-1746201600@manchesterproud.org
SUMMARY:Lego Afternoon
DESCRIPTION:Drop by the Winchell Room to create a Lego masterpiece for our display case.  This program is for ages 3-12 years.  For more information\, please call 603-624-6550 ext. 7628
URL:https://manchesterproud.org/the-event/lego-afternoon-7/
LOCATION:Manchester City Library\, 405 Pine Street\, Manchester\, 03104\, United States
CATEGORIES:Expanded Learning Time
ATTACH;FMTTYPE=image/jpeg:https://manchesterproud.org/wp-content/uploads/2024/03/blog-Default-ImageV2.jpg
END:VEVENT
BEGIN:VEVENT
DTSTART;TZID=America/New_York:20250502T100000
DTEND;TZID=America/New_York:20250502T110000
DTSTAMP:20260423T124539
CREATED:20250325T133133Z
LAST-MODIFIED:20250325T133133Z
UID:10000971-1746180000-1746183600@manchesterproud.org
SUMMARY:Baby Storytime
DESCRIPTION:And for our youngest patrons\, 6-23 months\, Baby Storytime will be on Friday mornings at 10:00 am in the Winchell Room This is also a drop in program.  For more information\, please call 624-6550 ext. 7628.
URL:https://manchesterproud.org/the-event/baby-storytime-11/
LOCATION:Manchester City Library\, 405 Pine Street\, Manchester\, 03104\, United States
CATEGORIES:Early Childhood
ATTACH;FMTTYPE=image/jpeg:https://manchesterproud.org/wp-content/uploads/2024/03/blog-Default-ImageV2.jpg
END:VEVENT
BEGIN:VEVENT
DTSTART;TZID=America/New_York:20250501T140000
DTEND;TZID=America/New_York:20250501T160000
DTSTAMP:20260423T124539
CREATED:20250325T133012Z
LAST-MODIFIED:20250325T133012Z
UID:10000970-1746108000-1746115200@manchesterproud.org
SUMMARY:Morphs & Milestones
DESCRIPTION:Learn about snakes\, turtles and other reptiles from around the  world.  Through hands-on opportunities\, kids will learn about their environments where they live; what they eat and other fun and interesting facts.  For ore information\, please call 624-6550 ext. 7628
URL:https://manchesterproud.org/the-event/morphs-milestones/
LOCATION:Manchester City Library\, 405 Pine Street\, Manchester\, 03104\, United States
CATEGORIES:Expanded Learning Time
ATTACH;FMTTYPE=image/jpeg:https://manchesterproud.org/wp-content/uploads/2024/03/blog-Default-ImageV2.jpg
END:VEVENT
BEGIN:VEVENT
DTSTART;TZID=America/New_York:20250501T110000
DTEND;TZID=America/New_York:20250501T120000
DTSTAMP:20260423T124539
CREATED:20250325T132907Z
LAST-MODIFIED:20250325T132907Z
UID:10000969-1746097200-1746100800@manchesterproud.org
SUMMARY:Family Storytime
DESCRIPTION:Family Storytimes for 2-5 years old will meet Thurdays mornings at 10:00 & 11:00 am. These are drop in sessions.  Please attend only one session each week which so everyone can attend this very popular program. All sessions are held in the Winchell Room.  For more information contact the Children’s Room at 603-624-6550 ext. 7628
URL:https://manchesterproud.org/the-event/family-storytime-32/
LOCATION:Manchester City Library\, 405 Pine Street\, Manchester\, 03104\, United States
CATEGORIES:Early Childhood
ATTACH;FMTTYPE=image/jpeg:https://manchesterproud.org/wp-content/uploads/2024/03/blog-Default-ImageV2.jpg
END:VEVENT
BEGIN:VEVENT
DTSTART;TZID=America/New_York:20250501T100000
DTEND;TZID=America/New_York:20250501T110000
DTSTAMP:20260423T124539
CREATED:20250325T132815Z
LAST-MODIFIED:20250325T132815Z
UID:10000968-1746093600-1746097200@manchesterproud.org
SUMMARY:Family Storytime
DESCRIPTION:Family Storytimes for 2-5 years old will meet Thurdays mornings at 10:00 & 11:00 am. These are drop in sessions.  Please attend only one session each week which so everyone can attend this very popular program. All sessions are held in the Winchell Room.   For more information contact the Children’s Room at 603-624-6550 ext 7628
URL:https://manchesterproud.org/the-event/family-storytime-31/
LOCATION:Manchester City Library\, 405 Pine Street\, Manchester\, 03104\, United States
CATEGORIES:Early Childhood
ATTACH;FMTTYPE=image/jpeg:https://manchesterproud.org/wp-content/uploads/2024/03/blog-Default-ImageV2.jpg
END:VEVENT
BEGIN:VEVENT
DTSTART;TZID=America/New_York:20250430T173000
DTEND;TZID=America/New_York:20250430T200000
DTSTAMP:20260423T124539
CREATED:20250325T132715Z
LAST-MODIFIED:20250325T132715Z
UID:10000967-1746034200-1746043200@manchesterproud.org
SUMMARY:Teen Movie & Pizza Night
DESCRIPTION:Come for a movie and pizza in the auditorium\, where we’ll watch a teen movie on the big screen. For teens in grades 6 – 12. Movies may be rated PG-13 or PG. \nRegistration in advance is requested to help us plan. If you have food allergies or restrictions\, let us know when you register or email Dori ahead of time at mclyouthservices@manchesternh.gov.  Please feel free to also email with movie suggestions you would like to watch! \nVisit the Teen Services website at www.manchesterlibrary.org/teens for movie updates. \nRegister here
URL:https://manchesterproud.org/the-event/teen-movie-pizza-night-6/
LOCATION:Manchester City Library\, 405 Pine Street\, Manchester\, 03104\, United States
CATEGORIES:Expanded Learning Time
ATTACH;FMTTYPE=image/jpeg:https://manchesterproud.org/wp-content/uploads/2024/03/blog-Default-ImageV2.jpg
END:VEVENT
BEGIN:VEVENT
DTSTART;TZID=America/New_York:20250430T153000
DTEND;TZID=America/New_York:20250430T163000
DTSTAMP:20260423T124539
CREATED:20250325T132457Z
LAST-MODIFIED:20250325T132457Z
UID:10000965-1746027000-1746030600@manchesterproud.org
SUMMARY:Slime-of-the-Month
DESCRIPTION:We will be making Glitter Slime\, by special request and to celebrate spring! Come ready to get messy! Registration is required to make sure that we have enough supplies prepared for all. For Grades 1-6. \nRegister here
URL:https://manchesterproud.org/the-event/slime-of-the-month-2/
LOCATION:Manchester City Library\, 405 Pine Street\, Manchester\, 03104\, United States
CATEGORIES:Expanded Learning Time
ATTACH;FMTTYPE=image/jpeg:https://manchesterproud.org/wp-content/uploads/2024/03/blog-Default-ImageV2.jpg
END:VEVENT
BEGIN:VEVENT
DTSTART;TZID=America/New_York:20250430T100000
DTEND;TZID=America/New_York:20250430T110000
DTSTAMP:20260423T124539
CREATED:20250325T132121Z
LAST-MODIFIED:20250325T132121Z
UID:10000963-1746007200-1746010800@manchesterproud.org
SUMMARY:Community Morning
DESCRIPTION:Community Morning at 10:00 am in the Winchell Room and Library Parking Lot. Families are invited to come and meet some of Manchester’s Community Helpers. Milly\, Manchester’s Comfort Pony along with Patch from the Police Department\, one of the Manchester Fire Trucks.  This is a drop-in program. For more information\, please call 603-624-6550 ext. 7628.
URL:https://manchesterproud.org/the-event/community-morning/
LOCATION:Manchester City Library\, 405 Pine Street\, Manchester\, 03104\, United States
CATEGORIES:Expanded Learning Time
ATTACH;FMTTYPE=image/jpeg:https://manchesterproud.org/wp-content/uploads/2024/03/blog-Default-ImageV2.jpg
END:VEVENT
BEGIN:VEVENT
DTSTART;TZID=America/New_York:20250429T160000
DTEND;TZID=America/New_York:20250429T193000
DTSTAMP:20260423T124539
CREATED:20250325T132024Z
LAST-MODIFIED:20250325T132024Z
UID:10000962-1745942400-1745955000@manchesterproud.org
SUMMARY:Family Game Night
DESCRIPTION:Drop by the children’s room for Family Game Night. We will have different board games and puzzles for families to enjoy as you browse from books. For more information\, please call 603-624-6550 ext. 7628.
URL:https://manchesterproud.org/the-event/family-game-night-15/
LOCATION:Manchester City Library\, 405 Pine Street\, Manchester\, 03104\, United States
CATEGORIES:Expanded Learning Time
ATTACH;FMTTYPE=image/jpeg:https://manchesterproud.org/wp-content/uploads/2024/03/blog-Default-ImageV2.jpg
END:VEVENT
BEGIN:VEVENT
DTSTART;TZID=America/New_York:20250429T150000
DTEND;TZID=America/New_York:20250429T163000
DTSTAMP:20260423T124539
CREATED:20250325T131915Z
LAST-MODIFIED:20250325T131915Z
UID:10000961-1745938800-1745944200@manchesterproud.org
SUMMARY:STEM Challenge
DESCRIPTION:Join Ms. Yvonne from 3:00-4:30 pm in the Winchell Room to check out several activities and/or crafts based on science\, technology\, engineering\, art and math. How long of a chain reaction can you build before it all explodes? We are pulling out all of our craft sticks so you can build the most potential energy by bending and weaving the most craft sticks. The longer the chain\, the higher the craft sticks will jump when the energy is released! Weaving the chain can be hard\, so it is suggested main builders be at least 8 years or up in age. This is a drop in program. For more information\, please call 603-624-6550 ext.7628.
URL:https://manchesterproud.org/the-event/stem-challenge/
LOCATION:Manchester City Library\, 405 Pine Street\, Manchester\, 03104\, United States
CATEGORIES:Expanded Learning Time
ATTACH;FMTTYPE=image/jpeg:https://manchesterproud.org/wp-content/uploads/2024/03/blog-Default-ImageV2.jpg
END:VEVENT
BEGIN:VEVENT
DTSTART;TZID=America/New_York:20250429T120000
DTEND;TZID=America/New_York:20250429T130000
DTSTAMP:20260423T124539
CREATED:20250325T131810Z
LAST-MODIFIED:20250325T131810Z
UID:10000960-1745928000-1745931600@manchesterproud.org
SUMMARY:Teddy Bear Picnic
DESCRIPTION:Come join us for the Manchester City Library’s Annual Teddy Bear Picnic.  Tuesday\, April 29\, 2025 at 11:30 am\, we will gather in the Children’s Room.  When everyone is ready\, we will parade through the library and then outside to the side lawn for a picnic. Beginning at 12:00 pm\, Musician Mr. Aaron\, will be on the south lawn for a foot stomping interactive concert.   Don’t forget to bring your teddy bears!  Registration is not required.  Social distancing will be at this program. For more information\, please call 624-6550 ext. 7628
URL:https://manchesterproud.org/the-event/teddy-bear-picnic/
LOCATION:Manchester City Library\, 405 Pine Street\, Manchester\, 03104\, United States
CATEGORIES:Expanded Learning Time
ATTACH;FMTTYPE=image/jpeg:https://manchesterproud.org/wp-content/uploads/2024/03/blog-Default-ImageV2.jpg
END:VEVENT
BEGIN:VEVENT
DTSTART;TZID=America/New_York:20250428T150000
DTEND;TZID=America/New_York:20250428T160000
DTSTAMP:20260423T124539
CREATED:20250325T131712Z
LAST-MODIFIED:20250325T131712Z
UID:10000959-1745852400-1745856000@manchesterproud.org
SUMMARY:Minion Party
DESCRIPTION:We will be having a Minion Party at 3:00 pm in the Winchell Room. Not only do they love bananas but they also love their library.  There will be minion activities and refreshments.  You will make your very own minion pal.  For grades K-5.  Registration is required to make sure we have enough materials for everyone.  For more information\, please call 624-6550 ext. 7628. \nRegister here
URL:https://manchesterproud.org/the-event/minion-party/
LOCATION:Manchester City Library\, 405 Pine Street\, Manchester\, 03104\, United States
CATEGORIES:Early Childhood,Expanded Learning Time
ATTACH;FMTTYPE=image/jpeg:https://manchesterproud.org/wp-content/uploads/2024/03/blog-Default-ImageV2.jpg
END:VEVENT
BEGIN:VEVENT
DTSTART;TZID=America/New_York:20250428T100000
DTEND;TZID=America/New_York:20250428T110000
DTSTAMP:20260423T124539
CREATED:20250325T131537Z
LAST-MODIFIED:20250325T131600Z
UID:10000958-1745834400-1745838000@manchesterproud.org
SUMMARY:Messy Art Morning
DESCRIPTION:We are having a Messy Art Morning on Monday\, April 28\, 2025.  We will listen to fun stories and then create a messy art masterpiece.  Registration is required so we have enough art supplies for everyone.  For ages 2-6 years.  For more information\, please call 603-624-6550 ext. 7635. \nRegister here
URL:https://manchesterproud.org/the-event/messy-art-morning/
LOCATION:Manchester City Library\, 405 Pine Street\, Manchester\, 03104\, United States
CATEGORIES:Early Childhood
ATTACH;FMTTYPE=image/jpeg:https://manchesterproud.org/wp-content/uploads/2024/03/blog-Default-ImageV2.jpg
END:VEVENT
BEGIN:VEVENT
DTSTART;TZID=America/New_York:20250426T110000
DTEND;TZID=America/New_York:20250426T120000
DTSTAMP:20260423T124539
CREATED:20250325T131430Z
LAST-MODIFIED:20250325T131430Z
UID:10000957-1745665200-1745668800@manchesterproud.org
SUMMARY:Earth Day Celebration
DESCRIPTION:Families are invited to join Education students from UNH-Manchester\, the New Hampshire Toy Library along with Ms. Karyn on Saturday April 26\, 2025 from 11:00-1:00PM in the Winchell Room.  There will be fun crafts to make from recycled materials as well as fun games to play    This is a drop in program; registration is not required. For more information\, please call 603-624-6550 ext. 7628.
URL:https://manchesterproud.org/the-event/earth-day-celebration/
LOCATION:Manchester City Library\, 405 Pine Street\, Manchester\, 03104\, United States
CATEGORIES:Early Childhood,Expanded Learning Time
ATTACH;FMTTYPE=image/jpeg:https://manchesterproud.org/wp-content/uploads/2024/03/blog-Default-ImageV2.jpg
END:VEVENT
BEGIN:VEVENT
DTSTART;TZID=America/New_York:20250425T100000
DTEND;TZID=America/New_York:20250425T110000
DTSTAMP:20260423T124539
CREATED:20250325T131335Z
LAST-MODIFIED:20250325T131335Z
UID:10000956-1745575200-1745578800@manchesterproud.org
SUMMARY:Baby Storytime
DESCRIPTION:And for our youngest patrons\, 6-23 months\, Baby Storytime will be on Friday mornings at 10:00 am in the Winchell Room This is also a drop in program.  For more information\, please call 624-6550 ext. 7628.
URL:https://manchesterproud.org/the-event/baby-storytime-10/
LOCATION:Manchester City Library\, 405 Pine Street\, Manchester\, 03104\, United States
CATEGORIES:Early Childhood
ATTACH;FMTTYPE=image/jpeg:https://manchesterproud.org/wp-content/uploads/2024/03/blog-Default-ImageV2.jpg
END:VEVENT
BEGIN:VEVENT
DTSTART;TZID=America/New_York:20250424T150000
DTEND;TZID=America/New_York:20250424T163000
DTSTAMP:20260423T124539
CREATED:20250325T131244Z
LAST-MODIFIED:20250325T131244Z
UID:10000955-1745506800-1745512200@manchesterproud.org
SUMMARY:Teen Thursdays
DESCRIPTION:Every Thursday\, come hang out in the Winchell Room after school.  We’ll have snacks\, arts and craft supplies\, Nintendo Switch\, and other games.  One or twice a month we’ll have a special structured craft or activity. \nCheck the teen website for further details at manchesterlibrary.org/teens. \nFor teens in grades 6-12.
URL:https://manchesterproud.org/the-event/teen-thursdays-16/
LOCATION:Manchester City Library\, 405 Pine Street\, Manchester\, 03104\, United States
CATEGORIES:Expanded Learning Time
ATTACH;FMTTYPE=image/jpeg:https://manchesterproud.org/wp-content/uploads/2024/03/blog-Default-ImageV2.jpg
END:VEVENT
BEGIN:VEVENT
DTSTART;TZID=America/New_York:20250424T110000
DTEND;TZID=America/New_York:20250424T120000
DTSTAMP:20260423T124539
CREATED:20250325T131122Z
LAST-MODIFIED:20250325T131122Z
UID:10000954-1745492400-1745496000@manchesterproud.org
SUMMARY:Family Storytime
DESCRIPTION:Family Storytimes for 2-5 years old will meet Thurdays mornings at 10:00 & 11:00 am. These are drop in sessions.  Please attend only one session each week which so everyone can attend this very popular program. All sessions are held in the Winchell Room.  For more information contact the Children’s Room at 603-624-6550 ext. 7628
URL:https://manchesterproud.org/the-event/family-storytime-30/
LOCATION:Manchester City Library\, 405 Pine Street\, Manchester\, 03104\, United States
CATEGORIES:Early Childhood
ATTACH;FMTTYPE=image/jpeg:https://manchesterproud.org/wp-content/uploads/2024/03/blog-Default-ImageV2.jpg
END:VEVENT
BEGIN:VEVENT
DTSTART;TZID=America/New_York:20250424T100000
DTEND;TZID=America/New_York:20250424T110000
DTSTAMP:20260423T124539
CREATED:20250325T131024Z
LAST-MODIFIED:20250325T131024Z
UID:10000953-1745488800-1745492400@manchesterproud.org
SUMMARY:Family Storytime
DESCRIPTION:Family Storytimes for 2-5 years old will meet Thurdays mornings at 10:00 & 11:00 am. These are drop in sessions.  Please attend only one session each week which so everyone can attend this very popular program. All sessions are held in the Winchell Room.   For more information contact the Children’s Room at 603-624-6550 ext 7628
URL:https://manchesterproud.org/the-event/family-storytime-29/
LOCATION:Manchester City Library\, 405 Pine Street\, Manchester\, 03104\, United States
CATEGORIES:Early Childhood
ATTACH;FMTTYPE=image/jpeg:https://manchesterproud.org/wp-content/uploads/2024/03/blog-Default-ImageV2.jpg
END:VEVENT
BEGIN:VEVENT
DTSTART;TZID=America/New_York:20250422T160000
DTEND;TZID=America/New_York:20250422T193000
DTSTAMP:20260423T124539
CREATED:20250325T130657Z
LAST-MODIFIED:20250325T130657Z
UID:10000950-1745337600-1745350200@manchesterproud.org
SUMMARY:Family Game Night
DESCRIPTION:Drop by the children’s room for Family Game Night. We will have different board games and puzzles for families to enjoy as you browse fro books. For more information\, please call 603-624-6550 ext. 7628.
URL:https://manchesterproud.org/the-event/family-game-night-14/
LOCATION:Manchester City Library\, 405 Pine Street\, Manchester\, 03104\, United States
CATEGORIES:Expanded Learning Time
ATTACH;FMTTYPE=image/jpeg:https://manchesterproud.org/wp-content/uploads/2024/03/blog-Default-ImageV2.jpg
END:VEVENT
BEGIN:VEVENT
DTSTART;TZID=America/New_York:20250418T150000
DTEND;TZID=America/New_York:20250418T163000
DTSTAMP:20260423T124539
CREATED:20250325T130319Z
LAST-MODIFIED:20250325T130319Z
UID:10000949-1744988400-1744993800@manchesterproud.org
SUMMARY:Lego Afternoon
DESCRIPTION:Once a month\, come build with the 10\,000 Lego pieces that have been donated by Lego System. This is a drop in session\, no registration is required.  This program is for ages 3-12 years old.  For more information\, please call 624-6550 ext. 7628
URL:https://manchesterproud.org/the-event/lego-afternoon-6/
LOCATION:Manchester City Library\, 405 Pine Street\, Manchester\, 03104\, United States
CATEGORIES:Expanded Learning Time
ATTACH;FMTTYPE=image/jpeg:https://manchesterproud.org/wp-content/uploads/2024/03/blog-Default-ImageV2.jpg
END:VEVENT
BEGIN:VEVENT
DTSTART;TZID=America/New_York:20250417T150000
DTEND;TZID=America/New_York:20250417T163000
DTSTAMP:20260423T124539
CREATED:20250325T130229Z
LAST-MODIFIED:20250325T130229Z
UID:10000948-1744902000-1744907400@manchesterproud.org
SUMMARY:Teen Thursdays
DESCRIPTION:Every Thursday\, come hang out in the Winchell Room after school.  We’ll have snacks\, arts and craft supplies\, Nintendo Switch\, and other games.  One or twice a month we’ll have a special structured craft or activity. \nCheck the teen website for further details at manchesterlibrary.org/teens. \nFor teens in grades 6-12.
URL:https://manchesterproud.org/the-event/teen-thursdays-15/
LOCATION:Manchester City Library\, 405 Pine Street\, Manchester\, 03104\, United States
CATEGORIES:Expanded Learning Time
ATTACH;FMTTYPE=image/jpeg:https://manchesterproud.org/wp-content/uploads/2024/03/blog-Default-ImageV2.jpg
END:VEVENT
BEGIN:VEVENT
DTSTART;TZID=America/New_York:20250416T183000
DTEND;TZID=America/New_York:20250416T193000
DTSTAMP:20260423T124539
CREATED:20250325T130103Z
LAST-MODIFIED:20250325T130124Z
UID:10000947-1744828200-1744831800@manchesterproud.org
SUMMARY:Writer's Group
DESCRIPTION:Join the Manchester City Library on the third Wednesday of each month at 6:30pm either in person or virtually via Zoom for our writers group! Meet with other writers\, discuss what you’re writing\, critique others’ work\, and give feedback. This group is open to writers of all abilities\, aged teen and up. Please sign up to participate. \nFor questions\, call Tess at 603-624-6550 x7620 or email tkimsey@manchesternh.gov \nRegister here
URL:https://manchesterproud.org/the-event/12798/
LOCATION:Manchester City Library\, 405 Pine Street\, Manchester\, 03104\, United States
CATEGORIES:Career Connected Learning,Expanded Learning Time
ATTACH;FMTTYPE=image/jpeg:https://manchesterproud.org/wp-content/uploads/2024/03/blog-Default-ImageV2.jpg
END:VEVENT
BEGIN:VEVENT
DTSTART;TZID=America/New_York:20250416T100000
DTEND;TZID=America/New_York:20250416T110000
DTSTAMP:20260423T124539
CREATED:20250325T125521Z
LAST-MODIFIED:20250325T125601Z
UID:10000944-1744797600-1744801200@manchesterproud.org
SUMMARY:Spring Animals Storytime
DESCRIPTION:Join Ms. Karyn along with Ms. Heather from Amoskeag Health at 10:00 am in the Winchell Room. Spring has sprung!  We will listen to fun stories about our animal friends who are waking up from a long nap.  Afterwards\, there will be a cute craft to make and take home. This storytime is for ages 1-5 years old. For more information\, please call 603-624-6550 ext. 7628. \nRegister here
URL:https://manchesterproud.org/the-event/spring-animals-storytime/
LOCATION:Manchester City Library\, 405 Pine Street\, Manchester\, 03104\, United States
CATEGORIES:Early Childhood
ATTACH;FMTTYPE=image/jpeg:https://manchesterproud.org/wp-content/uploads/2024/03/blog-Default-ImageV2.jpg
END:VEVENT
BEGIN:VEVENT
DTSTART;TZID=America/New_York:20250415T160000
DTEND;TZID=America/New_York:20250415T193000
DTSTAMP:20260423T124539
CREATED:20250325T125429Z
LAST-MODIFIED:20250325T125429Z
UID:10000943-1744732800-1744745400@manchesterproud.org
SUMMARY:Family Game Night
DESCRIPTION:Drop by the children’s room for Family Game Night. We will have different board games and puzzles for families to enjoy as you browse fro books. For more information\, please call 603-624-6550 ext. 7628.
URL:https://manchesterproud.org/the-event/family-game-night-13/
LOCATION:Manchester City Library\, 405 Pine Street\, Manchester\, 03104\, United States
CATEGORIES:Expanded Learning Time
ATTACH;FMTTYPE=image/jpeg:https://manchesterproud.org/wp-content/uploads/2024/03/blog-Default-ImageV2.jpg
END:VEVENT
END:VCALENDAR