BEGIN:VCALENDAR
VERSION:2.0
PRODID:-//Manchester Proud - ECPv6.15.17.1//NONSGML v1.0//EN
CALSCALE:GREGORIAN
METHOD:PUBLISH
X-ORIGINAL-URL:https://manchesterproud.org
X-WR-CALDESC:Events for Manchester Proud
REFRESH-INTERVAL;VALUE=DURATION:PT1H
X-Robots-Tag:noindex
X-PUBLISHED-TTL:PT1H
BEGIN:VTIMEZONE
TZID:America/New_York
BEGIN:DAYLIGHT
TZOFFSETFROM:-0500
TZOFFSETTO:-0400
TZNAME:EDT
DTSTART:20240310T070000
END:DAYLIGHT
BEGIN:STANDARD
TZOFFSETFROM:-0400
TZOFFSETTO:-0500
TZNAME:EST
DTSTART:20241103T060000
END:STANDARD
BEGIN:DAYLIGHT
TZOFFSETFROM:-0500
TZOFFSETTO:-0400
TZNAME:EDT
DTSTART:20250309T070000
END:DAYLIGHT
BEGIN:STANDARD
TZOFFSETFROM:-0400
TZOFFSETTO:-0500
TZNAME:EST
DTSTART:20251102T060000
END:STANDARD
BEGIN:DAYLIGHT
TZOFFSETFROM:-0500
TZOFFSETTO:-0400
TZNAME:EDT
DTSTART:20260308T070000
END:DAYLIGHT
BEGIN:STANDARD
TZOFFSETFROM:-0400
TZOFFSETTO:-0500
TZNAME:EST
DTSTART:20261101T060000
END:STANDARD
END:VTIMEZONE
BEGIN:VEVENT
DTSTART;TZID=America/New_York:20250409T130000
DTEND;TZID=America/New_York:20250409T140000
DTSTAMP:20260425T070102
CREATED:20250325T124344Z
LAST-MODIFIED:20250325T124344Z
UID:10000935-1744203600-1744207200@manchesterproud.org
SUMMARY:Spring Moana Party
DESCRIPTION:Join Ms. Karyn and the Manchester School of Technology Education Students on April 9th from 1:00-2:00 in the Winchell for a fun spring Moana Party. We will listen to the story of Moana and dance to Moana music.  There will be seashell scavenger hunt. You will get to build a boat that floats for you to take home.  This program is for ages 1-5 years.  Registration is recommended to make sure we have enough supplies for everyone.  For more information\, please call 603-624-6550 ext. 7628. \nRegister here
URL:https://manchesterproud.org/the-event/spring-moana-party/
LOCATION:Manchester City Library\, 405 Pine Street\, Manchester\, 03104\, United States
CATEGORIES:Expanded Learning Time
ATTACH;FMTTYPE=image/jpeg:https://manchesterproud.org/wp-content/uploads/2024/03/blog-Default-ImageV2.jpg
END:VEVENT
BEGIN:VEVENT
DTSTART;TZID=America/New_York:20250409T100000
DTEND;TZID=America/New_York:20250409T110000
DTSTAMP:20260425T070102
CREATED:20250325T124127Z
LAST-MODIFIED:20250325T124127Z
UID:10000933-1744192800-1744196400@manchesterproud.org
SUMMARY:Storytime Science
DESCRIPTION:The Children’s Room staff are excited to announce our Storytime program with SEE Science Center.  Once a month\, kids ages 2-6 years old are invited to join Ms. Yvonne and Ms. Amanda from the SEE Science Center for Storytime Science.  This storytime is based on a Stem/Steam theme with hands-on activities afterwards. Registration will be required to make sure that we have enough materials for everyone. Storytime Science is a program of the SEE Science Center’s First Steps in Science Initiative presented by Dartmouth Health Childrens. This program is a great way to introduce our youngest patrons to fun STEM/STEAM hands on activities. For more information\, please call 603-624-6550 ext. 7628. \nRegister here
URL:https://manchesterproud.org/the-event/storytime-science-5/
LOCATION:Manchester City Library\, 405 Pine Street\, Manchester\, 03104\, United States
CATEGORIES:Early Childhood
ATTACH;FMTTYPE=image/jpeg:https://manchesterproud.org/wp-content/uploads/2024/03/blog-Default-ImageV2.jpg
END:VEVENT
BEGIN:VEVENT
DTSTART;TZID=America/New_York:20250408T160000
DTEND;TZID=America/New_York:20250408T193000
DTSTAMP:20260425T070102
CREATED:20250325T124024Z
LAST-MODIFIED:20250325T124024Z
UID:10000932-1744128000-1744140600@manchesterproud.org
SUMMARY:Family Game Night
DESCRIPTION:Drop by the children’s room for Family Game Night. We will have different board games and puzzles for families to enjoy as you browse fro books. For more information\, please call 603-624-6550 ext. 7628.
URL:https://manchesterproud.org/the-event/family-game-night-12/
LOCATION:Manchester City Library\, 405 Pine Street\, Manchester\, 03104\, United States
CATEGORIES:Expanded Learning Time
ATTACH;FMTTYPE=image/jpeg:https://manchesterproud.org/wp-content/uploads/2024/03/blog-Default-ImageV2.jpg
END:VEVENT
BEGIN:VEVENT
DTSTART;TZID=America/New_York:20250408T153000
DTEND;TZID=America/New_York:20250408T163000
DTSTAMP:20260425T070102
CREATED:20250325T123943Z
LAST-MODIFIED:20250325T123943Z
UID:10000931-1744126200-1744129800@manchesterproud.org
SUMMARY:Elementary Experiments
DESCRIPTION:Anyone grades 1-6 can join us for activities and crafts with a STEAM focus on the 2nd Tuesday of each month. This month we are seeing where a Penny for Your Thoughts will get you. We are hoping for some shiny pennies and a fun toy when we are done with our experiments!  Remember to register so we can make sure we have enough supplies. \nRegister here
URL:https://manchesterproud.org/the-event/elementary-experiments-5/
LOCATION:Manchester City Library\, 405 Pine Street\, Manchester\, 03104\, United States
CATEGORIES:Expanded Learning Time
ATTACH;FMTTYPE=image/jpeg:https://manchesterproud.org/wp-content/uploads/2024/03/blog-Default-ImageV2.jpg
END:VEVENT
BEGIN:VEVENT
DTSTART;TZID=America/New_York:20250404T100000
DTEND;TZID=America/New_York:20250404T230000
DTSTAMP:20260425T070102
CREATED:20250325T123709Z
LAST-MODIFIED:20250325T123709Z
UID:10000929-1743760800-1743807600@manchesterproud.org
SUMMARY:Baby Storytime
DESCRIPTION:And for our youngest patrons\, 6-23 months\, Baby Storytime will be on Friday mornings at 10:00 am in the Winchell Room This is also a drop in program.  For more information\, please call 624-6550 ext. 7628.
URL:https://manchesterproud.org/the-event/baby-storytime-8/
LOCATION:Manchester City Library\, 405 Pine Street\, Manchester\, 03104\, United States
CATEGORIES:Early Childhood
ATTACH;FMTTYPE=image/jpeg:https://manchesterproud.org/wp-content/uploads/2024/03/blog-Default-ImageV2.jpg
END:VEVENT
BEGIN:VEVENT
DTSTART;TZID=America/New_York:20250403T150000
DTEND;TZID=America/New_York:20250403T163000
DTSTAMP:20260425T070102
CREATED:20250325T123553Z
LAST-MODIFIED:20250325T123553Z
UID:10000928-1743692400-1743697800@manchesterproud.org
SUMMARY:Teen Thursdays
DESCRIPTION:Every Thursday\, come hang out in the Winchell Room after school.  We’ll have snacks\, arts and craft supplies\, Nintendo Switch\, and other games.  One or twice a month we’ll have a special structured craft or activity. \nCheck the teen website for further details at manchesterlibrary.org/teens. \nFor teens in grades 6-12.
URL:https://manchesterproud.org/the-event/teen-thursdays-13/
LOCATION:Manchester City Library\, 405 Pine Street\, Manchester\, 03104\, United States
CATEGORIES:Expanded Learning Time
ATTACH;FMTTYPE=image/jpeg:https://manchesterproud.org/wp-content/uploads/2024/03/blog-Default-ImageV2.jpg
END:VEVENT
BEGIN:VEVENT
DTSTART;TZID=America/New_York:20250403T130000
DTEND;TZID=America/New_York:20250403T150000
DTSTAMP:20260425T070102
CREATED:20250325T123454Z
LAST-MODIFIED:20250325T123454Z
UID:10000927-1743685200-1743692400@manchesterproud.org
SUMMARY:Seed Swap
DESCRIPTION:The Manchester City Library invites you to a Seed Swap in preparation for the 2025 growing season! Join us in the Winchell Room on Thursday\, April 3rd at 1:00 PM for an afternoon of community connections. \nPlease bring with you any seeds you wish to donate! These can be seeds you harvested\, seeds you weren’t able to use last year\, or any other identifiable seeds no older than 2 years. There will be plenty of donation envelopes on hand to package up your donated seeds for inclusion in the Manchester Seed Library. You can also take some seeds home with you! \nThe Manchester Garden Club has been promoting gardening and horticulture for over 90 years. Their goal is to aide in the conservation and protection of our natural environment and to continue to further enhance the beautification of the Manchester Community. New members are encouraged\, and many garden centers offer discounts to members. For more information\, visit https://manchesternhgardenclub.weebly.com/ \nFor questions\, call Sue Harmon at 603-624-6550 ext. 7620 or email sharmon@manchesternh.gov
URL:https://manchesterproud.org/the-event/seed-swap/
LOCATION:Manchester City Library\, 405 Pine Street\, Manchester\, 03104\, United States
CATEGORIES:Basic Needs
ATTACH;FMTTYPE=image/jpeg:https://manchesterproud.org/wp-content/uploads/2024/03/blog-Default-ImageV2.jpg
END:VEVENT
BEGIN:VEVENT
DTSTART;TZID=America/New_York:20250403T110000
DTEND;TZID=America/New_York:20250403T120000
DTSTAMP:20260425T070102
CREATED:20250325T123400Z
LAST-MODIFIED:20250325T123400Z
UID:10000926-1743678000-1743681600@manchesterproud.org
SUMMARY:Family Storytime
DESCRIPTION:Family Storytimes for 2-5 years old will meet Thurdays mornings at 10:00 & 11:00 am. These are drop in sessions.  Please attend only one session each week which so everyone can attend this very popular program. All sessions are held in the Winchell Room.  For more information contact the Children’s Room at 603-624-6550 ext. 7628
URL:https://manchesterproud.org/the-event/family-storytime-26/
LOCATION:Manchester City Library\, 405 Pine Street\, Manchester\, 03104\, United States
CATEGORIES:Early Childhood
ATTACH;FMTTYPE=image/jpeg:https://manchesterproud.org/wp-content/uploads/2024/03/blog-Default-ImageV2.jpg
END:VEVENT
BEGIN:VEVENT
DTSTART;TZID=America/New_York:20250403T100000
DTEND;TZID=America/New_York:20250403T110000
DTSTAMP:20260425T070102
CREATED:20250325T123141Z
LAST-MODIFIED:20250325T123141Z
UID:10000925-1743674400-1743678000@manchesterproud.org
SUMMARY:Family Storytime
DESCRIPTION:Family Storytimes for 2-5 years old will meet Thurdays mornings at 10:00 & 11:00 am. These are drop in sessions.  Please attend only one session each week which so everyone can attend this very popular program. All sessions are held in the Winchell Room.   For more information contact the Children’s Room at 603-624-6550 ext 7628
URL:https://manchesterproud.org/the-event/family-storytime-25/
LOCATION:Manchester City Library\, 405 Pine Street\, Manchester\, 03104\, United States
CATEGORIES:Early Childhood
ATTACH;FMTTYPE=image/jpeg:https://manchesterproud.org/wp-content/uploads/2024/03/blog-Default-ImageV2.jpg
END:VEVENT
BEGIN:VEVENT
DTSTART;TZID=America/New_York:20250402T180000
DTEND;TZID=America/New_York:20250402T190000
DTSTAMP:20260425T070102
CREATED:20250325T123046Z
LAST-MODIFIED:20250325T123046Z
UID:10000924-1743616800-1743620400@manchesterproud.org
SUMMARY:Teen Plus: Craft Night
DESCRIPTION:New this spring – teens in grades 6-12 can bring their plus 1 (or more) for some cool crafting fun. Bring your favorite adult\, sibling\, or friend to create our special Teen Plus monthly craft. \nAPRIL: Mini Terrariums \nAnyone not in grades 6-12 must be accompanied by a teen\, and children under 8 must have an adult in attendance as well as a teen. Please note that the craft projects are intended for teens and adults and may not be suitable for younger children. \nPlease register in advance to help us plan.
URL:https://manchesterproud.org/the-event/teen-plus-craft-night/
LOCATION:Manchester City Library\, 405 Pine Street\, Manchester\, 03104\, United States
CATEGORIES:Expanded Learning Time
ATTACH;FMTTYPE=image/jpeg:https://manchesterproud.org/wp-content/uploads/2024/03/blog-Default-ImageV2.jpg
END:VEVENT
BEGIN:VEVENT
DTSTART;TZID=America/New_York:20250401T160000
DTEND;TZID=America/New_York:20250401T193000
DTSTAMP:20260425T070102
CREATED:20250325T122138Z
LAST-MODIFIED:20250325T122138Z
UID:10000921-1743523200-1743535800@manchesterproud.org
SUMMARY:Family Game Night
DESCRIPTION:Drop by the children’s room for Family Game Night. We will have different board games and puzzles for families to enjoy as you browse fro books. For more information\, please call 603-624-6550 ext. 7628.
URL:https://manchesterproud.org/the-event/family-game-night-11/
LOCATION:Manchester City Library\, 405 Pine Street\, Manchester\, 03104\, United States
CATEGORIES:Expanded Learning Time
ATTACH;FMTTYPE=image/jpeg:https://manchesterproud.org/wp-content/uploads/2024/03/blog-Default-ImageV2.jpg
END:VEVENT
BEGIN:VEVENT
DTSTART;TZID=America/New_York:20250327T150000
DTEND;TZID=America/New_York:20250327T163000
DTSTAMP:20260425T070102
CREATED:20250306T212639Z
LAST-MODIFIED:20250306T212639Z
UID:10000916-1743087600-1743093000@manchesterproud.org
SUMMARY:Teen Thursdays
DESCRIPTION:Every Thursday\, come hang out in the Winchell Room after school.  We’ll have snacks\, arts and craft supplies\, Nintendo Switch\, and other games.  One or twice a month we’ll have a special structured craft or activity.  Check the teen website for further details at www.manchesterlibrary.org/teens.. For teens in grades 6-12.
URL:https://manchesterproud.org/the-event/teen-thursdays-12/
LOCATION:Manchester City Library\, 405 Pine Street\, Manchester\, 03104\, United States
CATEGORIES:Expanded Learning Time
ATTACH;FMTTYPE=image/jpeg:https://manchesterproud.org/wp-content/uploads/2024/03/blog-Default-ImageV2.jpg
END:VEVENT
BEGIN:VEVENT
DTSTART;TZID=America/New_York:20250327T110000
DTEND;TZID=America/New_York:20250327T120000
DTSTAMP:20260425T070102
CREATED:20250306T212533Z
LAST-MODIFIED:20250306T212533Z
UID:10000915-1743073200-1743076800@manchesterproud.org
SUMMARY:Family Storytime
DESCRIPTION:Family Storytimes for 2-5 years old will meet Thurdays mornings at 10:00 & 11:00 am. These are drop in sessions.  Please attend only one session each week which so everyone can attend this very popular program. All sessions are held in the Winchell Room.  For more information contact the Children’s Room at 603-624-6550 ext. 7628
URL:https://manchesterproud.org/the-event/family-storytime-24/
LOCATION:Manchester City Library\, 405 Pine Street\, Manchester\, 03104\, United States
CATEGORIES:Early Childhood
ATTACH;FMTTYPE=image/jpeg:https://manchesterproud.org/wp-content/uploads/2024/03/blog-Default-ImageV2.jpg
END:VEVENT
BEGIN:VEVENT
DTSTART;TZID=America/New_York:20250327T100000
DTEND;TZID=America/New_York:20250327T110000
DTSTAMP:20260425T070102
CREATED:20250306T212439Z
LAST-MODIFIED:20250306T212439Z
UID:10000914-1743069600-1743073200@manchesterproud.org
SUMMARY:Family Storytime
DESCRIPTION:Family Storytimes for 2-5 years old will meet Thurdays mornings at 10:00 & 11:00 am. These are drop in sessions.  Please attend only one session each week which so everyone can attend this very popular program. All sessions are held in the Winchell Room.   For more information contact the Children’s Room at 603-624-6550 ext 7628
URL:https://manchesterproud.org/the-event/family-storytime-23/
LOCATION:Manchester City Library\, 405 Pine Street\, Manchester\, 03104\, United States
CATEGORIES:Early Childhood
ATTACH;FMTTYPE=image/jpeg:https://manchesterproud.org/wp-content/uploads/2024/03/blog-Default-ImageV2.jpg
END:VEVENT
BEGIN:VEVENT
DTSTART;TZID=America/New_York:20250326T153000
DTEND;TZID=America/New_York:20250326T163000
DTSTAMP:20260425T070102
CREATED:20250306T191716Z
LAST-MODIFIED:20250306T191716Z
UID:10000912-1743003000-1743006600@manchesterproud.org
SUMMARY:Slime-of-the-Month
DESCRIPTION:We will be making Candy Slime\, by special request! This slime needs a little more patience and more adult help to heat our candy into a playable form\, so be prepared to listen to instructions as well as to get messy! Registration is required to make sure that we have enough supplies prepared for all. For Grades 1-6 \nRegister here
URL:https://manchesterproud.org/the-event/slime-of-the-month/
LOCATION:Manchester City Library\, 405 Pine Street\, Manchester\, 03104\, United States
CATEGORIES:Expanded Learning Time
ATTACH;FMTTYPE=image/jpeg:https://manchesterproud.org/wp-content/uploads/2024/03/blog-Default-ImageV2.jpg
END:VEVENT
BEGIN:VEVENT
DTSTART;TZID=America/New_York:20250325T160000
DTEND;TZID=America/New_York:20250325T193000
DTSTAMP:20260425T070102
CREATED:20250306T191342Z
LAST-MODIFIED:20250306T191342Z
UID:10000910-1742918400-1742931000@manchesterproud.org
SUMMARY:Family Game Night
DESCRIPTION:Drop by the children’s room for Family Game Night. We will have different board games and puzzles for families to enjoy as you browse fro books. For more information\, please call 603-624-6550 ext. 7628.
URL:https://manchesterproud.org/the-event/family-game-night-10/
LOCATION:Manchester City Library\, 405 Pine Street\, Manchester\, 03104\, United States
CATEGORIES:Expanded Learning Time
ATTACH;FMTTYPE=image/jpeg:https://manchesterproud.org/wp-content/uploads/2024/03/blog-Default-ImageV2.jpg
END:VEVENT
BEGIN:VEVENT
DTSTART;TZID=America/New_York:20250321T150000
DTEND;TZID=America/New_York:20250321T163000
DTSTAMP:20260425T070102
CREATED:20250306T191147Z
LAST-MODIFIED:20250306T191147Z
UID:10000909-1742569200-1742574600@manchesterproud.org
SUMMARY:Lego Afternoon
DESCRIPTION:Once a month\, come build with the 10\,000 Lego pieces that have been donated by Lego System. This is a drop in session\, no registration is required.  This program is for ages 3-12 years old.  For more information\, please call 624-6550 ext. 7628
URL:https://manchesterproud.org/the-event/lego-afternoon-5/
LOCATION:Manchester City Library\, 405 Pine Street\, Manchester\, 03104\, United States
CATEGORIES:Expanded Learning Time
ATTACH;FMTTYPE=image/jpeg:https://manchesterproud.org/wp-content/uploads/2024/03/blog-Default-ImageV2.jpg
END:VEVENT
BEGIN:VEVENT
DTSTART;TZID=America/New_York:20250321T100000
DTEND;TZID=America/New_York:20250321T110000
DTSTAMP:20260425T070102
CREATED:20250306T190934Z
LAST-MODIFIED:20250306T190934Z
UID:10000908-1742551200-1742554800@manchesterproud.org
SUMMARY:Baby Storytime
DESCRIPTION:And for our youngest patrons\, 6-23 months\, Baby Storytime will be on Friday mornings at 10:00 am in the Winchell Room This is also a drop in program.  For more information\, please call 624-6550 ext. 7628.
URL:https://manchesterproud.org/the-event/baby-storytime-7/
LOCATION:Manchester City Library\, 405 Pine Street\, Manchester\, 03104\, United States
CATEGORIES:Early Childhood
ATTACH;FMTTYPE=image/jpeg:https://manchesterproud.org/wp-content/uploads/2024/03/blog-Default-ImageV2.jpg
END:VEVENT
BEGIN:VEVENT
DTSTART;TZID=America/New_York:20250320T150000
DTEND;TZID=America/New_York:20250320T163000
DTSTAMP:20260425T070102
CREATED:20250306T190724Z
LAST-MODIFIED:20250306T190724Z
UID:10000907-1742482800-1742488200@manchesterproud.org
SUMMARY:Teen Thursdays
DESCRIPTION:Every Thursday\, come hang out in the Winchell Room after school.  We’ll have snacks\, arts and craft supplies\, Nintendo Switch\, and other games.  One or twice a month we’ll have a special structured craft or activity.  Check the teen website for further details at www.manchesterlibrary.org/teens.. For teens in grades 6-12.
URL:https://manchesterproud.org/the-event/teen-thursdays-11/
LOCATION:Manchester City Library\, 405 Pine Street\, Manchester\, 03104\, United States
CATEGORIES:Expanded Learning Time
ATTACH;FMTTYPE=image/jpeg:https://manchesterproud.org/wp-content/uploads/2024/03/blog-Default-ImageV2.jpg
END:VEVENT
BEGIN:VEVENT
DTSTART;TZID=America/New_York:20250320T100000
DTEND;TZID=America/New_York:20250320T110000
DTSTAMP:20260425T070102
CREATED:20250306T190501Z
LAST-MODIFIED:20250306T190501Z
UID:10000905-1742464800-1742468400@manchesterproud.org
SUMMARY:Family Storytime
DESCRIPTION:Family Storytimes for 2-5 years old will meet Thurdays mornings at 10:00 & 11:00 am. These are drop in sessions.  Please attend only one session each week which so everyone can attend this very popular program. All sessions are held in the Winchell Room.   For more information contact the Children’s Room at 603-624-6550 ext 7628
URL:https://manchesterproud.org/the-event/family-storytime-21/
LOCATION:Manchester City Library\, 405 Pine Street\, Manchester\, 03104\, United States
CATEGORIES:Early Childhood
ATTACH;FMTTYPE=image/jpeg:https://manchesterproud.org/wp-content/uploads/2024/03/blog-Default-ImageV2.jpg
END:VEVENT
BEGIN:VEVENT
DTSTART;TZID=America/New_York:20250319T173000
DTEND;TZID=America/New_York:20250319T193000
DTSTAMP:20260425T070102
CREATED:20250306T190357Z
LAST-MODIFIED:20250306T190357Z
UID:10000904-1742405400-1742412600@manchesterproud.org
SUMMARY:Teen Movie & Pizza Night
DESCRIPTION:Come for a movie and pizza in the auditorium\, where we’ll watch a teen movie on the big screen. For teens in grades 6 – 12. Movies may be rated PG-13 or PG. \nRegistration in advance is requested to help us plan. If you have food allergies or restrictions\, let us know when you register or email Dori ahead of time at mclyouthservices@manchesternh.gov.  Please feel free to also email with movie suggestions you would like to watch! \nVisit the Teen Services website at www.manchesterlibrary.org/teens for movie updates. \nMarch selection: Inside Out 2 \nRegister here
URL:https://manchesterproud.org/the-event/teen-movie-pizza-night-5/
LOCATION:Manchester City Library\, 405 Pine Street\, Manchester\, 03104\, United States
CATEGORIES:Basic Needs,Expanded Learning Time
ATTACH;FMTTYPE=image/jpeg:https://manchesterproud.org/wp-content/uploads/2024/03/blog-Default-ImageV2.jpg
END:VEVENT
BEGIN:VEVENT
DTSTART;TZID=America/New_York:20250319T100000
DTEND;TZID=America/New_York:20250319T110000
DTSTAMP:20260425T070102
CREATED:20250306T185958Z
LAST-MODIFIED:20250306T185958Z
UID:10000901-1742378400-1742382000@manchesterproud.org
SUMMARY:Signs of Spring Storytime In-Person
DESCRIPTION:Join Ms. Karyn along with Ms. Heather from Amoskeag Health at 10:00 am in the Winchell Room. We will listen to The Tiny Seed by Eric Carle along with other stories on what we see during the arrival of Spring. Afterwards\, there will be a cute craft to make and take home. This storytime is for ages 1-5 years old. For more information\, please call 603-624-6550 ext. 7628.
URL:https://manchesterproud.org/the-event/signs-of-spring-storytime-in-person/
LOCATION:Manchester City Library\, 405 Pine Street\, Manchester\, 03104\, United States
CATEGORIES:Early Childhood
ATTACH;FMTTYPE=image/jpeg:https://manchesterproud.org/wp-content/uploads/2024/03/blog-Default-ImageV2.jpg
END:VEVENT
BEGIN:VEVENT
DTSTART;TZID=America/New_York:20250318T160000
DTEND;TZID=America/New_York:20250318T193000
DTSTAMP:20260425T070102
CREATED:20250306T185910Z
LAST-MODIFIED:20250306T185910Z
UID:10000900-1742313600-1742326200@manchesterproud.org
SUMMARY:Family Game Night
DESCRIPTION:Drop by the children’s room for Family Game Night. We will have different board games and puzzles for families to enjoy as you browse fro books. For more information\, please call 603-624-6550 ext. 7628.
URL:https://manchesterproud.org/the-event/family-game-night-9/
LOCATION:Manchester City Library\, 405 Pine Street\, Manchester\, 03104\, United States
CATEGORIES:Expanded Learning Time
ATTACH;FMTTYPE=image/jpeg:https://manchesterproud.org/wp-content/uploads/2024/03/blog-Default-ImageV2.jpg
END:VEVENT
BEGIN:VEVENT
DTSTART;TZID=America/New_York:20250317T130000
DTEND;TZID=America/New_York:20250317T140000
DTSTAMP:20260425T070102
CREATED:20250306T185707Z
LAST-MODIFIED:20250306T185707Z
UID:10000898-1742216400-1742220000@manchesterproud.org
SUMMARY:Meet & Greet Manchester Fire Department
DESCRIPTION:Families are invited to stop by the library’s Parking lot (Concord Street) to meet members of the Manchester Fire Department and to take a ‘tour’ of a fire truck.  For more information\, please call the Children’s Room at 603-624-6550 ext. 7628
URL:https://manchesterproud.org/the-event/meet-greet-manchester-fire-department-2/
LOCATION:Manchester City Library\, 405 Pine Street\, Manchester\, 03104\, United States
CATEGORIES:Expanded Learning Time,Health and Wellness
ATTACH;FMTTYPE=image/jpeg:https://manchesterproud.org/wp-content/uploads/2024/03/blog-Default-ImageV2.jpg
END:VEVENT
BEGIN:VEVENT
DTSTART;TZID=America/New_York:20250314T100000
DTEND;TZID=America/New_York:20250314T110000
DTSTAMP:20260425T070102
CREATED:20250306T185619Z
LAST-MODIFIED:20250306T185619Z
UID:10000897-1741946400-1741950000@manchesterproud.org
SUMMARY:Baby Storytime
DESCRIPTION:And for our youngest patrons\, 6-23 months\, Baby Storytime will be on Friday mornings at 10:00 am in the Winchell Room This is also a drop in program.  For more information\, please call 624-6550 ext. 7628.
URL:https://manchesterproud.org/the-event/baby-storytime-6/
LOCATION:Manchester City Library\, 405 Pine Street\, Manchester\, 03104\, United States
CATEGORIES:Early Childhood
ATTACH;FMTTYPE=image/jpeg:https://manchesterproud.org/wp-content/uploads/2024/03/blog-Default-ImageV2.jpg
END:VEVENT
BEGIN:VEVENT
DTSTART;TZID=America/New_York:20250313T150000
DTEND;TZID=America/New_York:20250313T163000
DTSTAMP:20260425T070102
CREATED:20250306T185455Z
LAST-MODIFIED:20250306T185455Z
UID:10000896-1741878000-1741883400@manchesterproud.org
SUMMARY:Teen Thursdays
DESCRIPTION:Every Thursday\, come hang out in the Winchell Room after school.  We’ll have snacks\, arts and craft supplies\, Nintendo Switch\, and other games.  One or twice a month we’ll have a special structured craft or activity.  Check the teen website for further details at www.manchesterlibrary.org/teens.. For teens in grades 6-12.
URL:https://manchesterproud.org/the-event/teen-thursdays-10/
LOCATION:Manchester City Library\, 405 Pine Street\, Manchester\, 03104\, United States
CATEGORIES:Expanded Learning Time
ATTACH;FMTTYPE=image/jpeg:https://manchesterproud.org/wp-content/uploads/2024/03/blog-Default-ImageV2.jpg
END:VEVENT
BEGIN:VEVENT
DTSTART;TZID=America/New_York:20250313T110000
DTEND;TZID=America/New_York:20250313T120000
DTSTAMP:20260425T070102
CREATED:20250306T185341Z
LAST-MODIFIED:20250306T185341Z
UID:10000895-1741863600-1741867200@manchesterproud.org
SUMMARY:Family Storytime
DESCRIPTION:Family Storytimes for 2-5 years old will meet Thurdays mornings at 10:00 & 11:00 am. These are drop in sessions.  Please attend only one session each week which so everyone can attend this very popular program. All sessions are held in the Winchell Room.  For more information contact the Children’s Room at 603-624-6550 ext. 7628
URL:https://manchesterproud.org/the-event/family-storytime-20/
LOCATION:Manchester City Library\, 405 Pine Street\, Manchester\, 03104\, United States
CATEGORIES:Early Childhood
ATTACH;FMTTYPE=image/jpeg:https://manchesterproud.org/wp-content/uploads/2024/03/blog-Default-ImageV2.jpg
END:VEVENT
BEGIN:VEVENT
DTSTART;TZID=America/New_York:20250313T100000
DTEND;TZID=America/New_York:20250313T110000
DTSTAMP:20260425T070102
CREATED:20250306T185249Z
LAST-MODIFIED:20250306T185249Z
UID:10000894-1741860000-1741863600@manchesterproud.org
SUMMARY:Family Storytime
DESCRIPTION:Family Storytimes for 2-5 years old will meet Thurdays mornings at 10:00 & 11:00 am. These are drop in sessions.  Please attend only one session each week which so everyone can attend this very popular program. All sessions are held in the Winchell Room.   For more information contact the Children’s Room at 603-624-6550 ext 7628
URL:https://manchesterproud.org/the-event/family-storytime-19/
LOCATION:Manchester City Library\, 405 Pine Street\, Manchester\, 03104\, United States
CATEGORIES:Early Childhood
ATTACH;FMTTYPE=image/jpeg:https://manchesterproud.org/wp-content/uploads/2024/03/blog-Default-ImageV2.jpg
END:VEVENT
BEGIN:VEVENT
DTSTART;TZID=America/New_York:20250312T100000
DTEND;TZID=America/New_York:20250312T110000
DTSTAMP:20260425T070102
CREATED:20250306T184722Z
LAST-MODIFIED:20250306T184722Z
UID:10000891-1741773600-1741777200@manchesterproud.org
SUMMARY:Storytime Science
DESCRIPTION:The Children’s Room staff are excited to announce our Storytime program with SEE Science Center.  Once a month\, kids ages 2-6 years old are invited to join Ms. Yvonne and Ms. Amanda from the SEE Science Center for Storytime Science.  This storytime is based on a Stem/Steam theme with hands-on activities afterwards. Registration will be required to make sure that we have enough materials for everyone. Storytime Science is a program of the SEE Science Center’s First Steps in Science Initiative presented by Dartmouth Health Childrens. This program is a great way to introduce our youngest patrons to fun STEM/STEAM hands on activities. For more information\, please call 603-624-6550 ext. 7628.
URL:https://manchesterproud.org/the-event/storytime-science-4/
LOCATION:Manchester City Library\, 405 Pine Street\, Manchester\, 03104\, United States
CATEGORIES:Early Childhood,Expanded Learning Time
ATTACH;FMTTYPE=image/jpeg:https://manchesterproud.org/wp-content/uploads/2024/03/blog-Default-ImageV2.jpg
END:VEVENT
BEGIN:VEVENT
DTSTART;TZID=America/New_York:20250311T160000
DTEND;TZID=America/New_York:20250311T193000
DTSTAMP:20260425T070102
CREATED:20250306T184623Z
LAST-MODIFIED:20250306T184623Z
UID:10000890-1741708800-1741721400@manchesterproud.org
SUMMARY:Family Game Night
DESCRIPTION:Drop by the children’s room for Family Game Night. We will have different board games and puzzles for families to enjoy as you browse fro books. For more information\, please call 603-624-6550 ext. 7628.
URL:https://manchesterproud.org/the-event/family-game-night-8/
LOCATION:Manchester City Library\, 405 Pine Street\, Manchester\, 03104\, United States
CATEGORIES:Expanded Learning Time
ATTACH;FMTTYPE=image/jpeg:https://manchesterproud.org/wp-content/uploads/2024/03/blog-Default-ImageV2.jpg
END:VEVENT
END:VCALENDAR