BEGIN:VCALENDAR
VERSION:2.0
PRODID:-//Manchester Proud - ECPv6.15.17.1//NONSGML v1.0//EN
CALSCALE:GREGORIAN
METHOD:PUBLISH
X-WR-CALNAME:Manchester Proud
X-ORIGINAL-URL:https://manchesterproud.org
X-WR-CALDESC:Events for Manchester Proud
REFRESH-INTERVAL;VALUE=DURATION:PT1H
X-Robots-Tag:noindex
X-PUBLISHED-TTL:PT1H
BEGIN:VTIMEZONE
TZID:America/New_York
BEGIN:DAYLIGHT
TZOFFSETFROM:-0500
TZOFFSETTO:-0400
TZNAME:EDT
DTSTART:20230312T070000
END:DAYLIGHT
BEGIN:STANDARD
TZOFFSETFROM:-0400
TZOFFSETTO:-0500
TZNAME:EST
DTSTART:20231105T060000
END:STANDARD
BEGIN:DAYLIGHT
TZOFFSETFROM:-0500
TZOFFSETTO:-0400
TZNAME:EDT
DTSTART:20240310T070000
END:DAYLIGHT
BEGIN:STANDARD
TZOFFSETFROM:-0400
TZOFFSETTO:-0500
TZNAME:EST
DTSTART:20241103T060000
END:STANDARD
BEGIN:DAYLIGHT
TZOFFSETFROM:-0500
TZOFFSETTO:-0400
TZNAME:EDT
DTSTART:20250309T070000
END:DAYLIGHT
BEGIN:STANDARD
TZOFFSETFROM:-0400
TZOFFSETTO:-0500
TZNAME:EST
DTSTART:20251102T060000
END:STANDARD
BEGIN:DAYLIGHT
TZOFFSETFROM:-0500
TZOFFSETTO:-0400
TZNAME:EDT
DTSTART:20260308T070000
END:DAYLIGHT
BEGIN:STANDARD
TZOFFSETFROM:-0400
TZOFFSETTO:-0500
TZNAME:EST
DTSTART:20261101T060000
END:STANDARD
END:VTIMEZONE
BEGIN:VEVENT
DTSTART;TZID=America/New_York:20250615T170000
DTEND;TZID=America/New_York:20250615T183000
DTSTAMP:20260422T093541
CREATED:20250110T182613Z
LAST-MODIFIED:20250110T182613Z
UID:10000852-1750006800-1750012200@manchesterproud.org
SUMMARY:Manchester School District New Student & Family Welcome Orientation
DESCRIPTION:⭐ New Student & Family Welcome Orientation ⭐\n\n\n \n\n\nThe Manchester School District invites new students and families to join one of our Welcome Orientations. The monthly sessions have been established to support students and families new to the district and community. During the orientation\, families will have a chance to meet district staff and learn more about the academic and extracurricular programs at the school and key resources available to all families. Light refreshments will be served. 🎉\n\n\n \n\n\nOrientations will take place at the Manchester School District’s Family Welcome Center at French Hall at 148 Concord Street\, Manchester\, NH. 📍\n\n\n \n\n\nPlease register ahead of time at this link
URL:https://manchesterproud.org/the-event/manchester-school-district-new-student-family-welcome-orientation/2025-06-15/2/
LOCATION:Manchester School District Family Welcome Center\, 148 Concord St\, Manchester\, NH\, 03104\, United States
CATEGORIES:Basic Needs,Expanded Learning Time,Health and Wellness
ATTACH;FMTTYPE=image/jpeg:https://manchesterproud.org/wp-content/uploads/2024/03/blog-Default-ImageV2.jpg
END:VEVENT
BEGIN:VEVENT
DTSTART;TZID=America/New_York:20250615T100000
DTEND;TZID=America/New_York:20250615T113000
DTSTAMP:20260422T093541
CREATED:20250110T182613Z
LAST-MODIFIED:20250110T182613Z
UID:10000851-1749981600-1749987000@manchesterproud.org
SUMMARY:Manchester School District New Student & Family Welcome Orientation
DESCRIPTION:⭐ New Student & Family Welcome Orientation ⭐\n\n\n \n\n\nThe Manchester School District invites new students and families to join one of our Welcome Orientations. The monthly sessions have been established to support students and families new to the district and community. During the orientation\, families will have a chance to meet district staff and learn more about the academic and extracurricular programs at the school and key resources available to all families. Light refreshments will be served. 🎉\n\n\n \n\n\nOrientations will take place at the Manchester School District’s Family Welcome Center at French Hall at 148 Concord Street\, Manchester\, NH. 📍\n\n\n \n\n\nPlease register ahead of time at this link
URL:https://manchesterproud.org/the-event/manchester-school-district-new-student-family-welcome-orientation/2025-06-15/1/
LOCATION:Manchester School District Family Welcome Center\, 148 Concord St\, Manchester\, NH\, 03104\, United States
CATEGORIES:Basic Needs,Expanded Learning Time,Health and Wellness
ATTACH;FMTTYPE=image/jpeg:https://manchesterproud.org/wp-content/uploads/2024/03/blog-Default-ImageV2.jpg
END:VEVENT
BEGIN:VEVENT
DTSTART;TZID=America/New_York:20250515T183000
DTEND;TZID=America/New_York:20250515T193000
DTSTAMP:20260422T093541
CREATED:20250430T190029Z
LAST-MODIFIED:20250430T190029Z
UID:10001025-1747333800-1747337400@manchesterproud.org
SUMMARY:Let's Talk About Mental Health in Schools
DESCRIPTION:May is Mental Health Awareness Month\, and we are pleased to invite students and families to a meaningful and informative program focused on supporting student mental health. Let’s Talk About Mental Health in Schools is presented in collaboration with Makin’ It Happen\, a dedicated organization working towards enhancing community well-being. Here is information on the event: \nEvent Details\n\nWhen: 6:30 pm on Thursday\, May 15\nWhere: Manchester School District Welcome Center\, 148 Concord Street\nWho: Open to all interested in learning more about mental health supports in schools\nRSVP: Please fill out this form to help us with planning for the event: https://mansd.org/forms/rsvp-form-lets-talk-about-mental-health.\n\nProgram Highlights\nDuring this program\, we will cover essential topics related to mental wellness for students and families\, including the work underway and supports available in our schools. Here’s what you can expect: \n\nUnderstanding mental health issues and warning signs\nDeveloping practical strategies to maintain mental well-being in everyday life\nLearning about mental health resources in our schools and the community\n\nThe event will be held at the District Welcome Center at historic French Hall\, 148 Concord Street. Parking is available in the lot next to the building. Please use the entrance on the parking lot side of the building. \nWe hope you are able to join us for this program at the District Welcome Center on May 15 (RSVP here). We look forward to your participation in supporting a healthier\, more connected community.
URL:https://manchesterproud.org/the-event/lets-talk-about-mental-health-in-schools/
LOCATION:Manchester School District Family Welcome Center\, 148 Concord St\, Manchester\, NH\, 03104\, United States
CATEGORIES:Health and Wellness
ATTACH;FMTTYPE=image/jpeg:https://manchesterproud.org/wp-content/uploads/2024/03/blog-Default-ImageV2.jpg
END:VEVENT
BEGIN:VEVENT
DTSTART;TZID=America/New_York:20250515T170000
DTEND;TZID=America/New_York:20250515T183000
DTSTAMP:20260422T093541
CREATED:20250110T182613Z
LAST-MODIFIED:20250110T182613Z
UID:10000850-1747328400-1747333800@manchesterproud.org
SUMMARY:Manchester School District New Student & Family Welcome Orientation
DESCRIPTION:⭐ New Student & Family Welcome Orientation ⭐\n\n\n \n\n\nThe Manchester School District invites new students and families to join one of our Welcome Orientations. The monthly sessions have been established to support students and families new to the district and community. During the orientation\, families will have a chance to meet district staff and learn more about the academic and extracurricular programs at the school and key resources available to all families. Light refreshments will be served. 🎉\n\n\n \n\n\nOrientations will take place at the Manchester School District’s Family Welcome Center at French Hall at 148 Concord Street\, Manchester\, NH. 📍\n\n\n \n\n\nPlease register ahead of time at this link
URL:https://manchesterproud.org/the-event/manchester-school-district-new-student-family-welcome-orientation/2025-05-15/2/
LOCATION:Manchester School District Family Welcome Center\, 148 Concord St\, Manchester\, NH\, 03104\, United States
CATEGORIES:Basic Needs,Expanded Learning Time,Health and Wellness
ATTACH;FMTTYPE=image/jpeg:https://manchesterproud.org/wp-content/uploads/2024/03/blog-Default-ImageV2.jpg
END:VEVENT
BEGIN:VEVENT
DTSTART;TZID=America/New_York:20250515T100000
DTEND;TZID=America/New_York:20250515T113000
DTSTAMP:20260422T093541
CREATED:20250110T182613Z
LAST-MODIFIED:20250110T182613Z
UID:10000849-1747303200-1747308600@manchesterproud.org
SUMMARY:Manchester School District New Student & Family Welcome Orientation
DESCRIPTION:⭐ New Student & Family Welcome Orientation ⭐\n\n\n \n\n\nThe Manchester School District invites new students and families to join one of our Welcome Orientations. The monthly sessions have been established to support students and families new to the district and community. During the orientation\, families will have a chance to meet district staff and learn more about the academic and extracurricular programs at the school and key resources available to all families. Light refreshments will be served. 🎉\n\n\n \n\n\nOrientations will take place at the Manchester School District’s Family Welcome Center at French Hall at 148 Concord Street\, Manchester\, NH. 📍\n\n\n \n\n\nPlease register ahead of time at this link
URL:https://manchesterproud.org/the-event/manchester-school-district-new-student-family-welcome-orientation/2025-05-15/1/
LOCATION:Manchester School District Family Welcome Center\, 148 Concord St\, Manchester\, NH\, 03104\, United States
CATEGORIES:Basic Needs,Expanded Learning Time,Health and Wellness
ATTACH;FMTTYPE=image/jpeg:https://manchesterproud.org/wp-content/uploads/2024/03/blog-Default-ImageV2.jpg
END:VEVENT
BEGIN:VEVENT
DTSTART;TZID=America/New_York:20250417T170000
DTEND;TZID=America/New_York:20250417T183000
DTSTAMP:20260422T093541
CREATED:20250110T182613Z
LAST-MODIFIED:20250110T182613Z
UID:10000848-1744909200-1744914600@manchesterproud.org
SUMMARY:Manchester School District New Student & Family Welcome Orientation
DESCRIPTION:⭐ New Student & Family Welcome Orientation ⭐\n\n\n \n\n\nThe Manchester School District invites new students and families to join one of our Welcome Orientations. The monthly sessions have been established to support students and families new to the district and community. During the orientation\, families will have a chance to meet district staff and learn more about the academic and extracurricular programs at the school and key resources available to all families. Light refreshments will be served. 🎉\n\n\n \n\n\nOrientations will take place at the Manchester School District’s Family Welcome Center at French Hall at 148 Concord Street\, Manchester\, NH. 📍\n\n\n \n\n\nPlease register ahead of time at this link
URL:https://manchesterproud.org/the-event/manchester-school-district-new-student-family-welcome-orientation/2025-04-17/2/
LOCATION:Manchester School District Family Welcome Center\, 148 Concord St\, Manchester\, NH\, 03104\, United States
CATEGORIES:Basic Needs,Expanded Learning Time,Health and Wellness
ATTACH;FMTTYPE=image/jpeg:https://manchesterproud.org/wp-content/uploads/2024/03/blog-Default-ImageV2.jpg
END:VEVENT
BEGIN:VEVENT
DTSTART;TZID=America/New_York:20250417T100000
DTEND;TZID=America/New_York:20250417T113000
DTSTAMP:20260422T093541
CREATED:20250110T182613Z
LAST-MODIFIED:20250110T182613Z
UID:10000847-1744884000-1744889400@manchesterproud.org
SUMMARY:Manchester School District New Student & Family Welcome Orientation
DESCRIPTION:⭐ New Student & Family Welcome Orientation ⭐\n\n\n \n\n\nThe Manchester School District invites new students and families to join one of our Welcome Orientations. The monthly sessions have been established to support students and families new to the district and community. During the orientation\, families will have a chance to meet district staff and learn more about the academic and extracurricular programs at the school and key resources available to all families. Light refreshments will be served. 🎉\n\n\n \n\n\nOrientations will take place at the Manchester School District’s Family Welcome Center at French Hall at 148 Concord Street\, Manchester\, NH. 📍\n\n\n \n\n\nPlease register ahead of time at this link
URL:https://manchesterproud.org/the-event/manchester-school-district-new-student-family-welcome-orientation/2025-04-17/1/
LOCATION:Manchester School District Family Welcome Center\, 148 Concord St\, Manchester\, NH\, 03104\, United States
CATEGORIES:Basic Needs,Expanded Learning Time,Health and Wellness
ATTACH;FMTTYPE=image/jpeg:https://manchesterproud.org/wp-content/uploads/2024/03/blog-Default-ImageV2.jpg
END:VEVENT
BEGIN:VEVENT
DTSTART;TZID=America/New_York:20250318T170000
DTEND;TZID=America/New_York:20250318T183000
DTSTAMP:20260422T093541
CREATED:20250110T182613Z
LAST-MODIFIED:20250110T182613Z
UID:10000846-1742317200-1742322600@manchesterproud.org
SUMMARY:Manchester School District New Student & Family Welcome Orientation
DESCRIPTION:⭐ New Student & Family Welcome Orientation ⭐\n\n\n \n\n\nThe Manchester School District invites new students and families to join one of our Welcome Orientations. The monthly sessions have been established to support students and families new to the district and community. During the orientation\, families will have a chance to meet district staff and learn more about the academic and extracurricular programs at the school and key resources available to all families. Light refreshments will be served. 🎉\n\n\n \n\n\nOrientations will take place at the Manchester School District’s Family Welcome Center at French Hall at 148 Concord Street\, Manchester\, NH. 📍\n\n\n \n\n\nPlease register ahead of time at this link
URL:https://manchesterproud.org/the-event/manchester-school-district-new-student-family-welcome-orientation/2025-03-18/2/
LOCATION:Manchester School District Family Welcome Center\, 148 Concord St\, Manchester\, NH\, 03104\, United States
CATEGORIES:Basic Needs,Expanded Learning Time,Health and Wellness
ATTACH;FMTTYPE=image/jpeg:https://manchesterproud.org/wp-content/uploads/2024/03/blog-Default-ImageV2.jpg
END:VEVENT
BEGIN:VEVENT
DTSTART;TZID=America/New_York:20250318T100000
DTEND;TZID=America/New_York:20250318T113000
DTSTAMP:20260422T093541
CREATED:20250110T182613Z
LAST-MODIFIED:20250110T182613Z
UID:10000845-1742292000-1742297400@manchesterproud.org
SUMMARY:Manchester School District New Student & Family Welcome Orientation
DESCRIPTION:⭐ New Student & Family Welcome Orientation ⭐\n\n\n \n\n\nThe Manchester School District invites new students and families to join one of our Welcome Orientations. The monthly sessions have been established to support students and families new to the district and community. During the orientation\, families will have a chance to meet district staff and learn more about the academic and extracurricular programs at the school and key resources available to all families. Light refreshments will be served. 🎉\n\n\n \n\n\nOrientations will take place at the Manchester School District’s Family Welcome Center at French Hall at 148 Concord Street\, Manchester\, NH. 📍\n\n\n \n\n\nPlease register ahead of time at this link
URL:https://manchesterproud.org/the-event/manchester-school-district-new-student-family-welcome-orientation/2025-03-18/1/
LOCATION:Manchester School District Family Welcome Center\, 148 Concord St\, Manchester\, NH\, 03104\, United States
CATEGORIES:Basic Needs,Expanded Learning Time,Health and Wellness
ATTACH;FMTTYPE=image/jpeg:https://manchesterproud.org/wp-content/uploads/2024/03/blog-Default-ImageV2.jpg
END:VEVENT
BEGIN:VEVENT
DTSTART;TZID=America/New_York:20250218T170000
DTEND;TZID=America/New_York:20250218T183000
DTSTAMP:20260422T093541
CREATED:20250110T182613Z
LAST-MODIFIED:20250110T182613Z
UID:10000844-1739898000-1739903400@manchesterproud.org
SUMMARY:Manchester School District New Student & Family Welcome Orientation
DESCRIPTION:⭐ New Student & Family Welcome Orientation ⭐\n\n\n \n\n\nThe Manchester School District invites new students and families to join one of our Welcome Orientations. The monthly sessions have been established to support students and families new to the district and community. During the orientation\, families will have a chance to meet district staff and learn more about the academic and extracurricular programs at the school and key resources available to all families. Light refreshments will be served. 🎉\n\n\n \n\n\nOrientations will take place at the Manchester School District’s Family Welcome Center at French Hall at 148 Concord Street\, Manchester\, NH. 📍\n\n\n \n\n\nPlease register ahead of time at this link
URL:https://manchesterproud.org/the-event/manchester-school-district-new-student-family-welcome-orientation/2025-02-18/2/
LOCATION:Manchester School District Family Welcome Center\, 148 Concord St\, Manchester\, NH\, 03104\, United States
CATEGORIES:Basic Needs,Expanded Learning Time,Health and Wellness
ATTACH;FMTTYPE=image/jpeg:https://manchesterproud.org/wp-content/uploads/2024/03/blog-Default-ImageV2.jpg
END:VEVENT
BEGIN:VEVENT
DTSTART;TZID=America/New_York:20250218T100000
DTEND;TZID=America/New_York:20250218T113000
DTSTAMP:20260422T093541
CREATED:20250110T182613Z
LAST-MODIFIED:20250110T182613Z
UID:10000843-1739872800-1739878200@manchesterproud.org
SUMMARY:Manchester School District New Student & Family Welcome Orientation
DESCRIPTION:⭐ New Student & Family Welcome Orientation ⭐\n\n\n \n\n\nThe Manchester School District invites new students and families to join one of our Welcome Orientations. The monthly sessions have been established to support students and families new to the district and community. During the orientation\, families will have a chance to meet district staff and learn more about the academic and extracurricular programs at the school and key resources available to all families. Light refreshments will be served. 🎉\n\n\n \n\n\nOrientations will take place at the Manchester School District’s Family Welcome Center at French Hall at 148 Concord Street\, Manchester\, NH. 📍\n\n\n \n\n\nPlease register ahead of time at this link
URL:https://manchesterproud.org/the-event/manchester-school-district-new-student-family-welcome-orientation/2025-02-18/1/
LOCATION:Manchester School District Family Welcome Center\, 148 Concord St\, Manchester\, NH\, 03104\, United States
CATEGORIES:Basic Needs,Expanded Learning Time,Health and Wellness
ATTACH;FMTTYPE=image/jpeg:https://manchesterproud.org/wp-content/uploads/2024/03/blog-Default-ImageV2.jpg
END:VEVENT
BEGIN:VEVENT
DTSTART;TZID=America/New_York:20250123T170000
DTEND;TZID=America/New_York:20250123T183000
DTSTAMP:20260422T093541
CREATED:20250110T182613Z
LAST-MODIFIED:20250110T182613Z
UID:10000842-1737651600-1737657000@manchesterproud.org
SUMMARY:Manchester School District New Student & Family Welcome Orientation
DESCRIPTION:⭐ New Student & Family Welcome Orientation ⭐\n\n\n \n\n\nThe Manchester School District invites new students and families to join one of our Welcome Orientations. The monthly sessions have been established to support students and families new to the district and community. During the orientation\, families will have a chance to meet district staff and learn more about the academic and extracurricular programs at the school and key resources available to all families. Light refreshments will be served. 🎉\n\n\n \n\n\nOrientations will take place at the Manchester School District’s Family Welcome Center at French Hall at 148 Concord Street\, Manchester\, NH. 📍\n\n\n \n\n\nPlease register ahead of time at this link
URL:https://manchesterproud.org/the-event/manchester-school-district-new-student-family-welcome-orientation/2025-01-23/2/
LOCATION:Manchester School District Family Welcome Center\, 148 Concord St\, Manchester\, NH\, 03104\, United States
CATEGORIES:Basic Needs,Expanded Learning Time,Health and Wellness
ATTACH;FMTTYPE=image/jpeg:https://manchesterproud.org/wp-content/uploads/2024/03/blog-Default-ImageV2.jpg
END:VEVENT
BEGIN:VEVENT
DTSTART;TZID=America/New_York:20250123T100000
DTEND;TZID=America/New_York:20250123T113000
DTSTAMP:20260422T093541
CREATED:20250110T182613Z
LAST-MODIFIED:20250110T182613Z
UID:10000841-1737626400-1737631800@manchesterproud.org
SUMMARY:Manchester School District New Student & Family Welcome Orientation
DESCRIPTION:⭐ New Student & Family Welcome Orientation ⭐\n\n\n \n\n\nThe Manchester School District invites new students and families to join one of our Welcome Orientations. The monthly sessions have been established to support students and families new to the district and community. During the orientation\, families will have a chance to meet district staff and learn more about the academic and extracurricular programs at the school and key resources available to all families. Light refreshments will be served. 🎉\n\n\n \n\n\nOrientations will take place at the Manchester School District’s Family Welcome Center at French Hall at 148 Concord Street\, Manchester\, NH. 📍\n\n\n \n\n\nPlease register ahead of time at this link
URL:https://manchesterproud.org/the-event/manchester-school-district-new-student-family-welcome-orientation/2025-01-23/1/
LOCATION:Manchester School District Family Welcome Center\, 148 Concord St\, Manchester\, NH\, 03104\, United States
CATEGORIES:Basic Needs,Expanded Learning Time,Health and Wellness
ATTACH;FMTTYPE=image/jpeg:https://manchesterproud.org/wp-content/uploads/2024/03/blog-Default-ImageV2.jpg
END:VEVENT
BEGIN:VEVENT
DTSTART;TZID=America/New_York:20240919T160000
DTEND;TZID=America/New_York:20240919T180000
DTSTAMP:20260422T093541
CREATED:20240402T174200Z
LAST-MODIFIED:20240913T174901Z
UID:10000048-1726761600-1726768800@manchesterproud.org
SUMMARY:State of MSD
DESCRIPTION:An update of the Manchester School School District provided by Manchester Proud and Manchester School District Staff.
URL:https://manchesterproud.org/the-event/state-of-msd/
LOCATION:Manchester School District Family Welcome Center\, 148 Concord St\, Manchester\, NH\, 03104\, United States
ATTACH;FMTTYPE=image/jpeg:https://manchesterproud.org/wp-content/uploads/2024/03/blog-Default-ImageV2.jpg
END:VEVENT
END:VCALENDAR