BEGIN:VCALENDAR
VERSION:2.0
PRODID:-//Manchester Proud - ECPv6.15.17.1//NONSGML v1.0//EN
CALSCALE:GREGORIAN
METHOD:PUBLISH
X-ORIGINAL-URL:https://manchesterproud.org
X-WR-CALDESC:Events for Manchester Proud
REFRESH-INTERVAL;VALUE=DURATION:PT1H
X-Robots-Tag:noindex
X-PUBLISHED-TTL:PT1H
BEGIN:VTIMEZONE
TZID:America/New_York
BEGIN:DAYLIGHT
TZOFFSETFROM:-0500
TZOFFSETTO:-0400
TZNAME:EDT
DTSTART:20240310T070000
END:DAYLIGHT
BEGIN:STANDARD
TZOFFSETFROM:-0400
TZOFFSETTO:-0500
TZNAME:EST
DTSTART:20241103T060000
END:STANDARD
BEGIN:DAYLIGHT
TZOFFSETFROM:-0500
TZOFFSETTO:-0400
TZNAME:EDT
DTSTART:20250309T070000
END:DAYLIGHT
BEGIN:STANDARD
TZOFFSETFROM:-0400
TZOFFSETTO:-0500
TZNAME:EST
DTSTART:20251102T060000
END:STANDARD
BEGIN:DAYLIGHT
TZOFFSETFROM:-0500
TZOFFSETTO:-0400
TZNAME:EDT
DTSTART:20260308T070000
END:DAYLIGHT
BEGIN:STANDARD
TZOFFSETFROM:-0400
TZOFFSETTO:-0500
TZNAME:EST
DTSTART:20261101T060000
END:STANDARD
BEGIN:DAYLIGHT
TZOFFSETFROM:-0500
TZOFFSETTO:-0400
TZNAME:EDT
DTSTART:20270314T070000
END:DAYLIGHT
BEGIN:STANDARD
TZOFFSETFROM:-0400
TZOFFSETTO:-0500
TZNAME:EST
DTSTART:20271107T060000
END:STANDARD
END:VTIMEZONE
BEGIN:VEVENT
DTSTART;TZID=America/New_York:20260202T080000
DTEND;TZID=America/New_York:20260218T150000
DTSTAMP:20260421T085138
CREATED:20250825T234324Z
LAST-MODIFIED:20250825T235232Z
UID:10001700-1770019200-1771426800@manchesterproud.org
SUMMARY:DENTAL VAN AT MCDONOUGH ELEMENTARY SCHOOL
DESCRIPTION:If your child does not have a dentist OR private dental insurance (we accept Medicaid) and you would like them to be seen for dental care on the dental van at your school\, please ask for a permission form from the main office. You can also visit our website for permission forms and a full schedule of school visits. \n***We will be providing treatment at ALL public schools in Manchester throughout the school year. We ask that you plan on your child receiving care at their school. In the case of an emergency please call 603-624-6466 to make other arrangements. \nhttps://www.manchesternh.gov/Departments/Health/Services/Dental-Health
URL:https://manchesterproud.org/the-event/dental-van-at-mcdonough-elementary-school/
LOCATION:McDonough Elementary School\, 550 Lowell St\, Manchester\, 03104\, United States
CATEGORIES:Health and Wellness
ATTACH;FMTTYPE=image/jpeg:https://manchesterproud.org/wp-content/uploads/2024/03/blog-Default-ImageV2.jpg
END:VEVENT
BEGIN:VEVENT
DTSTART;TZID=America/New_York:20250410T090000
DTEND;TZID=America/New_York:20250410T143000
DTSTAMP:20260421T085138
CREATED:20250325T170747Z
LAST-MODIFIED:20250325T170747Z
UID:10001010-1744275600-1744295400@manchesterproud.org
SUMMARY:School Registration at McDonough
DESCRIPTION:Registration is now open for Manchester School District for the 2025-2026 school year. Only students new to the district need to be registered – current students are automatically enrolled for the new year. \nFamilies can register students online anytime – you can find registration information here: https://www.mansd.org/page/register-a-student. \nRegistration in person if you need assistance\, including language interpretation.
URL:https://manchesterproud.org/the-event/school-registration-at-mcdonough/
LOCATION:McDonough Elementary School\, 550 Lowell St\, Manchester\, 03104\, United States
ATTACH;FMTTYPE=image/jpeg:https://manchesterproud.org/wp-content/uploads/2024/03/blog-Default-ImageV2.jpg
END:VEVENT
BEGIN:VEVENT
DTSTART;TZID=America/New_York:20250203T080000
DTEND;TZID=America/New_York:20250214T150000
DTSTAMP:20260421T085138
CREATED:20250106T135631Z
LAST-MODIFIED:20250106T135631Z
UID:10000792-1738569600-1739545200@manchesterproud.org
SUMMARY:Dental Van at McDonough School
DESCRIPTION:If your child does not have a dentist OR private dental insurance (we accept Medicaid) and you would like them to be seen for dental care on the dental van at your school\, please ask for a permission form from the main office. You can also visit our website for permission forms and a full schedule of school visits. \n**We will be providing treatment at ALL public schools in Manchester throughout the school year. We ask that you plan on your child receiving care at their school. In the case of a dental emergency please call 603-624-6466 to make other arrangements. \nhttps://www.manchesternh.gov/Departments/Health/Services/Dental-Health
URL:https://manchesterproud.org/the-event/dental-van-at-mcdonough-school/
LOCATION:McDonough Elementary School\, 550 Lowell St\, Manchester\, 03104\, United States
CATEGORIES:Health and Wellness
ATTACH;FMTTYPE=image/jpeg:https://manchesterproud.org/wp-content/uploads/2024/03/blog-Default-ImageV2.jpg
END:VEVENT
END:VCALENDAR