BEGIN:VCALENDAR
VERSION:2.0
PRODID:-//Manchester Proud - ECPv6.15.17.1//NONSGML v1.0//EN
CALSCALE:GREGORIAN
METHOD:PUBLISH
X-ORIGINAL-URL:https://manchesterproud.org
X-WR-CALDESC:Events for Manchester Proud
REFRESH-INTERVAL;VALUE=DURATION:PT1H
X-Robots-Tag:noindex
X-PUBLISHED-TTL:PT1H
BEGIN:VTIMEZONE
TZID:America/New_York
BEGIN:DAYLIGHT
TZOFFSETFROM:-0500
TZOFFSETTO:-0400
TZNAME:EDT
DTSTART:20240310T070000
END:DAYLIGHT
BEGIN:STANDARD
TZOFFSETFROM:-0400
TZOFFSETTO:-0500
TZNAME:EST
DTSTART:20241103T060000
END:STANDARD
BEGIN:DAYLIGHT
TZOFFSETFROM:-0500
TZOFFSETTO:-0400
TZNAME:EDT
DTSTART:20250309T070000
END:DAYLIGHT
BEGIN:STANDARD
TZOFFSETFROM:-0400
TZOFFSETTO:-0500
TZNAME:EST
DTSTART:20251102T060000
END:STANDARD
BEGIN:DAYLIGHT
TZOFFSETFROM:-0500
TZOFFSETTO:-0400
TZNAME:EDT
DTSTART:20260308T070000
END:DAYLIGHT
BEGIN:STANDARD
TZOFFSETFROM:-0400
TZOFFSETTO:-0500
TZNAME:EST
DTSTART:20261101T060000
END:STANDARD
BEGIN:DAYLIGHT
TZOFFSETFROM:-0500
TZOFFSETTO:-0400
TZNAME:EDT
DTSTART:20270314T070000
END:DAYLIGHT
BEGIN:STANDARD
TZOFFSETFROM:-0400
TZOFFSETTO:-0500
TZNAME:EST
DTSTART:20271107T060000
END:STANDARD
END:VTIMEZONE
BEGIN:VEVENT
DTSTART;TZID=America/New_York:20260120T080000
DTEND;TZID=America/New_York:20260128T150000
DTSTAMP:20260421T083556
CREATED:20250825T235328Z
LAST-MODIFIED:20250825T235328Z
UID:10001699-1768896000-1769612400@manchesterproud.org
SUMMARY:DENTAL VAN AT SOUTHSIDE MIDDLE SCHOOL
DESCRIPTION:If your child does not have a dentist OR private dental insurance (we accept Medicaid) and you would like them to be seen for dental care on the dental van at your school\, please ask for a permission form from the main office. You can also visit our website for permission forms and a full schedule of school visits. \n***We will be providing treatment at ALL public schools in Manchester throughout the school year. We ask that you plan on your child receiving care at their school. In the case of an emergency please call 603-624-6466 to make other arrangements. \nhttps://www.manchesternh.gov/Departments/Health/Services/Dental-Health
URL:https://manchesterproud.org/the-event/dental-van-at-southside-middle-school/
LOCATION:Southside Middle School\, 300 S Jewett St\, Manchester\, 03103\, United States
CATEGORIES:Health and Wellness
ATTACH;FMTTYPE=image/jpeg:https://manchesterproud.org/wp-content/uploads/2024/03/blog-Default-ImageV2.jpg
END:VEVENT
BEGIN:VEVENT
DTSTART;TZID=America/New_York:20250303T080000
DTEND;TZID=America/New_York:20250314T150000
DTSTAMP:20260421T083556
CREATED:20250106T135152Z
LAST-MODIFIED:20250106T135152Z
UID:10000794-1740988800-1741964400@manchesterproud.org
SUMMARY:Dental Van at Southside MS
DESCRIPTION:If your child does not have a dentist OR private dental insurance (we accept Medicaid) and you would like them to be seen for dental care on the dental van at your school\, please ask for a permission form from the main office. You can also visit our website for permission forms and a full schedule of school visits. \n**We will be providing treatment at ALL public schools in Manchester throughout the school year. We ask that you plan on your child receiving care at their school. In the case of a dental emergency please call 603-624-6466 to make other arrangements.
URL:https://manchesterproud.org/the-event/dental-van-at-southside-ms/
LOCATION:Southside Middle School\, 300 S Jewett St\, Manchester\, 03103\, United States
CATEGORIES:Health and Wellness
ATTACH;FMTTYPE=image/jpeg:https://manchesterproud.org/wp-content/uploads/2024/03/blog-Default-ImageV2.jpg
END:VEVENT
END:VCALENDAR