BEGIN:VCALENDAR
VERSION:2.0
PRODID:-//Manchester Proud - ECPv6.15.17.1//NONSGML v1.0//EN
CALSCALE:GREGORIAN
METHOD:PUBLISH
X-WR-CALNAME:Manchester Proud
X-ORIGINAL-URL:https://manchesterproud.org
X-WR-CALDESC:Events for Manchester Proud
REFRESH-INTERVAL;VALUE=DURATION:PT1H
X-Robots-Tag:noindex
X-PUBLISHED-TTL:PT1H
BEGIN:VTIMEZONE
TZID:America/New_York
BEGIN:DAYLIGHT
TZOFFSETFROM:-0500
TZOFFSETTO:-0400
TZNAME:EDT
DTSTART:20240310T070000
END:DAYLIGHT
BEGIN:STANDARD
TZOFFSETFROM:-0400
TZOFFSETTO:-0500
TZNAME:EST
DTSTART:20241103T060000
END:STANDARD
BEGIN:DAYLIGHT
TZOFFSETFROM:-0500
TZOFFSETTO:-0400
TZNAME:EDT
DTSTART:20250309T070000
END:DAYLIGHT
BEGIN:STANDARD
TZOFFSETFROM:-0400
TZOFFSETTO:-0500
TZNAME:EST
DTSTART:20251102T060000
END:STANDARD
BEGIN:DAYLIGHT
TZOFFSETFROM:-0500
TZOFFSETTO:-0400
TZNAME:EDT
DTSTART:20260308T070000
END:DAYLIGHT
BEGIN:STANDARD
TZOFFSETFROM:-0400
TZOFFSETTO:-0500
TZNAME:EST
DTSTART:20261101T060000
END:STANDARD
END:VTIMEZONE
BEGIN:VEVENT
DTSTART;TZID=America/New_York:20250115T193000
DTEND;TZID=America/New_York:20250115T213000
DTSTAMP:20260424T005539
CREATED:20250106T133428Z
LAST-MODIFIED:20250106T133428Z
UID:10000802-1736969400-1736976600@manchesterproud.org
SUMMARY:Stick it to Stigma Charity Game
DESCRIPTION:The Goffstown Grizzlies and the Manchester Kings hockey programs are partnering together to skate past the stigma and scoring support for Mental Health. The two programs will play a game on January 15th at 7:30 PM at Sullivan Arena (at St. Anselm College). All donations and gate fees from the game will benefit NAMI – The National Alliance on Mental Illness. NAMI will be in attendance and will provide opportunities to learn about the resources they offer as well as to provide education on the topic.\n\n\n\nPlease support our Do-It-Your-Way fundraiser by attending the game or with a donation. That way\, people who face mental health conditions will not have to go another day without the mental health resources they need. The more money we can raise together\, the better able our local NAMI is to continue offering their amazing\, life-changing mental health programs.
URL:https://manchesterproud.org/the-event/stick-it-to-stigma-charity-game/
LOCATION:Sullivan Arena\, Rundlett Hill Rd\, Manchester\, 03102\, United States
CATEGORIES:Health and Wellness
ATTACH;FMTTYPE=image/jpeg:https://manchesterproud.org/wp-content/uploads/2024/03/blog-Default-ImageV2.jpg
END:VEVENT
END:VCALENDAR