BEGIN:VCALENDAR
VERSION:2.0
PRODID:-//Manchester Proud - ECPv6.15.17.1//NONSGML v1.0//EN
CALSCALE:GREGORIAN
METHOD:PUBLISH
X-ORIGINAL-URL:https://manchesterproud.org
X-WR-CALDESC:Events for Manchester Proud
REFRESH-INTERVAL;VALUE=DURATION:PT1H
X-Robots-Tag:noindex
X-PUBLISHED-TTL:PT1H
BEGIN:VTIMEZONE
TZID:America/New_York
BEGIN:DAYLIGHT
TZOFFSETFROM:-0500
TZOFFSETTO:-0400
TZNAME:EDT
DTSTART:20230312T070000
END:DAYLIGHT
BEGIN:STANDARD
TZOFFSETFROM:-0400
TZOFFSETTO:-0500
TZNAME:EST
DTSTART:20231105T060000
END:STANDARD
BEGIN:DAYLIGHT
TZOFFSETFROM:-0500
TZOFFSETTO:-0400
TZNAME:EDT
DTSTART:20240310T070000
END:DAYLIGHT
BEGIN:STANDARD
TZOFFSETFROM:-0400
TZOFFSETTO:-0500
TZNAME:EST
DTSTART:20241103T060000
END:STANDARD
BEGIN:DAYLIGHT
TZOFFSETFROM:-0500
TZOFFSETTO:-0400
TZNAME:EDT
DTSTART:20250309T070000
END:DAYLIGHT
BEGIN:STANDARD
TZOFFSETFROM:-0400
TZOFFSETTO:-0500
TZNAME:EST
DTSTART:20251102T060000
END:STANDARD
END:VTIMEZONE
BEGIN:VEVENT
DTSTART;TZID=America/New_York:20241001T100000
DTEND;TZID=America/New_York:20241001T110000
DTSTAMP:20260420T132056
CREATED:20240815T142028Z
LAST-MODIFIED:20240815T142028Z
UID:10000704-1727776800-1727780400@manchesterproud.org
SUMMARY:Cooking Matters
DESCRIPTION:Want to learn more about meal planning and to cook healthy meals for your family? Join the NH Food Bank in partnership with Amoskeag Health and Fresh Start Farms to learn some new recipes and sharpen your cooking skills. \nEach participant that attends each class will receive ingredients to make that recipe and gift card for Fresh Start Farms. \nLearn more & sign up here – Password is Amoskeag \nQuestions? Contact cookingmatters@nhfoodbank.org \n\nSeptember 17: Set a Positive Example \nSeptember 24: Making Recipes work for You \nOctober 1: Power of Planning \nOctober 8: Creating Positive Mealtime Attitudes \nOctober 15: Shopping on a Budget \nOctober 22: The Family Kitchen
URL:https://manchesterproud.org/the-event/cooking-matters/2024-10-01/
LOCATION:Virtual
CATEGORIES:Basic Needs
ATTACH;FMTTYPE=image/jpeg:https://manchesterproud.org/wp-content/uploads/2024/03/blog-Default-ImageV2.jpg
ORGANIZER;CN="Amoskeag Health":MAILTO:communityinitatives@amoskeaghealth.org
END:VEVENT
BEGIN:VEVENT
DTSTART;TZID=America/New_York:20240924T100000
DTEND;TZID=America/New_York:20240924T110000
DTSTAMP:20260420T132056
CREATED:20240815T142028Z
LAST-MODIFIED:20240815T142028Z
UID:10000703-1727172000-1727175600@manchesterproud.org
SUMMARY:Cooking Matters
DESCRIPTION:Want to learn more about meal planning and to cook healthy meals for your family? Join the NH Food Bank in partnership with Amoskeag Health and Fresh Start Farms to learn some new recipes and sharpen your cooking skills. \nEach participant that attends each class will receive ingredients to make that recipe and gift card for Fresh Start Farms. \nLearn more & sign up here – Password is Amoskeag \nQuestions? Contact cookingmatters@nhfoodbank.org \n\nSeptember 17: Set a Positive Example \nSeptember 24: Making Recipes work for You \nOctober 1: Power of Planning \nOctober 8: Creating Positive Mealtime Attitudes \nOctober 15: Shopping on a Budget \nOctober 22: The Family Kitchen
URL:https://manchesterproud.org/the-event/cooking-matters/2024-09-24/
LOCATION:Virtual
CATEGORIES:Basic Needs
ATTACH;FMTTYPE=image/jpeg:https://manchesterproud.org/wp-content/uploads/2024/03/blog-Default-ImageV2.jpg
ORGANIZER;CN="Amoskeag Health":MAILTO:communityinitatives@amoskeaghealth.org
END:VEVENT
BEGIN:VEVENT
DTSTART;TZID=America/New_York:20240917T100000
DTEND;TZID=America/New_York:20240917T110000
DTSTAMP:20260420T132056
CREATED:20240815T142028Z
LAST-MODIFIED:20240815T142028Z
UID:10000702-1726567200-1726570800@manchesterproud.org
SUMMARY:Cooking Matters
DESCRIPTION:Want to learn more about meal planning and to cook healthy meals for your family? Join the NH Food Bank in partnership with Amoskeag Health and Fresh Start Farms to learn some new recipes and sharpen your cooking skills. \nEach participant that attends each class will receive ingredients to make that recipe and gift card for Fresh Start Farms. \nLearn more & sign up here – Password is Amoskeag \nQuestions? Contact cookingmatters@nhfoodbank.org \n\nSeptember 17: Set a Positive Example \nSeptember 24: Making Recipes work for You \nOctober 1: Power of Planning \nOctober 8: Creating Positive Mealtime Attitudes \nOctober 15: Shopping on a Budget \nOctober 22: The Family Kitchen
URL:https://manchesterproud.org/the-event/cooking-matters/2024-09-17/
LOCATION:Virtual
CATEGORIES:Basic Needs
ATTACH;FMTTYPE=image/jpeg:https://manchesterproud.org/wp-content/uploads/2024/03/blog-Default-ImageV2.jpg
ORGANIZER;CN="Amoskeag Health":MAILTO:communityinitatives@amoskeaghealth.org
END:VEVENT
END:VCALENDAR